{"text_format":"1","workbook":"xlsx","n_sheets":6,"sheets":["Instructions","Input & Report","Weibull Reliability Calculator","Probability Density Plot","Weibull Plot","Failure Forecast"],"not_rendered":{"charts":9,"images":11,"macros":1,"external_links":0,"defined_names":8,"comments":1,"pivot_tables":0},"unopened":[{"sheet":"Probability Density Plot","index":3,"reason":"not_a_worksheet"},{"sheet":"Weibull Plot","index":4,"reason":"not_a_worksheet"},{"sheet":"Failure Forecast","index":5,"reason":"not_a_worksheet"}],"bounds":{"document_bytes":16777216,"sheet_cells":100000,"rows_first":2000,"rows_last":500,"rows_between":2000,"halvings":0,"cell_chars":16384,"cell_head_chars":4096},"cells_cut":0,"cells_raw":0,"read":"whole","date_system":"1900"}

{"sheet":"Instructions","index":0,"n_rows":0,"n_cols":0,"rows_kept":0,"cut":false,"hidden":false,"merged":[]}

{"sheet":"Input & Report","index":1,"n_rows":112,"n_cols":17,"rows_kept":112,"cut":false,"hidden":false,"merged":[[20,15,20,18],[4,10,6,13],[110,4,112,8],[110,9,112,13],[107,4,109,8],[107,9,109,13],[8,15,8,18],[22,16,22,18],[23,16,23,18],[24,16,24,18],[26,15,26,18],[27,15,28,18],[29,15,30,18],[106,9,106,13],[19,4,20,9],[22,4,23,9],[19,12,20,12],[19,13,20,13],[10,10,11,11],[19,11,20,11],[2,5,2,6],[2,7,2,8],[10,4,11,9],[13,4,14,9],[16,4,17,9],[2,11,2,12],[13,10,14,11],[2,9,2,10],[22,10,23,11],[19,10,20,10],[28,11,29,11],[106,4,106,8],[8,10,8,11],[25,10,26,11],[28,10,29,10],[25,4,26,9],[28,4,29,9],[105,4,105,13],[22,12,23,13],[25,12,26,13],[28,12,29,12],[28,13,29,13],[8,12,8,13],[10,12,11,13],[14,15,14,18],[15,15,16,18],[17,15,18,18],[16,10,17,11],[10,16,10,18],[11,16,11,18],[12,16,12,18],[13,12,14,13],[16,12,17,13]]}
["Data Point","Cycles to Failure (Before)","Cycles to Failure (After)"]
[]
[null,null,null,null,null,"Clear Data",null,"Resize Table",null,"Sort Data",null,"Print Report"]
[]
[null,null,null,null,null,null,null,null,null,null,"Weibull Analysis"]
[]
[]
[]
[null,null,null,null,null,null,null,null,null,null,"Before",null,"After",null,null,"Before"]
[]
[null,null,null,null,"The maximum number of data points to be entered for analysis (overestimate if uncertain):",null,null,null,null,null,200,null,200,null,null,"Reliability",{"$f":"IF(K29>K20,\"Pass\",IF(K29<K20,\"Fail\",\"\"))","v":{"$error":"#VALUE!"}}]
[null,null,null,null,null,null,null,null,null,null,null,null,null,null,null,"Beta",{"$f":"IF(K23>1.2,\"greater than\",IF(K23<0.8,\"less than\",\"nearly equal to\"))","v":{"$error":"#VALUE!"}}]
[null,null,null,null,null,null,null,null,null,null,null,null,null,null,null,"Failure",{"$f":"IF(K23>1.2,\"normal wear out failure rate\",IF(K23<0.8,\"infant life failure rate\",\"a constant failure rate\"))","v":{"$error":"#VALUE!"}}]
[null,null,null,null,"Number of data points analyzed:",null,null,null,null,null,{"$f":"COUNT('Input & Report'!$B$2:$B$201)","v":0},{"$f":"COUNT('Input & Report'!$B$2:$B$201)","v":0},{"$f":"COUNT('Input & Report'!$C$2:$C$201)","v":0},{"$f":"COUNT('Input & Report'!$B$2:$B$201)","v":0}]
[null,null,null,null,null,null,null,null,null,null,{"$f":"COUNT('Input & Report'!$B$2:$B$201)","v":0},{"$f":"COUNT('Input & Report'!$B$2:$B$201)","v":0},{"$f":"COUNT('Input & Report'!$B$2:$B$201)","v":0},{"$f":"COUNT('Input & Report'!$B$2:$B$201)","v":0},null,"Possible Product Reliability Outcomes"]
[null,null,null,null,null,null,null,null,null,null,null,null,null,null,null,{"$f":"CONCATENATE(\"The product will meet or exceed the desired reliability of \",K20,\" percent at \",K17,\" cycles.\")","v":"The product will meet or exceed the desired reliability of 90 percent at 400000 cycles."}]
[null,null,null,null,"Enter the minimum number of cycles you desire the product to achieve: ",null,null,null,null,null,400000,null,40000]
[null,null,null,null,null,null,null,null,null,null,null,null,null,null,null,{"$f":"CONCATENATE(\"The product will not meet the desired reliability of \",K20,\" percent at \",K17,\" cycles.\")","v":"The product will not meet the desired reliability of 90 percent at 400000 cycles."}]
[]
[null,null,null,null,"Enter the percentage of product you wish to survive the desired number of cycles: ",null,null,null,null,null,90,"%",90,"%"]
[null,null,null,null,null,null,null,null,null,null,null,null,null,null,null,"After"]
[]
[null,null,null,null,"Shape Parameter, Beta: Infant life failures (< 1), wearing out (> 1), or constant failure rate (= 1)",null,null,null,null,null,{"$f":"'Weibull Reliability Calculator'!$H$9","v":{"$error":"#VALUE!"}},null,{"$f":"'Weibull Reliability Calculator'!$M$9","v":{"$error":"#VALUE!"}},null,null,"Reliability",{"$f":"IF(M29>M20,\"Pass\",IF(M29<M20,\"Fail\",\"\"))","v":{"$error":"#VALUE!"}}]
[null,null,null,null,null,null,null,null,null,null,null,null,null,null,null,"Beta",{"$f":"IF(M23>1.2,\"greater than\",IF(M23<0.8,\"less than\",\"nearly equal to\"))","v":{"$error":"#VALUE!"}}]
[null,null,null,null,null,null,null,null,null,null,null,null,null,null,null,"Failure",{"$f":"IF(M23>1.2,\"normal wear out failure rate\",IF(M23<0.8,\"infant life failure rate\",\"a constant failure rate\"))","v":{"$error":"#VALUE!"}}]
[null,null,null,null,"Characteristic Life, Alpha: The number of cycles at which 63.2% of the product will fail",null,null,null,null,null,{"$f":"'Weibull Reliability Calculator'!$H$10","v":{"$error":"#VALUE!"}},null,{"$f":"'Weibull Reliability Calculator'!$M$10","v":{"$error":"#VALUE!"}}]
[null,null,null,null,null,null,null,null,null,null,null,null,null,null,null,"Possible Product Reliability Outcomes"]
[null,null,null,null,null,null,null,null,null,null,null,null,null,null,null,{"$f":"CONCATENATE(\"The product will meet or exceed the desired reliability of \",M20,\" percent at \",M17,\" cycles.  \")","v":"The product will meet or exceed the desired reliability of 90 percent at 40000 cycles.  "}]
[null,null,null,null,{"$f":"CONCATENATE(\"Reliability at desired number of cycles\")","v":"Reliability at desired number of cycles"},null,null,null,null,null,{"$f":"(2.718^(-((K17/K26)^K23)))*100","v":{"$error":"#VALUE!"}},"%",{"$f":"(2.718^(-((M17/M26)^M23)))*100","v":{"$error":"#VALUE!"}},"%"]
[null,null,null,null,null,null,null,null,null,null,null,null,null,null,null,{"$f":"CONCATENATE(\"The product will not meet the desired reliability of \",M20,\" percent at \",M17,\" cycles.  \")","v":"The product will not meet the desired reliability of 90 percent at 40000 cycles.  "}]
[]
[]
[]
[]
[]
[]
[]
[]
[]
[]
[]
[]
[]
[]
[]
[]
[]
[]
[]
[]
[]
[]
[]
[]
[]
[]
[]
[]
[]
[]
[]
[]
[]
[]
[]
[]
[]
[]
[]
[]
[]
[]
[]
[]
[]
[]
[]
[]
[]
[]
[]
[]
[]
[]
[]
[]
[]
[]
[]
[]
[]
[]
[]
[]
[]
[]
[]
[]
[]
[]
[]
[]
[]
[]
[]
[null,null,null,null,"Conclusions"]
[null,null,null,null,"Before",null,null,null,null,"After"]
[null,null,null,null,{"$f":"IF($Q$11=\"Fail\",$P$18,IF($Q$11=\"Pass\",$P$16,\"\"))","v":{"$error":"#VALUE!"}},null,null,null,null,{"$f":"IF($Q$23=\"Fail\",$P$30,IF($Q$23=\"Pass\",$P$28,\"\"))","v":{"$error":"#VALUE!"}},{"$f":"IF($P$11=\"Fail\",#REF!,IF($P$11=\"Pass\",#REF!,\"\"))","v":""},{"$f":"IF($P$11=\"Fail\",#REF!,IF($P$11=\"Pass\",#REF!,\"\"))","v":""},{"$f":"IF($P$11=\"Fail\",#REF!,IF($P$11=\"Pass\",#REF!,\"\"))","v":""},{"$f":"IF($P$11=\"Fail\",#REF!,IF($P$11=\"Pass\",#REF!,\"\"))","v":""}]
[null,null,null,null,null,null,null,null,null,{"$f":"IF($P$11=\"Fail\",#REF!,IF($P$11=\"Pass\",#REF!,\"\"))","v":""},{"$f":"IF($P$11=\"Fail\",#REF!,IF($P$11=\"Pass\",#REF!,\"\"))","v":""},{"$f":"IF($P$11=\"Fail\",#REF!,IF($P$11=\"Pass\",#REF!,\"\"))","v":""},{"$f":"IF($P$11=\"Fail\",#REF!,IF($P$11=\"Pass\",#REF!,\"\"))","v":""},{"$f":"IF($P$11=\"Fail\",#REF!,IF($P$11=\"Pass\",#REF!,\"\"))","v":""}]
[]
[null,null,null,null,{"$f":"CONCATENATE(\"The Shape Parameter, Beta, is \",$Q$12,\" 1 indicating that the product is experiencing \",$Q$13,\".\")","v":{"$error":"#VALUE!"}},null,null,null,null,{"$f":"CONCATENATE(\"The Shape Parameter, Beta, is \",$Q$24,\" 1 indicating that the product is experiencing \",$Q$25,\".\")","v":{"$error":"#VALUE!"}},{"$f":"CONCATENATE(\"The Shape Parameter, Beta, is \",$P$12,\" 1 indicating that the product is experiencing \",$P$13)","v":"The Shape Parameter, Beta, is Beta 1 indicating that the product is experiencing Failure"},"The Shape Parameter, Beta, is Beta 1 indicating that the product is experiencing Failure","The Shape Parameter, Beta, is Beta 1 indicating that the product is experiencing Failure","The Shape Parameter, Beta, is Beta 1 indicating that the product is experiencing Failure"]
[null,null,null,null,null,null,null,null,null,{"$f":"CONCATENATE(\"The Shape Parameter, Beta, is \",$P$12,\" 1 indicating that the product is experiencing \",$P$13)","v":"The Shape Parameter, Beta, is Beta 1 indicating that the product is experiencing Failure"},"The Shape Parameter, Beta, is Beta 1 indicating that the product is experiencing Failure","The Shape Parameter, Beta, is Beta 1 indicating that the product is experiencing Failure","The Shape Parameter, Beta, is Beta 1 indicating that the product is experiencing Failure","The Shape Parameter, Beta, is Beta 1 indicating that the product is experiencing Failure"]

{"sheet":"Weibull Reliability Calculator","index":2,"n_rows":222,"n_cols":22,"rows_kept":222,"cut":false,"hidden":false,"merged":[[9,4,9,6],[20,0,20,1],[20,6,20,7],[20,15,20,16],[20,9,20,10],[20,11,20,14],[15,6,15,7],[16,18,16,19],[8,18,8,21],[0,18,0,21],[20,2,20,5],[11,6,11,7],[11,9,11,10],[11,4,11,5],[2,14,2,16],[15,9,15,10],[11,11,11,12],[2,0,2,2],[0,0,0,7],[0,9,0,16],[8,9,8,11],[9,9,9,11],[8,4,8,6]]}
["BEFORE DATA",null,null,null,null,null,null,null,null,"AFTER DATA",null,null,null,null,null,null,null,null,"BEFORE"]
[null,null,null,null,null,null,null,null,null,null,null,null,null,null,null,null,null,null,null,{"$f":"\"Column \"&SUBSTITUTE(ADDRESS(1,COLUMN(WeibullPlotData_BEFORE[[#Headers],[Cycles to failure]]),4),1,\"\")","v":"Column B"},{"$f":"\"Column \"&SUBSTITUTE(ADDRESS(1,COLUMN(WeibullPlotData_BEFORE[[#Headers],[ln(ln(1/(1-median rank)))]]),4),1,\"\")","v":"Column E"},{"$f":"\"Column \"&SUBSTITUTE(ADDRESS(1,COLUMN(WeibullPlotData_BEFORE[[#Headers],[ln(cycles)]]),4),1,\"\")","v":"Column F"}]
["Failure Forecast Data",null,null,null,null,null,null,null,null,null,null,null,null,null,"Failure Forecast Data",null,null,null,"Starting cell",{"$f":"\"$\"&RIGHT(T$2,1)&\"$\"&ROW(B$23)","v":"$B$23"},{"$f":"\"$\"&RIGHT(U$2,1)&\"$\"&ROW(E$23)","v":"$E$23"},{"$f":"\"$\"&RIGHT(V$2,1)&\"$\"&ROW(F$23)","v":"$F$23"}]
["Cycles","Failure Probability","Reliability",null,null,null,null,null,null,null,null,null,null,null,"Cycles","Failure Probability","Reliability",null,"Ending Cell",{"$f":"CONCATENATE(\"$\"&RIGHT(T$2,1)&\"$\",ROW($B$23)+$T$7-1)","v":"$B$22"},{"$f":"CONCATENATE(\"$\"&RIGHT(U$2,1)&\"$\",ROW($E$23)+$T$7-1)","v":"$E$22"},{"$f":"CONCATENATE(\"$\"&RIGHT(V$2,1)&\"$\",ROW($F$23)+$T$7-1)","v":"$F$22"}]
[{"$f":"H10/7","v":{"$error":"#VALUE!"}},{"$f":"IF(A5<>0,WEIBULL(A5,$H$9,$H$10,TRUE),\"\")","v":{"$error":"#VALUE!"}},{"$f":"IF(A5<>0,1-B5,\"\")","v":{"$error":"#VALUE!"}},null,null,null,null,null,null,null,null,null,null,null,{"$f":"M10/7","v":{"$error":"#VALUE!"}},{"$f":"IF(O5<>0,WEIBULL(O5,$M$9,$M$10,TRUE),\"\")","v":{"$error":"#VALUE!"}},{"$f":"IF(O5<>0,1-P5,\"\")","v":{"$error":"#VALUE!"}},null,"Range",{"$f":"CONCATENATE(T3,\":\",T4)","v":"$B$23:$B$22"},{"$f":"CONCATENATE(U3,\":\",U4)","v":"$E$23:$E$22"},{"$f":"CONCATENATE(V3,\":\",V4)","v":"$F$23:$F$22"}]
[{"$f":"2*(H10)/7","v":{"$error":"#VALUE!"}},{"$error":"#VALUE!"},{"$error":"#VALUE!"},null,null,null,null,null,null,null,null,null,null,null,{"$f":"2*(M10)/7","v":{"$error":"#VALUE!"}},{"$error":"#VALUE!"},{"$error":"#VALUE!"}]
[{"$f":"3*H10/7","v":{"$error":"#VALUE!"}},{"$error":"#VALUE!"},{"$error":"#VALUE!"},null,null,null,null,null,null,null,null,null,null,null,{"$f":"3*M10/7","v":{"$error":"#VALUE!"}},{"$error":"#VALUE!"},{"$error":"#VALUE!"},null,"# Samples: ",{"$f":"COUNT(WeibullPlotData_BEFORE[Cycles to failure])","v":0}]
[{"$f":"4*H10/7","v":{"$error":"#VALUE!"}},{"$error":"#VALUE!"},{"$error":"#VALUE!"},null,null,null,null,null,null,null,null,null,null,null,{"$f":"4*M10/7","v":{"$error":"#VALUE!"}},{"$error":"#VALUE!"},{"$error":"#VALUE!"}]
[{"$f":"5*H10/7","v":{"$error":"#VALUE!"}},{"$error":"#VALUE!"},{"$error":"#VALUE!"},null,"Beta (Shape Parameter)",null,null,{"$f":"SLOPE(INDIRECT('Weibull Reliability Calculator'!U5),INDIRECT('Weibull Reliability Calculator'!V5))","v":{"$error":"#VALUE!"}},null,"Beta (Shape Parameter)",null,null,{"$f":"SLOPE(INDIRECT('Weibull Reliability Calculator'!U13),INDIRECT('Weibull Reliability Calculator'!V13))","v":{"$error":"#VALUE!"}},null,{"$f":"5*M10/7","v":{"$error":"#VALUE!"}},{"$error":"#VALUE!"},{"$error":"#VALUE!"},null,"AFTER"]
[{"$f":"6*H10/7","v":{"$error":"#VALUE!"}},{"$error":"#VALUE!"},{"$error":"#VALUE!"},null,"Alpha (Characteristic Life)",null,null,{"$f":"EXP(-(INTERCEPT(INDIRECT('Weibull Reliability Calculator'!U5),INDIRECT('Weibull Reliability Calculator'!V5)))/H9)","v":{"$error":"#VALUE!"}},null,"Alpha (Characteristic Life)",null,null,{"$f":"EXP(-(INTERCEPT(INDIRECT('Weibull Reliability Calculator'!U13),INDIRECT('Weibull Reliability Calculator'!V13)))/M9)","v":{"$error":"#VALUE!"}},null,{"$f":"6*M10/7","v":{"$error":"#VALUE!"}},{"$error":"#VALUE!"},{"$error":"#VALUE!"},null,null,{"$f":"\"Column \"&SUBSTITUTE(ADDRESS(1,COLUMN(WeibullPlotData_AFTER[[#Headers],[Cycles to failure]]),4),1,\"\")","v":"Column K"},{"$f":"\"Column \"&SUBSTITUTE(ADDRESS(1,COLUMN(WeibullPlotData_AFTER[[#Headers],[ln(ln(1/(1-median rank)))]]),4),1,\"\")","v":"Column N"},{"$f":"\"Column \"&SUBSTITUTE(ADDRESS(1,COLUMN(WeibullPlotData_AFTER[[#Headers],[ln(cycles)]]),4),1,\"\")","v":"Column O"}]
[{"$f":"7*H10/7","v":{"$error":"#VALUE!"}},{"$error":"#VALUE!"},{"$error":"#VALUE!"},null,null,null,null,null,null,null,null,null,null,null,{"$f":"7*M10/7","v":{"$error":"#VALUE!"}},{"$error":"#VALUE!"},{"$error":"#VALUE!"},null,"Starting cell",{"$f":"\"$\"&RIGHT(T$10,1)&\"$\"&ROW(K$23)","v":"$K$23"},{"$f":"\"$\"&RIGHT(U$10,1)&\"$\"&ROW(N$23)","v":"$N$23"},{"$f":"\"$\"&RIGHT(V$10,1)&\"$\"&ROW(O$23)","v":"$O$23"}]
[{"$f":"8*H10/7","v":{"$error":"#VALUE!"}},{"$error":"#VALUE!"},{"$error":"#VALUE!"},null,"Reliability Table",null,"Probability Density",null,null,"Probability Density",null,"Reliability Table",null,null,{"$f":"8*M10/7","v":{"$error":"#VALUE!"}},{"$error":"#VALUE!"},{"$error":"#VALUE!"},null,"Ending Cell",{"$f":"CONCATENATE(\"$\"&RIGHT(T$10,1)&\"$\",ROW($K$23)+$T$15-1)","v":"$K$22"},{"$f":"CONCATENATE(\"$\"&RIGHT(U$10,1)&\"$\",ROW($N$23)+$T$15-1)","v":"$N$22"},{"$f":"CONCATENATE(\"$\"&RIGHT(V$10,1)&\"$\",ROW($O$23)+$T$15-1)","v":"$O$22"}]
[{"$f":"9*H10/7","v":{"$error":"#VALUE!"}},{"$error":"#VALUE!"},{"$error":"#VALUE!"},null,"Reliability","Cycles","Mean","Std Deviation",null,"Mean","Std Deviation","Reliability","Cycles",null,{"$f":"9*M10/7","v":{"$error":"#VALUE!"}},{"$error":"#VALUE!"},{"$error":"#VALUE!"},null,"Range",{"$f":"CONCATENATE(T11,\":\",T12)","v":"$K$23:$K$22"},{"$f":"CONCATENATE(U11,\":\",U12)","v":"$N$23:$N$22"},{"$f":"CONCATENATE(V11,\":\",V12)","v":"$O$23:$O$22"}]
[{"$f":"10*H$10/7","v":{"$error":"#VALUE!"}},{"$error":"#VALUE!"},{"$error":"#VALUE!"},null,0.01,{"$f":"'Weibull Reliability Calculator'!$H$10*(-LN(E14))^(1/'Weibull Reliability Calculator'!$H$9)","v":{"$error":"#VALUE!"}},{"$f":"AVERAGE(WeibullPlotData_BEFORE[Cycles to failure])","v":{"$error":"#DIV/0!"}},{"$f":"_xlfn.STDEV.P(WeibullPlotData_BEFORE[Cycles to failure])","v":{"$error":"#DIV/0!"}},null,{"$f":"AVERAGE(WeibullPlotData_AFTER[Cycles to failure])","v":{"$error":"#DIV/0!"}},{"$f":"_xlfn.STDEV.P(WeibullPlotData_AFTER[Cycles to failure])","v":{"$error":"#DIV/0!"}},0.01,{"$f":"'Weibull Reliability Calculator'!$M$10*(-LN(L14))^(1/'Weibull Reliability Calculator'!$M$9)","v":{"$error":"#VALUE!"}},null,{"$f":"10*M$10/7","v":{"$error":"#VALUE!"}},{"$error":"#VALUE!"},{"$error":"#VALUE!"}]
[{"$f":"11*H$10/7","v":{"$error":"#VALUE!"}},{"$error":"#VALUE!"},{"$error":"#VALUE!"},null,0.1,{"$f":"'Weibull Reliability Calculator'!$H$10*(-LN(E15))^(1/'Weibull Reliability Calculator'!$H$9)","v":{"$error":"#VALUE!"}},null,null,null,null,null,0.1,{"$f":"'Weibull Reliability Calculator'!$M$10*(-LN(L15))^(1/'Weibull Reliability Calculator'!$M$9)","v":{"$error":"#VALUE!"}},null,{"$f":"11*M$10/7","v":{"$error":"#VALUE!"}},{"$error":"#VALUE!"},{"$error":"#VALUE!"},null,"# Samples: ",{"$f":"COUNT(WeibullPlotData_AFTER[Cycles to failure])","v":0}]
[{"$f":"12*H$10/7","v":{"$error":"#VALUE!"}},{"$error":"#VALUE!"},{"$error":"#VALUE!"},null,0.5,{"$f":"'Weibull Reliability Calculator'!$H$10*(-LN(E16))^(1/'Weibull Reliability Calculator'!$H$9)","v":{"$error":"#VALUE!"}},"Characteristic Life Line",null,null,"Characteristic Life Line",null,0.5,{"$f":"'Weibull Reliability Calculator'!$M$10*(-LN(L16))^(1/'Weibull Reliability Calculator'!$M$9)","v":{"$error":"#VALUE!"}},null,{"$f":"12*M$10/7","v":{"$error":"#VALUE!"}},{"$error":"#VALUE!"},{"$error":"#VALUE!"}]
[{"$f":"13*H$10/7","v":{"$error":"#VALUE!"}},{"$error":"#VALUE!"},{"$error":"#VALUE!"},null,0.6321,{"$f":"'Weibull Reliability Calculator'!$H$10*(-LN(E17))^(1/'Weibull Reliability Calculator'!$H$9)","v":{"$error":"#VALUE!"}},"X","Y",null,"X","Y",0.6321,{"$f":"'Weibull Reliability Calculator'!$M$10*(-LN(L17))^(1/'Weibull Reliability Calculator'!$M$9)","v":{"$error":"#VALUE!"}},null,{"$f":"13*M$10/7","v":{"$error":"#VALUE!"}},{"$error":"#VALUE!"},{"$error":"#VALUE!"},null,"63.21% Line"]
[{"$f":"14*H$10/7","v":{"$error":"#VALUE!"}},{"$error":"#VALUE!"},{"$error":"#VALUE!"},null,0.9,{"$f":"'Weibull Reliability Calculator'!$H$10*(-LN(E18))^(1/'Weibull Reliability Calculator'!$H$9)","v":{"$error":"#VALUE!"}},{"$f":"$H$10","v":{"$error":"#VALUE!"}},0,null,{"$f":"$M$10","v":{"$error":"#VALUE!"}},0,0.9,{"$f":"'Weibull Reliability Calculator'!$M$10*(-LN(L18))^(1/'Weibull Reliability Calculator'!$M$9)","v":{"$error":"#VALUE!"}},null,{"$f":"14*M$10/7","v":{"$error":"#VALUE!"}},{"$error":"#VALUE!"},{"$error":"#VALUE!"},null,"X","Y"]
[{"$f":"15*H$10/7","v":{"$error":"#VALUE!"}},{"$error":"#VALUE!"},{"$error":"#VALUE!"},null,0.99,{"$f":"'Weibull Reliability Calculator'!$H$10*(-LN(E19))^(1/'Weibull Reliability Calculator'!$H$9)","v":{"$error":"#VALUE!"}},{"$f":"$H$10","v":{"$error":"#VALUE!"}},1,null,{"$f":"$M$10","v":{"$error":"#VALUE!"}},1,0.99,{"$f":"'Weibull Reliability Calculator'!$M$10*(-LN(L19))^(1/'Weibull Reliability Calculator'!$M$9)","v":{"$error":"#VALUE!"}},null,{"$f":"15*M$10/7","v":{"$error":"#VALUE!"}},{"$error":"#VALUE!"},{"$error":"#VALUE!"},null,0,0.63212055882855767]
[null,null,null,null,null,null,null,null,null,null,null,null,null,null,null,null,null,null,1,0.63212055882855767]
["Raw Data",null,"Weibull Data",null,null,null,"Probability Density Data",null,null,"Raw Data",null,"Weibull Data",null,null,null,"Probability Density Data"]
["Data Point","Cycles to failure","Rank","Median Rank","ln(ln(1/(1-median rank)))","ln(cycles)","X","Probability",null,"Data Point","Cycles to failure","Rank","Median Rank","ln(ln(1/(1-median rank)))","ln(cycles)","X","Probability"]
[{"$f":"IF(WeibullPlotData_BEFORE[Cycles to failure]<>\"\",COUNT(B$23:B23),\"\")","v":""},{"$f":"IF('Input & Report'!$B2<>\"\",'Input & Report'!$B2,\"\")","v":""},{"$f":"IF(B23=\"\",\"\",RANK(B23,INDIRECT('Weibull Reliability Calculator'!$T$5),1))","v":""},{"$f":"IF(B23=\"\",\"\",((C23-0.3)/($T$7+0.4)))","v":""},{"$f":"LN(LN((1/(1-D23))))","v":{"$error":"#VALUE!"}},{"$f":"LN(B23)","v":{"$error":"#VALUE!"}},{"$f":"IF(B23=\"\",\"\",G$14-(3*H$14)+(6*H$14)*(COUNT(B$23:B23)/COUNT(WeibullPlotData_BEFORE[Cycles to failure])))","v":""},{"$f":"IF(B23=\"\",\"\",NORMDIST(G23,G$14,H$14,FALSE))","v":""},null,{"$f":"IF(WeibullPlotData_AFTER[Cycles to failure]<>\"\",COUNT(K$23:K23),\"\")","v":""},{"$f":"IF('Input & Report'!$C2<>\"\",'Input & Report'!$C2,\"\")","v":""},{"$f":"IF(K23=\"\",\"\",RANK(K23,INDIRECT('Weibull Reliability Calculator'!$T$13),1))","v":""},{"$f":"IF(K23=\"\",\"\",((L23-0.3)/($T$15+0.4)))","v":""},{"$f":"LN(LN((1/(1-M23))))","v":{"$error":"#VALUE!"}},{"$f":"LN(K23)","v":{"$error":"#VALUE!"}},{"$f":"J$14-(3*K$14)+(6*K$14)*(COUNT(K$23:K23)/COUNT(WeibullPlotData_AFTER[Cycles to failure]))","v":{"$error":"#DIV/0!"}},{"$f":"IF(K23=\"\",\"\",NORMDIST(P23,J$14,K$14,FALSE))","v":""}]
[{"$f":"IF(WeibullPlotData_BEFORE[Cycles to failure]<>\"\",COUNT(B$23:B24),\"\")","v":""},{"$f":"IF('Input & Report'!$B3<>\"\",'Input & Report'!$B3,\"\")","v":""},{"$f":"IF(B24=\"\",\"\",RANK(B24,INDIRECT('Weibull Reliability Calculator'!$T$5),1))","v":""},"",{"$f":"LN(LN((1/(1-D24))))","v":{"$error":"#VALUE!"}},{"$f":"LN(B24)","v":{"$error":"#VALUE!"}},{"$f":"IF(B24=\"\",\"\",G$14-(3*H$14)+(6*H$14)*(COUNT(B$23:B24)/COUNT(WeibullPlotData_BEFORE[Cycles to failure])))","v":""},{"$f":"IF(B24=\"\",\"\",NORMDIST(G24,G$14,H$14,FALSE))","v":""},null,{"$f":"IF(WeibullPlotData_AFTER[Cycles to failure]<>\"\",COUNT(K$23:K24),\"\")","v":""},{"$f":"IF('Input & Report'!$C3<>\"\",'Input & Report'!$C3,\"\")","v":""},{"$f":"IF(K24=\"\",\"\",RANK(K24,INDIRECT('Weibull Reliability Calculator'!$T$13),1))","v":""},"",{"$f":"LN(LN((1/(1-M24))))","v":{"$error":"#VALUE!"}},{"$f":"LN(K24)","v":{"$error":"#VALUE!"}},{"$f":"J$14-(3*K$14)+(6*K$14)*(COUNT(K$23:K24)/COUNT(WeibullPlotData_AFTER[Cycles to failure]))","v":{"$error":"#DIV/0!"}},""]
[{"$f":"IF(WeibullPlotData_BEFORE[Cycles to failure]<>\"\",COUNT(B$23:B25),\"\")","v":""},{"$f":"IF('Input & Report'!$B4<>\"\",'Input & Report'!$B4,\"\")","v":""},{"$f":"IF(B25=\"\",\"\",RANK(B25,INDIRECT('Weibull Reliability Calculator'!$T$5),1))","v":""},"",{"$error":"#VALUE!"},{"$error":"#VALUE!"},{"$f":"IF(B25=\"\",\"\",G$14-(3*H$14)+(6*H$14)*(COUNT(B$23:B25)/COUNT(WeibullPlotData_BEFORE[Cycles to failure])))","v":""},"",null,{"$f":"IF(WeibullPlotData_AFTER[Cycles to failure]<>\"\",COUNT(K$23:K25),\"\")","v":""},{"$f":"IF('Input & Report'!$C4<>\"\",'Input & Report'!$C4,\"\")","v":""},{"$f":"IF(K25=\"\",\"\",RANK(K25,INDIRECT('Weibull Reliability Calculator'!$T$13),1))","v":""},"",{"$error":"#VALUE!"},{"$error":"#VALUE!"},{"$f":"J$14-(3*K$14)+(6*K$14)*(COUNT(K$23:K25)/COUNT(WeibullPlotData_AFTER[Cycles to failure]))","v":{"$error":"#DIV/0!"}},""]
[{"$f":"IF(WeibullPlotData_BEFORE[Cycles to failure]<>\"\",COUNT(B$23:B26),\"\")","v":""},{"$f":"IF('Input & Report'!$B5<>\"\",'Input & Report'!$B5,\"\")","v":""},{"$f":"IF(B26=\"\",\"\",RANK(B26,INDIRECT('Weibull Reliability Calculator'!$T$5),1))","v":""},"",{"$error":"#VALUE!"},{"$error":"#VALUE!"},{"$f":"IF(B26=\"\",\"\",G$14-(3*H$14)+(6*H$14)*(COUNT(B$23:B26)/COUNT(WeibullPlotData_BEFORE[Cycles to failure])))","v":""},"",null,{"$f":"IF(WeibullPlotData_AFTER[Cycles to failure]<>\"\",COUNT(K$23:K26),\"\")","v":""},{"$f":"IF('Input & Report'!$C5<>\"\",'Input & Report'!$C5,\"\")","v":""},{"$f":"IF(K26=\"\",\"\",RANK(K26,INDIRECT('Weibull Reliability Calculator'!$T$13),1))","v":""},"",{"$error":"#VALUE!"},{"$error":"#VALUE!"},{"$f":"J$14-(3*K$14)+(6*K$14)*(COUNT(K$23:K26)/COUNT(WeibullPlotData_AFTER[Cycles to failure]))","v":{"$error":"#DIV/0!"}},""]
[{"$f":"IF(WeibullPlotData_BEFORE[Cycles to failure]<>\"\",COUNT(B$23:B27),\"\")","v":""},{"$f":"IF('Input & Report'!$B6<>\"\",'Input & Report'!$B6,\"\")","v":""},{"$f":"IF(B27=\"\",\"\",RANK(B27,INDIRECT('Weibull Reliability Calculator'!$T$5),1))","v":""},"",{"$error":"#VALUE!"},{"$error":"#VALUE!"},{"$f":"IF(B27=\"\",\"\",G$14-(3*H$14)+(6*H$14)*(COUNT(B$23:B27)/COUNT(WeibullPlotData_BEFORE[Cycles to failure])))","v":""},"",null,{"$f":"IF(WeibullPlotData_AFTER[Cycles to failure]<>\"\",COUNT(K$23:K27),\"\")","v":""},{"$f":"IF('Input & Report'!$C6<>\"\",'Input & Report'!$C6,\"\")","v":""},{"$f":"IF(K27=\"\",\"\",RANK(K27,INDIRECT('Weibull Reliability Calculator'!$T$13),1))","v":""},"",{"$error":"#VALUE!"},{"$error":"#VALUE!"},{"$f":"J$14-(3*K$14)+(6*K$14)*(COUNT(K$23:K27)/COUNT(WeibullPlotData_AFTER[Cycles to failure]))","v":{"$error":"#DIV/0!"}},""]
[{"$f":"IF(WeibullPlotData_BEFORE[Cycles to failure]<>\"\",COUNT(B$23:B28),\"\")","v":""},{"$f":"IF('Input & Report'!$B7<>\"\",'Input & Report'!$B7,\"\")","v":""},{"$f":"IF(B28=\"\",\"\",RANK(B28,INDIRECT('Weibull Reliability Calculator'!$T$5),1))","v":""},"",{"$error":"#VALUE!"},{"$error":"#VALUE!"},{"$f":"IF(B28=\"\",\"\",G$14-(3*H$14)+(6*H$14)*(COUNT(B$23:B28)/COUNT(WeibullPlotData_BEFORE[Cycles to failure])))","v":""},"",null,{"$f":"IF(WeibullPlotData_AFTER[Cycles to failure]<>\"\",COUNT(K$23:K28),\"\")","v":""},{"$f":"IF('Input & Report'!$C7<>\"\",'Input & Report'!$C7,\"\")","v":""},{"$f":"IF(K28=\"\",\"\",RANK(K28,INDIRECT('Weibull Reliability Calculator'!$T$13),1))","v":""},"",{"$error":"#VALUE!"},{"$error":"#VALUE!"},{"$f":"J$14-(3*K$14)+(6*K$14)*(COUNT(K$23:K28)/COUNT(WeibullPlotData_AFTER[Cycles to failure]))","v":{"$error":"#DIV/0!"}},""]
[{"$f":"IF(WeibullPlotData_BEFORE[Cycles to failure]<>\"\",COUNT(B$23:B29),\"\")","v":""},{"$f":"IF('Input & Report'!$B8<>\"\",'Input & Report'!$B8,\"\")","v":""},{"$f":"IF(B29=\"\",\"\",RANK(B29,INDIRECT('Weibull Reliability Calculator'!$T$5),1))","v":""},"",{"$error":"#VALUE!"},{"$error":"#VALUE!"},{"$f":"IF(B29=\"\",\"\",G$14-(3*H$14)+(6*H$14)*(COUNT(B$23:B29)/COUNT(WeibullPlotData_BEFORE[Cycles to failure])))","v":""},"",null,{"$f":"IF(WeibullPlotData_AFTER[Cycles to failure]<>\"\",COUNT(K$23:K29),\"\")","v":""},{"$f":"IF('Input & Report'!$C8<>\"\",'Input & Report'!$C8,\"\")","v":""},{"$f":"IF(K29=\"\",\"\",RANK(K29,INDIRECT('Weibull Reliability Calculator'!$T$13),1))","v":""},"",{"$error":"#VALUE!"},{"$error":"#VALUE!"},{"$f":"J$14-(3*K$14)+(6*K$14)*(COUNT(K$23:K29)/COUNT(WeibullPlotData_AFTER[Cycles to failure]))","v":{"$error":"#DIV/0!"}},""]
[{"$f":"IF(WeibullPlotData_BEFORE[Cycles to failure]<>\"\",COUNT(B$23:B30),\"\")","v":""},{"$f":"IF('Input & Report'!$B9<>\"\",'Input & Report'!$B9,\"\")","v":""},{"$f":"IF(B30=\"\",\"\",RANK(B30,INDIRECT('Weibull Reliability Calculator'!$T$5),1))","v":""},"",{"$error":"#VALUE!"},{"$error":"#VALUE!"},{"$f":"IF(B30=\"\",\"\",G$14-(3*H$14)+(6*H$14)*(COUNT(B$23:B30)/COUNT(WeibullPlotData_BEFORE[Cycles to failure])))","v":""},"",null,{"$f":"IF(WeibullPlotData_AFTER[Cycles to failure]<>\"\",COUNT(K$23:K30),\"\")","v":""},{"$f":"IF('Input & Report'!$C9<>\"\",'Input & Report'!$C9,\"\")","v":""},{"$f":"IF(K30=\"\",\"\",RANK(K30,INDIRECT('Weibull Reliability Calculator'!$T$13),1))","v":""},"",{"$error":"#VALUE!"},{"$error":"#VALUE!"},{"$f":"J$14-(3*K$14)+(6*K$14)*(COUNT(K$23:K30)/COUNT(WeibullPlotData_AFTER[Cycles to failure]))","v":{"$error":"#DIV/0!"}},""]
[{"$f":"IF(WeibullPlotData_BEFORE[Cycles to failure]<>\"\",COUNT(B$23:B31),\"\")","v":""},{"$f":"IF('Input & Report'!$B10<>\"\",'Input & Report'!$B10,\"\")","v":""},{"$f":"IF(B31=\"\",\"\",RANK(B31,INDIRECT('Weibull Reliability Calculator'!$T$5),1))","v":""},"",{"$error":"#VALUE!"},{"$error":"#VALUE!"},{"$f":"IF(B31=\"\",\"\",G$14-(3*H$14)+(6*H$14)*(COUNT(B$23:B31)/COUNT(WeibullPlotData_BEFORE[Cycles to failure])))","v":""},"",null,{"$f":"IF(WeibullPlotData_AFTER[Cycles to failure]<>\"\",COUNT(K$23:K31),\"\")","v":""},{"$f":"IF('Input & Report'!$C10<>\"\",'Input & Report'!$C10,\"\")","v":""},{"$f":"IF(K31=\"\",\"\",RANK(K31,INDIRECT('Weibull Reliability Calculator'!$T$13),1))","v":""},"",{"$error":"#VALUE!"},{"$error":"#VALUE!"},{"$f":"J$14-(3*K$14)+(6*K$14)*(COUNT(K$23:K31)/COUNT(WeibullPlotData_AFTER[Cycles to failure]))","v":{"$error":"#DIV/0!"}},""]
[{"$f":"IF(WeibullPlotData_BEFORE[Cycles to failure]<>\"\",COUNT(B$23:B32),\"\")","v":""},{"$f":"IF('Input & Report'!$B11<>\"\",'Input & Report'!$B11,\"\")","v":""},{"$f":"IF(B32=\"\",\"\",RANK(B32,INDIRECT('Weibull Reliability Calculator'!$T$5),1))","v":""},"",{"$error":"#VALUE!"},{"$error":"#VALUE!"},{"$f":"IF(B32=\"\",\"\",G$14-(3*H$14)+(6*H$14)*(COUNT(B$23:B32)/COUNT(WeibullPlotData_BEFORE[Cycles to failure])))","v":""},"",null,{"$f":"IF(WeibullPlotData_AFTER[Cycles to failure]<>\"\",COUNT(K$23:K32),\"\")","v":""},{"$f":"IF('Input & Report'!$C11<>\"\",'Input & Report'!$C11,\"\")","v":""},{"$f":"IF(K32=\"\",\"\",RANK(K32,INDIRECT('Weibull Reliability Calculator'!$T$13),1))","v":""},"",{"$error":"#VALUE!"},{"$error":"#VALUE!"},{"$f":"J$14-(3*K$14)+(6*K$14)*(COUNT(K$23:K32)/COUNT(WeibullPlotData_AFTER[Cycles to failure]))","v":{"$error":"#DIV/0!"}},""]
[{"$f":"IF(WeibullPlotData_BEFORE[Cycles to failure]<>\"\",COUNT(B$23:B33),\"\")","v":""},{"$f":"IF('Input & Report'!$B12<>\"\",'Input & Report'!$B12,\"\")","v":""},{"$f":"IF(B33=\"\",\"\",RANK(B33,INDIRECT('Weibull Reliability Calculator'!$T$5),1))","v":""},"",{"$error":"#VALUE!"},{"$error":"#VALUE!"},{"$f":"IF(B33=\"\",\"\",G$14-(3*H$14)+(6*H$14)*(COUNT(B$23:B33)/COUNT(WeibullPlotData_BEFORE[Cycles to failure])))","v":""},"",null,{"$f":"IF(WeibullPlotData_AFTER[Cycles to failure]<>\"\",COUNT(K$23:K33),\"\")","v":""},{"$f":"IF('Input & Report'!$C12<>\"\",'Input & Report'!$C12,\"\")","v":""},{"$f":"IF(K33=\"\",\"\",RANK(K33,INDIRECT('Weibull Reliability Calculator'!$T$13),1))","v":""},"",{"$error":"#VALUE!"},{"$error":"#VALUE!"},{"$f":"J$14-(3*K$14)+(6*K$14)*(COUNT(K$23:K33)/COUNT(WeibullPlotData_AFTER[Cycles to failure]))","v":{"$error":"#DIV/0!"}},""]
[{"$f":"IF(WeibullPlotData_BEFORE[Cycles to failure]<>\"\",COUNT(B$23:B34),\"\")","v":""},{"$f":"IF('Input & Report'!$B13<>\"\",'Input & Report'!$B13,\"\")","v":""},{"$f":"IF(B34=\"\",\"\",RANK(B34,INDIRECT('Weibull Reliability Calculator'!$T$5),1))","v":""},"",{"$error":"#VALUE!"},{"$error":"#VALUE!"},{"$f":"IF(B34=\"\",\"\",G$14-(3*H$14)+(6*H$14)*(COUNT(B$23:B34)/COUNT(WeibullPlotData_BEFORE[Cycles to failure])))","v":""},"",null,{"$f":"IF(WeibullPlotData_AFTER[Cycles to failure]<>\"\",COUNT(K$23:K34),\"\")","v":""},{"$f":"IF('Input & Report'!$C13<>\"\",'Input & Report'!$C13,\"\")","v":""},{"$f":"IF(K34=\"\",\"\",RANK(K34,INDIRECT('Weibull Reliability Calculator'!$T$13),1))","v":""},"",{"$error":"#VALUE!"},{"$error":"#VALUE!"},{"$f":"J$14-(3*K$14)+(6*K$14)*(COUNT(K$23:K34)/COUNT(WeibullPlotData_AFTER[Cycles to failure]))","v":{"$error":"#DIV/0!"}},""]
[{"$f":"IF(WeibullPlotData_BEFORE[Cycles to failure]<>\"\",COUNT(B$23:B35),\"\")","v":""},{"$f":"IF('Input & Report'!$B14<>\"\",'Input & Report'!$B14,\"\")","v":""},{"$f":"IF(B35=\"\",\"\",RANK(B35,INDIRECT('Weibull Reliability Calculator'!$T$5),1))","v":""},"",{"$error":"#VALUE!"},{"$error":"#VALUE!"},{"$f":"IF(B35=\"\",\"\",G$14-(3*H$14)+(6*H$14)*(COUNT(B$23:B35)/COUNT(WeibullPlotData_BEFORE[Cycles to failure])))","v":""},"",null,{"$f":"IF(WeibullPlotData_AFTER[Cycles to failure]<>\"\",COUNT(K$23:K35),\"\")","v":""},{"$f":"IF('Input & Report'!$C14<>\"\",'Input & Report'!$C14,\"\")","v":""},{"$f":"IF(K35=\"\",\"\",RANK(K35,INDIRECT('Weibull Reliability Calculator'!$T$13),1))","v":""},"",{"$error":"#VALUE!"},{"$error":"#VALUE!"},{"$f":"J$14-(3*K$14)+(6*K$14)*(COUNT(K$23:K35)/COUNT(WeibullPlotData_AFTER[Cycles to failure]))","v":{"$error":"#DIV/0!"}},""]
[{"$f":"IF(WeibullPlotData_BEFORE[Cycles to failure]<>\"\",COUNT(B$23:B36),\"\")","v":""},{"$f":"IF('Input & Report'!$B15<>\"\",'Input & Report'!$B15,\"\")","v":""},{"$f":"IF(B36=\"\",\"\",RANK(B36,INDIRECT('Weibull Reliability Calculator'!$T$5),1))","v":""},"",{"$error":"#VALUE!"},{"$error":"#VALUE!"},{"$f":"IF(B36=\"\",\"\",G$14-(3*H$14)+(6*H$14)*(COUNT(B$23:B36)/COUNT(WeibullPlotData_BEFORE[Cycles to failure])))","v":""},"",null,{"$f":"IF(WeibullPlotData_AFTER[Cycles to failure]<>\"\",COUNT(K$23:K36),\"\")","v":""},{"$f":"IF('Input & Report'!$C15<>\"\",'Input & Report'!$C15,\"\")","v":""},{"$f":"IF(K36=\"\",\"\",RANK(K36,INDIRECT('Weibull Reliability Calculator'!$T$13),1))","v":""},"",{"$error":"#VALUE!"},{"$error":"#VALUE!"},{"$f":"J$14-(3*K$14)+(6*K$14)*(COUNT(K$23:K36)/COUNT(WeibullPlotData_AFTER[Cycles to failure]))","v":{"$error":"#DIV/0!"}},""]
[{"$f":"IF(WeibullPlotData_BEFORE[Cycles to failure]<>\"\",COUNT(B$23:B37),\"\")","v":""},{"$f":"IF('Input & Report'!$B16<>\"\",'Input & Report'!$B16,\"\")","v":""},{"$f":"IF(B37=\"\",\"\",RANK(B37,INDIRECT('Weibull Reliability Calculator'!$T$5),1))","v":""},"",{"$error":"#VALUE!"},{"$error":"#VALUE!"},{"$f":"IF(B37=\"\",\"\",G$14-(3*H$14)+(6*H$14)*(COUNT(B$23:B37)/COUNT(WeibullPlotData_BEFORE[Cycles to failure])))","v":""},"",null,{"$f":"IF(WeibullPlotData_AFTER[Cycles to failure]<>\"\",COUNT(K$23:K37),\"\")","v":""},{"$f":"IF('Input & Report'!$C16<>\"\",'Input & Report'!$C16,\"\")","v":""},{"$f":"IF(K37=\"\",\"\",RANK(K37,INDIRECT('Weibull Reliability Calculator'!$T$13),1))","v":""},"",{"$error":"#VALUE!"},{"$error":"#VALUE!"},{"$f":"J$14-(3*K$14)+(6*K$14)*(COUNT(K$23:K37)/COUNT(WeibullPlotData_AFTER[Cycles to failure]))","v":{"$error":"#DIV/0!"}},""]
[{"$f":"IF(WeibullPlotData_BEFORE[Cycles to failure]<>\"\",COUNT(B$23:B38),\"\")","v":""},{"$f":"IF('Input & Report'!$B17<>\"\",'Input & Report'!$B17,\"\")","v":""},{"$f":"IF(B38=\"\",\"\",RANK(B38,INDIRECT('Weibull Reliability Calculator'!$T$5),1))","v":""},"",{"$error":"#VALUE!"},{"$error":"#VALUE!"},{"$f":"IF(B38=\"\",\"\",G$14-(3*H$14)+(6*H$14)*(COUNT(B$23:B38)/COUNT(WeibullPlotData_BEFORE[Cycles to failure])))","v":""},"",null,{"$f":"IF(WeibullPlotData_AFTER[Cycles to failure]<>\"\",COUNT(K$23:K38),\"\")","v":""},{"$f":"IF('Input & Report'!$C17<>\"\",'Input & Report'!$C17,\"\")","v":""},{"$f":"IF(K38=\"\",\"\",RANK(K38,INDIRECT('Weibull Reliability Calculator'!$T$13),1))","v":""},"",{"$error":"#VALUE!"},{"$error":"#VALUE!"},{"$f":"J$14-(3*K$14)+(6*K$14)*(COUNT(K$23:K38)/COUNT(WeibullPlotData_AFTER[Cycles to failure]))","v":{"$error":"#DIV/0!"}},""]
[{"$f":"IF(WeibullPlotData_BEFORE[Cycles to failure]<>\"\",COUNT(B$23:B39),\"\")","v":""},{"$f":"IF('Input & Report'!$B18<>\"\",'Input & Report'!$B18,\"\")","v":""},{"$f":"IF(B39=\"\",\"\",RANK(B39,INDIRECT('Weibull Reliability Calculator'!$T$5),1))","v":""},"",{"$error":"#VALUE!"},{"$error":"#VALUE!"},{"$f":"IF(B39=\"\",\"\",G$14-(3*H$14)+(6*H$14)*(COUNT(B$23:B39)/COUNT(WeibullPlotData_BEFORE[Cycles to failure])))","v":""},"",null,{"$f":"IF(WeibullPlotData_AFTER[Cycles to failure]<>\"\",COUNT(K$23:K39),\"\")","v":""},{"$f":"IF('Input & Report'!$C18<>\"\",'Input & Report'!$C18,\"\")","v":""},{"$f":"IF(K39=\"\",\"\",RANK(K39,INDIRECT('Weibull Reliability Calculator'!$T$13),1))","v":""},"",{"$error":"#VALUE!"},{"$error":"#VALUE!"},{"$f":"J$14-(3*K$14)+(6*K$14)*(COUNT(K$23:K39)/COUNT(WeibullPlotData_AFTER[Cycles to failure]))","v":{"$error":"#DIV/0!"}},""]
[{"$f":"IF(WeibullPlotData_BEFORE[Cycles to failure]<>\"\",COUNT(B$23:B40),\"\")","v":""},{"$f":"IF('Input & Report'!$B19<>\"\",'Input & Report'!$B19,\"\")","v":""},{"$f":"IF(B40=\"\",\"\",RANK(B40,INDIRECT('Weibull Reliability Calculator'!$T$5),1))","v":""},"",{"$error":"#VALUE!"},{"$error":"#VALUE!"},{"$f":"IF(B40=\"\",\"\",G$14-(3*H$14)+(6*H$14)*(COUNT(B$23:B40)/COUNT(WeibullPlotData_BEFORE[Cycles to failure])))","v":""},"",null,{"$f":"IF(WeibullPlotData_AFTER[Cycles to failure]<>\"\",COUNT(K$23:K40),\"\")","v":""},{"$f":"IF('Input & Report'!$C19<>\"\",'Input & Report'!$C19,\"\")","v":""},{"$f":"IF(K40=\"\",\"\",RANK(K40,INDIRECT('Weibull Reliability Calculator'!$T$13),1))","v":""},"",{"$error":"#VALUE!"},{"$error":"#VALUE!"},{"$f":"J$14-(3*K$14)+(6*K$14)*(COUNT(K$23:K40)/COUNT(WeibullPlotData_AFTER[Cycles to failure]))","v":{"$error":"#DIV/0!"}},""]
[{"$f":"IF(WeibullPlotData_BEFORE[Cycles to failure]<>\"\",COUNT(B$23:B41),\"\")","v":""},{"$f":"IF('Input & Report'!$B20<>\"\",'Input & Report'!$B20,\"\")","v":""},{"$f":"IF(B41=\"\",\"\",RANK(B41,INDIRECT('Weibull Reliability Calculator'!$T$5),1))","v":""},"",{"$error":"#VALUE!"},{"$error":"#VALUE!"},{"$f":"IF(B41=\"\",\"\",G$14-(3*H$14)+(6*H$14)*(COUNT(B$23:B41)/COUNT(WeibullPlotData_BEFORE[Cycles to failure])))","v":""},"",null,{"$f":"IF(WeibullPlotData_AFTER[Cycles to failure]<>\"\",COUNT(K$23:K41),\"\")","v":""},{"$f":"IF('Input & Report'!$C20<>\"\",'Input & Report'!$C20,\"\")","v":""},{"$f":"IF(K41=\"\",\"\",RANK(K41,INDIRECT('Weibull Reliability Calculator'!$T$13),1))","v":""},"",{"$error":"#VALUE!"},{"$error":"#VALUE!"},{"$f":"J$14-(3*K$14)+(6*K$14)*(COUNT(K$23:K41)/COUNT(WeibullPlotData_AFTER[Cycles to failure]))","v":{"$error":"#DIV/0!"}},""]
[{"$f":"IF(WeibullPlotData_BEFORE[Cycles to failure]<>\"\",COUNT(B$23:B42),\"\")","v":""},{"$f":"IF('Input & Report'!$B21<>\"\",'Input & Report'!$B21,\"\")","v":""},{"$f":"IF(B42=\"\",\"\",RANK(B42,INDIRECT('Weibull Reliability Calculator'!$T$5),1))","v":""},"",{"$error":"#VALUE!"},{"$error":"#VALUE!"},{"$f":"IF(B42=\"\",\"\",G$14-(3*H$14)+(6*H$14)*(COUNT(B$23:B42)/COUNT(WeibullPlotData_BEFORE[Cycles to failure])))","v":""},"",null,{"$f":"IF(WeibullPlotData_AFTER[Cycles to failure]<>\"\",COUNT(K$23:K42),\"\")","v":""},{"$f":"IF('Input & Report'!$C21<>\"\",'Input & Report'!$C21,\"\")","v":""},{"$f":"IF(K42=\"\",\"\",RANK(K42,INDIRECT('Weibull Reliability Calculator'!$T$13),1))","v":""},"",{"$error":"#VALUE!"},{"$error":"#VALUE!"},{"$f":"J$14-(3*K$14)+(6*K$14)*(COUNT(K$23:K42)/COUNT(WeibullPlotData_AFTER[Cycles to failure]))","v":{"$error":"#DIV/0!"}},""]
[{"$f":"IF(WeibullPlotData_BEFORE[Cycles to failure]<>\"\",COUNT(B$23:B43),\"\")","v":""},{"$f":"IF('Input & Report'!$B22<>\"\",'Input & Report'!$B22,\"\")","v":""},{"$f":"IF(B43=\"\",\"\",RANK(B43,INDIRECT('Weibull Reliability Calculator'!$T$5),1))","v":""},"",{"$error":"#VALUE!"},{"$error":"#VALUE!"},{"$f":"IF(B43=\"\",\"\",G$14-(3*H$14)+(6*H$14)*(COUNT(B$23:B43)/COUNT(WeibullPlotData_BEFORE[Cycles to failure])))","v":""},"",null,{"$f":"IF(WeibullPlotData_AFTER[Cycles to failure]<>\"\",COUNT(K$23:K43),\"\")","v":""},{"$f":"IF('Input & Report'!$C22<>\"\",'Input & Report'!$C22,\"\")","v":""},{"$f":"IF(K43=\"\",\"\",RANK(K43,INDIRECT('Weibull Reliability Calculator'!$T$13),1))","v":""},"",{"$error":"#VALUE!"},{"$error":"#VALUE!"},{"$f":"J$14-(3*K$14)+(6*K$14)*(COUNT(K$23:K43)/COUNT(WeibullPlotData_AFTER[Cycles to failure]))","v":{"$error":"#DIV/0!"}},""]
[{"$f":"IF(WeibullPlotData_BEFORE[Cycles to failure]<>\"\",COUNT(B$23:B44),\"\")","v":""},{"$f":"IF('Input & Report'!$B23<>\"\",'Input & Report'!$B23,\"\")","v":""},{"$f":"IF(B44=\"\",\"\",RANK(B44,INDIRECT('Weibull Reliability Calculator'!$T$5),1))","v":""},"",{"$error":"#VALUE!"},{"$error":"#VALUE!"},{"$f":"IF(B44=\"\",\"\",G$14-(3*H$14)+(6*H$14)*(COUNT(B$23:B44)/COUNT(WeibullPlotData_BEFORE[Cycles to failure])))","v":""},"",null,{"$f":"IF(WeibullPlotData_AFTER[Cycles to failure]<>\"\",COUNT(K$23:K44),\"\")","v":""},{"$f":"IF('Input & Report'!$C23<>\"\",'Input & Report'!$C23,\"\")","v":""},{"$f":"IF(K44=\"\",\"\",RANK(K44,INDIRECT('Weibull Reliability Calculator'!$T$13),1))","v":""},"",{"$error":"#VALUE!"},{"$error":"#VALUE!"},{"$f":"J$14-(3*K$14)+(6*K$14)*(COUNT(K$23:K44)/COUNT(WeibullPlotData_AFTER[Cycles to failure]))","v":{"$error":"#DIV/0!"}},""]
[{"$f":"IF(WeibullPlotData_BEFORE[Cycles to failure]<>\"\",COUNT(B$23:B45),\"\")","v":""},{"$f":"IF('Input & Report'!$B24<>\"\",'Input & Report'!$B24,\"\")","v":""},{"$f":"IF(B45=\"\",\"\",RANK(B45,INDIRECT('Weibull Reliability Calculator'!$T$5),1))","v":""},"",{"$error":"#VALUE!"},{"$error":"#VALUE!"},{"$f":"IF(B45=\"\",\"\",G$14-(3*H$14)+(6*H$14)*(COUNT(B$23:B45)/COUNT(WeibullPlotData_BEFORE[Cycles to failure])))","v":""},"",null,{"$f":"IF(WeibullPlotData_AFTER[Cycles to failure]<>\"\",COUNT(K$23:K45),\"\")","v":""},{"$f":"IF('Input & Report'!$C24<>\"\",'Input & Report'!$C24,\"\")","v":""},{"$f":"IF(K45=\"\",\"\",RANK(K45,INDIRECT('Weibull Reliability Calculator'!$T$13),1))","v":""},"",{"$error":"#VALUE!"},{"$error":"#VALUE!"},{"$f":"J$14-(3*K$14)+(6*K$14)*(COUNT(K$23:K45)/COUNT(WeibullPlotData_AFTER[Cycles to failure]))","v":{"$error":"#DIV/0!"}},""]
[{"$f":"IF(WeibullPlotData_BEFORE[Cycles to failure]<>\"\",COUNT(B$23:B46),\"\")","v":""},{"$f":"IF('Input & Report'!$B25<>\"\",'Input & Report'!$B25,\"\")","v":""},{"$f":"IF(B46=\"\",\"\",RANK(B46,INDIRECT('Weibull Reliability Calculator'!$T$5),1))","v":""},"",{"$error":"#VALUE!"},{"$error":"#VALUE!"},{"$f":"IF(B46=\"\",\"\",G$14-(3*H$14)+(6*H$14)*(COUNT(B$23:B46)/COUNT(WeibullPlotData_BEFORE[Cycles to failure])))","v":""},"",null,{"$f":"IF(WeibullPlotData_AFTER[Cycles to failure]<>\"\",COUNT(K$23:K46),\"\")","v":""},{"$f":"IF('Input & Report'!$C25<>\"\",'Input & Report'!$C25,\"\")","v":""},{"$f":"IF(K46=\"\",\"\",RANK(K46,INDIRECT('Weibull Reliability Calculator'!$T$13),1))","v":""},"",{"$error":"#VALUE!"},{"$error":"#VALUE!"},{"$f":"J$14-(3*K$14)+(6*K$14)*(COUNT(K$23:K46)/COUNT(WeibullPlotData_AFTER[Cycles to failure]))","v":{"$error":"#DIV/0!"}},""]
[{"$f":"IF(WeibullPlotData_BEFORE[Cycles to failure]<>\"\",COUNT(B$23:B47),\"\")","v":""},{"$f":"IF('Input & Report'!$B26<>\"\",'Input & Report'!$B26,\"\")","v":""},{"$f":"IF(B47=\"\",\"\",RANK(B47,INDIRECT('Weibull Reliability Calculator'!$T$5),1))","v":""},"",{"$error":"#VALUE!"},{"$error":"#VALUE!"},{"$f":"IF(B47=\"\",\"\",G$14-(3*H$14)+(6*H$14)*(COUNT(B$23:B47)/COUNT(WeibullPlotData_BEFORE[Cycles to failure])))","v":""},"",null,{"$f":"IF(WeibullPlotData_AFTER[Cycles to failure]<>\"\",COUNT(K$23:K47),\"\")","v":""},{"$f":"IF('Input & Report'!$C26<>\"\",'Input & Report'!$C26,\"\")","v":""},{"$f":"IF(K47=\"\",\"\",RANK(K47,INDIRECT('Weibull Reliability Calculator'!$T$13),1))","v":""},"",{"$error":"#VALUE!"},{"$error":"#VALUE!"},{"$f":"J$14-(3*K$14)+(6*K$14)*(COUNT(K$23:K47)/COUNT(WeibullPlotData_AFTER[Cycles to failure]))","v":{"$error":"#DIV/0!"}},""]
[{"$f":"IF(WeibullPlotData_BEFORE[Cycles to failure]<>\"\",COUNT(B$23:B48),\"\")","v":""},{"$f":"IF('Input & Report'!$B27<>\"\",'Input & Report'!$B27,\"\")","v":""},{"$f":"IF(B48=\"\",\"\",RANK(B48,INDIRECT('Weibull Reliability Calculator'!$T$5),1))","v":""},"",{"$error":"#VALUE!"},{"$error":"#VALUE!"},{"$f":"IF(B48=\"\",\"\",G$14-(3*H$14)+(6*H$14)*(COUNT(B$23:B48)/COUNT(WeibullPlotData_BEFORE[Cycles to failure])))","v":""},"",null,{"$f":"IF(WeibullPlotData_AFTER[Cycles to failure]<>\"\",COUNT(K$23:K48),\"\")","v":""},{"$f":"IF('Input & Report'!$C27<>\"\",'Input & Report'!$C27,\"\")","v":""},{"$f":"IF(K48=\"\",\"\",RANK(K48,INDIRECT('Weibull Reliability Calculator'!$T$13),1))","v":""},"",{"$error":"#VALUE!"},{"$error":"#VALUE!"},{"$f":"J$14-(3*K$14)+(6*K$14)*(COUNT(K$23:K48)/COUNT(WeibullPlotData_AFTER[Cycles to failure]))","v":{"$error":"#DIV/0!"}},""]
[{"$f":"IF(WeibullPlotData_BEFORE[Cycles to failure]<>\"\",COUNT(B$23:B49),\"\")","v":""},{"$f":"IF('Input & Report'!$B28<>\"\",'Input & Report'!$B28,\"\")","v":""},{"$f":"IF(B49=\"\",\"\",RANK(B49,INDIRECT('Weibull Reliability Calculator'!$T$5),1))","v":""},"",{"$error":"#VALUE!"},{"$error":"#VALUE!"},{"$f":"IF(B49=\"\",\"\",G$14-(3*H$14)+(6*H$14)*(COUNT(B$23:B49)/COUNT(WeibullPlotData_BEFORE[Cycles to failure])))","v":""},"",null,{"$f":"IF(WeibullPlotData_AFTER[Cycles to failure]<>\"\",COUNT(K$23:K49),\"\")","v":""},{"$f":"IF('Input & Report'!$C28<>\"\",'Input & Report'!$C28,\"\")","v":""},{"$f":"IF(K49=\"\",\"\",RANK(K49,INDIRECT('Weibull Reliability Calculator'!$T$13),1))","v":""},"",{"$error":"#VALUE!"},{"$error":"#VALUE!"},{"$f":"J$14-(3*K$14)+(6*K$14)*(COUNT(K$23:K49)/COUNT(WeibullPlotData_AFTER[Cycles to failure]))","v":{"$error":"#DIV/0!"}},""]
[{"$f":"IF(WeibullPlotData_BEFORE[Cycles to failure]<>\"\",COUNT(B$23:B50),\"\")","v":""},{"$f":"IF('Input & Report'!$B29<>\"\",'Input & Report'!$B29,\"\")","v":""},{"$f":"IF(B50=\"\",\"\",RANK(B50,INDIRECT('Weibull Reliability Calculator'!$T$5),1))","v":""},"",{"$error":"#VALUE!"},{"$error":"#VALUE!"},{"$f":"IF(B50=\"\",\"\",G$14-(3*H$14)+(6*H$14)*(COUNT(B$23:B50)/COUNT(WeibullPlotData_BEFORE[Cycles to failure])))","v":""},"",null,{"$f":"IF(WeibullPlotData_AFTER[Cycles to failure]<>\"\",COUNT(K$23:K50),\"\")","v":""},{"$f":"IF('Input & Report'!$C29<>\"\",'Input & Report'!$C29,\"\")","v":""},{"$f":"IF(K50=\"\",\"\",RANK(K50,INDIRECT('Weibull Reliability Calculator'!$T$13),1))","v":""},"",{"$error":"#VALUE!"},{"$error":"#VALUE!"},{"$f":"J$14-(3*K$14)+(6*K$14)*(COUNT(K$23:K50)/COUNT(WeibullPlotData_AFTER[Cycles to failure]))","v":{"$error":"#DIV/0!"}},""]
[{"$f":"IF(WeibullPlotData_BEFORE[Cycles to failure]<>\"\",COUNT(B$23:B51),\"\")","v":""},{"$f":"IF('Input & Report'!$B30<>\"\",'Input & Report'!$B30,\"\")","v":""},{"$f":"IF(B51=\"\",\"\",RANK(B51,INDIRECT('Weibull Reliability Calculator'!$T$5),1))","v":""},"",{"$error":"#VALUE!"},{"$error":"#VALUE!"},{"$f":"IF(B51=\"\",\"\",G$14-(3*H$14)+(6*H$14)*(COUNT(B$23:B51)/COUNT(WeibullPlotData_BEFORE[Cycles to failure])))","v":""},"",null,{"$f":"IF(WeibullPlotData_AFTER[Cycles to failure]<>\"\",COUNT(K$23:K51),\"\")","v":""},{"$f":"IF('Input & Report'!$C30<>\"\",'Input & Report'!$C30,\"\")","v":""},{"$f":"IF(K51=\"\",\"\",RANK(K51,INDIRECT('Weibull Reliability Calculator'!$T$13),1))","v":""},"",{"$error":"#VALUE!"},{"$error":"#VALUE!"},{"$f":"J$14-(3*K$14)+(6*K$14)*(COUNT(K$23:K51)/COUNT(WeibullPlotData_AFTER[Cycles to failure]))","v":{"$error":"#DIV/0!"}},""]
[{"$f":"IF(WeibullPlotData_BEFORE[Cycles to failure]<>\"\",COUNT(B$23:B52),\"\")","v":""},{"$f":"IF('Input & Report'!$B31<>\"\",'Input & Report'!$B31,\"\")","v":""},{"$f":"IF(B52=\"\",\"\",RANK(B52,INDIRECT('Weibull Reliability Calculator'!$T$5),1))","v":""},"",{"$error":"#VALUE!"},{"$error":"#VALUE!"},{"$f":"IF(B52=\"\",\"\",G$14-(3*H$14)+(6*H$14)*(COUNT(B$23:B52)/COUNT(WeibullPlotData_BEFORE[Cycles to failure])))","v":""},"",null,{"$f":"IF(WeibullPlotData_AFTER[Cycles to failure]<>\"\",COUNT(K$23:K52),\"\")","v":""},{"$f":"IF('Input & Report'!$C31<>\"\",'Input & Report'!$C31,\"\")","v":""},{"$f":"IF(K52=\"\",\"\",RANK(K52,INDIRECT('Weibull Reliability Calculator'!$T$13),1))","v":""},"",{"$error":"#VALUE!"},{"$error":"#VALUE!"},{"$f":"J$14-(3*K$14)+(6*K$14)*(COUNT(K$23:K52)/COUNT(WeibullPlotData_AFTER[Cycles to failure]))","v":{"$error":"#DIV/0!"}},""]
[{"$f":"IF(WeibullPlotData_BEFORE[Cycles to failure]<>\"\",COUNT(B$23:B53),\"\")","v":""},{"$f":"IF('Input & Report'!$B32<>\"\",'Input & Report'!$B32,\"\")","v":""},{"$f":"IF(B53=\"\",\"\",RANK(B53,INDIRECT('Weibull Reliability Calculator'!$T$5),1))","v":""},"",{"$error":"#VALUE!"},{"$error":"#VALUE!"},{"$f":"IF(B53=\"\",\"\",G$14-(3*H$14)+(6*H$14)*(COUNT(B$23:B53)/COUNT(WeibullPlotData_BEFORE[Cycles to failure])))","v":""},"",null,{"$f":"IF(WeibullPlotData_AFTER[Cycles to failure]<>\"\",COUNT(K$23:K53),\"\")","v":""},{"$f":"IF('Input & Report'!$C32<>\"\",'Input & Report'!$C32,\"\")","v":""},{"$f":"IF(K53=\"\",\"\",RANK(K53,INDIRECT('Weibull Reliability Calculator'!$T$13),1))","v":""},"",{"$error":"#VALUE!"},{"$error":"#VALUE!"},{"$f":"J$14-(3*K$14)+(6*K$14)*(COUNT(K$23:K53)/COUNT(WeibullPlotData_AFTER[Cycles to failure]))","v":{"$error":"#DIV/0!"}},""]
[{"$f":"IF(WeibullPlotData_BEFORE[Cycles to failure]<>\"\",COUNT(B$23:B54),\"\")","v":""},{"$f":"IF('Input & Report'!$B33<>\"\",'Input & Report'!$B33,\"\")","v":""},{"$f":"IF(B54=\"\",\"\",RANK(B54,INDIRECT('Weibull Reliability Calculator'!$T$5),1))","v":""},"",{"$error":"#VALUE!"},{"$error":"#VALUE!"},{"$f":"IF(B54=\"\",\"\",G$14-(3*H$14)+(6*H$14)*(COUNT(B$23:B54)/COUNT(WeibullPlotData_BEFORE[Cycles to failure])))","v":""},"",null,{"$f":"IF(WeibullPlotData_AFTER[Cycles to failure]<>\"\",COUNT(K$23:K54),\"\")","v":""},{"$f":"IF('Input & Report'!$C33<>\"\",'Input & Report'!$C33,\"\")","v":""},{"$f":"IF(K54=\"\",\"\",RANK(K54,INDIRECT('Weibull Reliability Calculator'!$T$13),1))","v":""},"",{"$error":"#VALUE!"},{"$error":"#VALUE!"},{"$f":"J$14-(3*K$14)+(6*K$14)*(COUNT(K$23:K54)/COUNT(WeibullPlotData_AFTER[Cycles to failure]))","v":{"$error":"#DIV/0!"}},""]
[{"$f":"IF(WeibullPlotData_BEFORE[Cycles to failure]<>\"\",COUNT(B$23:B55),\"\")","v":""},{"$f":"IF('Input & Report'!$B34<>\"\",'Input & Report'!$B34,\"\")","v":""},{"$f":"IF(B55=\"\",\"\",RANK(B55,INDIRECT('Weibull Reliability Calculator'!$T$5),1))","v":""},"",{"$error":"#VALUE!"},{"$error":"#VALUE!"},{"$f":"IF(B55=\"\",\"\",G$14-(3*H$14)+(6*H$14)*(COUNT(B$23:B55)/COUNT(WeibullPlotData_BEFORE[Cycles to failure])))","v":""},"",null,{"$f":"IF(WeibullPlotData_AFTER[Cycles to failure]<>\"\",COUNT(K$23:K55),\"\")","v":""},{"$f":"IF('Input & Report'!$C34<>\"\",'Input & Report'!$C34,\"\")","v":""},{"$f":"IF(K55=\"\",\"\",RANK(K55,INDIRECT('Weibull Reliability Calculator'!$T$13),1))","v":""},"",{"$error":"#VALUE!"},{"$error":"#VALUE!"},{"$f":"J$14-(3*K$14)+(6*K$14)*(COUNT(K$23:K55)/COUNT(WeibullPlotData_AFTER[Cycles to failure]))","v":{"$error":"#DIV/0!"}},""]
[{"$f":"IF(WeibullPlotData_BEFORE[Cycles to failure]<>\"\",COUNT(B$23:B56),\"\")","v":""},{"$f":"IF('Input & Report'!$B35<>\"\",'Input & Report'!$B35,\"\")","v":""},{"$f":"IF(B56=\"\",\"\",RANK(B56,INDIRECT('Weibull Reliability Calculator'!$T$5),1))","v":""},"",{"$error":"#VALUE!"},{"$error":"#VALUE!"},{"$f":"IF(B56=\"\",\"\",G$14-(3*H$14)+(6*H$14)*(COUNT(B$23:B56)/COUNT(WeibullPlotData_BEFORE[Cycles to failure])))","v":""},"",null,{"$f":"IF(WeibullPlotData_AFTER[Cycles to failure]<>\"\",COUNT(K$23:K56),\"\")","v":""},{"$f":"IF('Input & Report'!$C35<>\"\",'Input & Report'!$C35,\"\")","v":""},{"$f":"IF(K56=\"\",\"\",RANK(K56,INDIRECT('Weibull Reliability Calculator'!$T$13),1))","v":""},"",{"$error":"#VALUE!"},{"$error":"#VALUE!"},{"$f":"J$14-(3*K$14)+(6*K$14)*(COUNT(K$23:K56)/COUNT(WeibullPlotData_AFTER[Cycles to failure]))","v":{"$error":"#DIV/0!"}},""]
[{"$f":"IF(WeibullPlotData_BEFORE[Cycles to failure]<>\"\",COUNT(B$23:B57),\"\")","v":""},{"$f":"IF('Input & Report'!$B36<>\"\",'Input & Report'!$B36,\"\")","v":""},{"$f":"IF(B57=\"\",\"\",RANK(B57,INDIRECT('Weibull Reliability Calculator'!$T$5),1))","v":""},"",{"$error":"#VALUE!"},{"$error":"#VALUE!"},{"$f":"IF(B57=\"\",\"\",G$14-(3*H$14)+(6*H$14)*(COUNT(B$23:B57)/COUNT(WeibullPlotData_BEFORE[Cycles to failure])))","v":""},"",null,{"$f":"IF(WeibullPlotData_AFTER[Cycles to failure]<>\"\",COUNT(K$23:K57),\"\")","v":""},{"$f":"IF('Input & Report'!$C36<>\"\",'Input & Report'!$C36,\"\")","v":""},{"$f":"IF(K57=\"\",\"\",RANK(K57,INDIRECT('Weibull Reliability Calculator'!$T$13),1))","v":""},"",{"$error":"#VALUE!"},{"$error":"#VALUE!"},{"$f":"J$14-(3*K$14)+(6*K$14)*(COUNT(K$23:K57)/COUNT(WeibullPlotData_AFTER[Cycles to failure]))","v":{"$error":"#DIV/0!"}},""]
[{"$f":"IF(WeibullPlotData_BEFORE[Cycles to failure]<>\"\",COUNT(B$23:B58),\"\")","v":""},{"$f":"IF('Input & Report'!$B37<>\"\",'Input & Report'!$B37,\"\")","v":""},{"$f":"IF(B58=\"\",\"\",RANK(B58,INDIRECT('Weibull Reliability Calculator'!$T$5),1))","v":""},"",{"$error":"#VALUE!"},{"$error":"#VALUE!"},{"$f":"IF(B58=\"\",\"\",G$14-(3*H$14)+(6*H$14)*(COUNT(B$23:B58)/COUNT(WeibullPlotData_BEFORE[Cycles to failure])))","v":""},"",null,{"$f":"IF(WeibullPlotData_AFTER[Cycles to failure]<>\"\",COUNT(K$23:K58),\"\")","v":""},{"$f":"IF('Input & Report'!$C37<>\"\",'Input & Report'!$C37,\"\")","v":""},{"$f":"IF(K58=\"\",\"\",RANK(K58,INDIRECT('Weibull Reliability Calculator'!$T$13),1))","v":""},"",{"$error":"#VALUE!"},{"$error":"#VALUE!"},{"$f":"J$14-(3*K$14)+(6*K$14)*(COUNT(K$23:K58)/COUNT(WeibullPlotData_AFTER[Cycles to failure]))","v":{"$error":"#DIV/0!"}},""]
[{"$f":"IF(WeibullPlotData_BEFORE[Cycles to failure]<>\"\",COUNT(B$23:B59),\"\")","v":""},{"$f":"IF('Input & Report'!$B38<>\"\",'Input & Report'!$B38,\"\")","v":""},{"$f":"IF(B59=\"\",\"\",RANK(B59,INDIRECT('Weibull Reliability Calculator'!$T$5),1))","v":""},"",{"$error":"#VALUE!"},{"$error":"#VALUE!"},{"$f":"IF(B59=\"\",\"\",G$14-(3*H$14)+(6*H$14)*(COUNT(B$23:B59)/COUNT(WeibullPlotData_BEFORE[Cycles to failure])))","v":""},"",null,{"$f":"IF(WeibullPlotData_AFTER[Cycles to failure]<>\"\",COUNT(K$23:K59),\"\")","v":""},{"$f":"IF('Input & Report'!$C38<>\"\",'Input & Report'!$C38,\"\")","v":""},{"$f":"IF(K59=\"\",\"\",RANK(K59,INDIRECT('Weibull Reliability Calculator'!$T$13),1))","v":""},"",{"$error":"#VALUE!"},{"$error":"#VALUE!"},{"$f":"J$14-(3*K$14)+(6*K$14)*(COUNT(K$23:K59)/COUNT(WeibullPlotData_AFTER[Cycles to failure]))","v":{"$error":"#DIV/0!"}},""]
[{"$f":"IF(WeibullPlotData_BEFORE[Cycles to failure]<>\"\",COUNT(B$23:B60),\"\")","v":""},{"$f":"IF('Input & Report'!$B39<>\"\",'Input & Report'!$B39,\"\")","v":""},{"$f":"IF(B60=\"\",\"\",RANK(B60,INDIRECT('Weibull Reliability Calculator'!$T$5),1))","v":""},"",{"$error":"#VALUE!"},{"$error":"#VALUE!"},{"$f":"IF(B60=\"\",\"\",G$14-(3*H$14)+(6*H$14)*(COUNT(B$23:B60)/COUNT(WeibullPlotData_BEFORE[Cycles to failure])))","v":""},"",null,{"$f":"IF(WeibullPlotData_AFTER[Cycles to failure]<>\"\",COUNT(K$23:K60),\"\")","v":""},{"$f":"IF('Input & Report'!$C39<>\"\",'Input & Report'!$C39,\"\")","v":""},{"$f":"IF(K60=\"\",\"\",RANK(K60,INDIRECT('Weibull Reliability Calculator'!$T$13),1))","v":""},"",{"$error":"#VALUE!"},{"$error":"#VALUE!"},{"$f":"J$14-(3*K$14)+(6*K$14)*(COUNT(K$23:K60)/COUNT(WeibullPlotData_AFTER[Cycles to failure]))","v":{"$error":"#DIV/0!"}},""]
[{"$f":"IF(WeibullPlotData_BEFORE[Cycles to failure]<>\"\",COUNT(B$23:B61),\"\")","v":""},{"$f":"IF('Input & Report'!$B40<>\"\",'Input & Report'!$B40,\"\")","v":""},{"$f":"IF(B61=\"\",\"\",RANK(B61,INDIRECT('Weibull Reliability Calculator'!$T$5),1))","v":""},"",{"$error":"#VALUE!"},{"$error":"#VALUE!"},{"$f":"IF(B61=\"\",\"\",G$14-(3*H$14)+(6*H$14)*(COUNT(B$23:B61)/COUNT(WeibullPlotData_BEFORE[Cycles to failure])))","v":""},"",null,{"$f":"IF(WeibullPlotData_AFTER[Cycles to failure]<>\"\",COUNT(K$23:K61),\"\")","v":""},{"$f":"IF('Input & Report'!$C40<>\"\",'Input & Report'!$C40,\"\")","v":""},{"$f":"IF(K61=\"\",\"\",RANK(K61,INDIRECT('Weibull Reliability Calculator'!$T$13),1))","v":""},"",{"$error":"#VALUE!"},{"$error":"#VALUE!"},{"$f":"J$14-(3*K$14)+(6*K$14)*(COUNT(K$23:K61)/COUNT(WeibullPlotData_AFTER[Cycles to failure]))","v":{"$error":"#DIV/0!"}},""]
[{"$f":"IF(WeibullPlotData_BEFORE[Cycles to failure]<>\"\",COUNT(B$23:B62),\"\")","v":""},{"$f":"IF('Input & Report'!$B41<>\"\",'Input & Report'!$B41,\"\")","v":""},{"$f":"IF(B62=\"\",\"\",RANK(B62,INDIRECT('Weibull Reliability Calculator'!$T$5),1))","v":""},"",{"$error":"#VALUE!"},{"$error":"#VALUE!"},{"$f":"IF(B62=\"\",\"\",G$14-(3*H$14)+(6*H$14)*(COUNT(B$23:B62)/COUNT(WeibullPlotData_BEFORE[Cycles to failure])))","v":""},"",null,{"$f":"IF(WeibullPlotData_AFTER[Cycles to failure]<>\"\",COUNT(K$23:K62),\"\")","v":""},{"$f":"IF('Input & Report'!$C41<>\"\",'Input & Report'!$C41,\"\")","v":""},{"$f":"IF(K62=\"\",\"\",RANK(K62,INDIRECT('Weibull Reliability Calculator'!$T$13),1))","v":""},"",{"$error":"#VALUE!"},{"$error":"#VALUE!"},{"$f":"J$14-(3*K$14)+(6*K$14)*(COUNT(K$23:K62)/COUNT(WeibullPlotData_AFTER[Cycles to failure]))","v":{"$error":"#DIV/0!"}},""]
[{"$f":"IF(WeibullPlotData_BEFORE[Cycles to failure]<>\"\",COUNT(B$23:B63),\"\")","v":""},{"$f":"IF('Input & Report'!$B42<>\"\",'Input & Report'!$B42,\"\")","v":""},{"$f":"IF(B63=\"\",\"\",RANK(B63,INDIRECT('Weibull Reliability Calculator'!$T$5),1))","v":""},"",{"$error":"#VALUE!"},{"$error":"#VALUE!"},{"$f":"IF(B63=\"\",\"\",G$14-(3*H$14)+(6*H$14)*(COUNT(B$23:B63)/COUNT(WeibullPlotData_BEFORE[Cycles to failure])))","v":""},"",null,{"$f":"IF(WeibullPlotData_AFTER[Cycles to failure]<>\"\",COUNT(K$23:K63),\"\")","v":""},{"$f":"IF('Input & Report'!$C42<>\"\",'Input & Report'!$C42,\"\")","v":""},{"$f":"IF(K63=\"\",\"\",RANK(K63,INDIRECT('Weibull Reliability Calculator'!$T$13),1))","v":""},"",{"$error":"#VALUE!"},{"$error":"#VALUE!"},{"$f":"J$14-(3*K$14)+(6*K$14)*(COUNT(K$23:K63)/COUNT(WeibullPlotData_AFTER[Cycles to failure]))","v":{"$error":"#DIV/0!"}},""]
[{"$f":"IF(WeibullPlotData_BEFORE[Cycles to failure]<>\"\",COUNT(B$23:B64),\"\")","v":""},{"$f":"IF('Input & Report'!$B43<>\"\",'Input & Report'!$B43,\"\")","v":""},{"$f":"IF(B64=\"\",\"\",RANK(B64,INDIRECT('Weibull Reliability Calculator'!$T$5),1))","v":""},"",{"$error":"#VALUE!"},{"$error":"#VALUE!"},{"$f":"IF(B64=\"\",\"\",G$14-(3*H$14)+(6*H$14)*(COUNT(B$23:B64)/COUNT(WeibullPlotData_BEFORE[Cycles to failure])))","v":""},"",null,{"$f":"IF(WeibullPlotData_AFTER[Cycles to failure]<>\"\",COUNT(K$23:K64),\"\")","v":""},{"$f":"IF('Input & Report'!$C43<>\"\",'Input & Report'!$C43,\"\")","v":""},{"$f":"IF(K64=\"\",\"\",RANK(K64,INDIRECT('Weibull Reliability Calculator'!$T$13),1))","v":""},"",{"$error":"#VALUE!"},{"$error":"#VALUE!"},{"$f":"J$14-(3*K$14)+(6*K$14)*(COUNT(K$23:K64)/COUNT(WeibullPlotData_AFTER[Cycles to failure]))","v":{"$error":"#DIV/0!"}},""]
[{"$f":"IF(WeibullPlotData_BEFORE[Cycles to failure]<>\"\",COUNT(B$23:B65),\"\")","v":""},{"$f":"IF('Input & Report'!$B44<>\"\",'Input & Report'!$B44,\"\")","v":""},{"$f":"IF(B65=\"\",\"\",RANK(B65,INDIRECT('Weibull Reliability Calculator'!$T$5),1))","v":""},"",{"$error":"#VALUE!"},{"$error":"#VALUE!"},{"$f":"IF(B65=\"\",\"\",G$14-(3*H$14)+(6*H$14)*(COUNT(B$23:B65)/COUNT(WeibullPlotData_BEFORE[Cycles to failure])))","v":""},"",null,{"$f":"IF(WeibullPlotData_AFTER[Cycles to failure]<>\"\",COUNT(K$23:K65),\"\")","v":""},{"$f":"IF('Input & Report'!$C44<>\"\",'Input & Report'!$C44,\"\")","v":""},{"$f":"IF(K65=\"\",\"\",RANK(K65,INDIRECT('Weibull Reliability Calculator'!$T$13),1))","v":""},"",{"$error":"#VALUE!"},{"$error":"#VALUE!"},{"$f":"J$14-(3*K$14)+(6*K$14)*(COUNT(K$23:K65)/COUNT(WeibullPlotData_AFTER[Cycles to failure]))","v":{"$error":"#DIV/0!"}},""]
[{"$f":"IF(WeibullPlotData_BEFORE[Cycles to failure]<>\"\",COUNT(B$23:B66),\"\")","v":""},{"$f":"IF('Input & Report'!$B45<>\"\",'Input & Report'!$B45,\"\")","v":""},{"$f":"IF(B66=\"\",\"\",RANK(B66,INDIRECT('Weibull Reliability Calculator'!$T$5),1))","v":""},"",{"$error":"#VALUE!"},{"$error":"#VALUE!"},{"$f":"IF(B66=\"\",\"\",G$14-(3*H$14)+(6*H$14)*(COUNT(B$23:B66)/COUNT(WeibullPlotData_BEFORE[Cycles to failure])))","v":""},"",null,{"$f":"IF(WeibullPlotData_AFTER[Cycles to failure]<>\"\",COUNT(K$23:K66),\"\")","v":""},{"$f":"IF('Input & Report'!$C45<>\"\",'Input & Report'!$C45,\"\")","v":""},{"$f":"IF(K66=\"\",\"\",RANK(K66,INDIRECT('Weibull Reliability Calculator'!$T$13),1))","v":""},"",{"$error":"#VALUE!"},{"$error":"#VALUE!"},{"$f":"J$14-(3*K$14)+(6*K$14)*(COUNT(K$23:K66)/COUNT(WeibullPlotData_AFTER[Cycles to failure]))","v":{"$error":"#DIV/0!"}},""]
[{"$f":"IF(WeibullPlotData_BEFORE[Cycles to failure]<>\"\",COUNT(B$23:B67),\"\")","v":""},{"$f":"IF('Input & Report'!$B46<>\"\",'Input & Report'!$B46,\"\")","v":""},{"$f":"IF(B67=\"\",\"\",RANK(B67,INDIRECT('Weibull Reliability Calculator'!$T$5),1))","v":""},"",{"$error":"#VALUE!"},{"$error":"#VALUE!"},{"$f":"IF(B67=\"\",\"\",G$14-(3*H$14)+(6*H$14)*(COUNT(B$23:B67)/COUNT(WeibullPlotData_BEFORE[Cycles to failure])))","v":""},"",null,{"$f":"IF(WeibullPlotData_AFTER[Cycles to failure]<>\"\",COUNT(K$23:K67),\"\")","v":""},{"$f":"IF('Input & Report'!$C46<>\"\",'Input & Report'!$C46,\"\")","v":""},{"$f":"IF(K67=\"\",\"\",RANK(K67,INDIRECT('Weibull Reliability Calculator'!$T$13),1))","v":""},"",{"$error":"#VALUE!"},{"$error":"#VALUE!"},{"$f":"J$14-(3*K$14)+(6*K$14)*(COUNT(K$23:K67)/COUNT(WeibullPlotData_AFTER[Cycles to failure]))","v":{"$error":"#DIV/0!"}},""]
[{"$f":"IF(WeibullPlotData_BEFORE[Cycles to failure]<>\"\",COUNT(B$23:B68),\"\")","v":""},{"$f":"IF('Input & Report'!$B47<>\"\",'Input & Report'!$B47,\"\")","v":""},{"$f":"IF(B68=\"\",\"\",RANK(B68,INDIRECT('Weibull Reliability Calculator'!$T$5),1))","v":""},"",{"$error":"#VALUE!"},{"$error":"#VALUE!"},{"$f":"IF(B68=\"\",\"\",G$14-(3*H$14)+(6*H$14)*(COUNT(B$23:B68)/COUNT(WeibullPlotData_BEFORE[Cycles to failure])))","v":""},"",null,{"$f":"IF(WeibullPlotData_AFTER[Cycles to failure]<>\"\",COUNT(K$23:K68),\"\")","v":""},{"$f":"IF('Input & Report'!$C47<>\"\",'Input & Report'!$C47,\"\")","v":""},{"$f":"IF(K68=\"\",\"\",RANK(K68,INDIRECT('Weibull Reliability Calculator'!$T$13),1))","v":""},"",{"$error":"#VALUE!"},{"$error":"#VALUE!"},{"$f":"J$14-(3*K$14)+(6*K$14)*(COUNT(K$23:K68)/COUNT(WeibullPlotData_AFTER[Cycles to failure]))","v":{"$error":"#DIV/0!"}},""]
[{"$f":"IF(WeibullPlotData_BEFORE[Cycles to failure]<>\"\",COUNT(B$23:B69),\"\")","v":""},{"$f":"IF('Input & Report'!$B48<>\"\",'Input & Report'!$B48,\"\")","v":""},{"$f":"IF(B69=\"\",\"\",RANK(B69,INDIRECT('Weibull Reliability Calculator'!$T$5),1))","v":""},"",{"$error":"#VALUE!"},{"$error":"#VALUE!"},{"$f":"IF(B69=\"\",\"\",G$14-(3*H$14)+(6*H$14)*(COUNT(B$23:B69)/COUNT(WeibullPlotData_BEFORE[Cycles to failure])))","v":""},"",null,{"$f":"IF(WeibullPlotData_AFTER[Cycles to failure]<>\"\",COUNT(K$23:K69),\"\")","v":""},{"$f":"IF('Input & Report'!$C48<>\"\",'Input & Report'!$C48,\"\")","v":""},{"$f":"IF(K69=\"\",\"\",RANK(K69,INDIRECT('Weibull Reliability Calculator'!$T$13),1))","v":""},"",{"$error":"#VALUE!"},{"$error":"#VALUE!"},{"$f":"J$14-(3*K$14)+(6*K$14)*(COUNT(K$23:K69)/COUNT(WeibullPlotData_AFTER[Cycles to failure]))","v":{"$error":"#DIV/0!"}},""]
[{"$f":"IF(WeibullPlotData_BEFORE[Cycles to failure]<>\"\",COUNT(B$23:B70),\"\")","v":""},{"$f":"IF('Input & Report'!$B49<>\"\",'Input & Report'!$B49,\"\")","v":""},{"$f":"IF(B70=\"\",\"\",RANK(B70,INDIRECT('Weibull Reliability Calculator'!$T$5),1))","v":""},"",{"$error":"#VALUE!"},{"$error":"#VALUE!"},{"$f":"IF(B70=\"\",\"\",G$14-(3*H$14)+(6*H$14)*(COUNT(B$23:B70)/COUNT(WeibullPlotData_BEFORE[Cycles to failure])))","v":""},"",null,{"$f":"IF(WeibullPlotData_AFTER[Cycles to failure]<>\"\",COUNT(K$23:K70),\"\")","v":""},{"$f":"IF('Input & Report'!$C49<>\"\",'Input & Report'!$C49,\"\")","v":""},{"$f":"IF(K70=\"\",\"\",RANK(K70,INDIRECT('Weibull Reliability Calculator'!$T$13),1))","v":""},"",{"$error":"#VALUE!"},{"$error":"#VALUE!"},{"$f":"J$14-(3*K$14)+(6*K$14)*(COUNT(K$23:K70)/COUNT(WeibullPlotData_AFTER[Cycles to failure]))","v":{"$error":"#DIV/0!"}},""]
[{"$f":"IF(WeibullPlotData_BEFORE[Cycles to failure]<>\"\",COUNT(B$23:B71),\"\")","v":""},{"$f":"IF('Input & Report'!$B50<>\"\",'Input & Report'!$B50,\"\")","v":""},{"$f":"IF(B71=\"\",\"\",RANK(B71,INDIRECT('Weibull Reliability Calculator'!$T$5),1))","v":""},"",{"$error":"#VALUE!"},{"$error":"#VALUE!"},{"$f":"IF(B71=\"\",\"\",G$14-(3*H$14)+(6*H$14)*(COUNT(B$23:B71)/COUNT(WeibullPlotData_BEFORE[Cycles to failure])))","v":""},"",null,{"$f":"IF(WeibullPlotData_AFTER[Cycles to failure]<>\"\",COUNT(K$23:K71),\"\")","v":""},{"$f":"IF('Input & Report'!$C50<>\"\",'Input & Report'!$C50,\"\")","v":""},{"$f":"IF(K71=\"\",\"\",RANK(K71,INDIRECT('Weibull Reliability Calculator'!$T$13),1))","v":""},"",{"$error":"#VALUE!"},{"$error":"#VALUE!"},{"$f":"J$14-(3*K$14)+(6*K$14)*(COUNT(K$23:K71)/COUNT(WeibullPlotData_AFTER[Cycles to failure]))","v":{"$error":"#DIV/0!"}},""]
[{"$f":"IF(WeibullPlotData_BEFORE[Cycles to failure]<>\"\",COUNT(B$23:B72),\"\")","v":""},{"$f":"IF('Input & Report'!$B51<>\"\",'Input & Report'!$B51,\"\")","v":""},{"$f":"IF(B72=\"\",\"\",RANK(B72,INDIRECT('Weibull Reliability Calculator'!$T$5),1))","v":""},"",{"$error":"#VALUE!"},{"$error":"#VALUE!"},{"$f":"IF(B72=\"\",\"\",G$14-(3*H$14)+(6*H$14)*(COUNT(B$23:B72)/COUNT(WeibullPlotData_BEFORE[Cycles to failure])))","v":""},"",null,{"$f":"IF(WeibullPlotData_AFTER[Cycles to failure]<>\"\",COUNT(K$23:K72),\"\")","v":""},{"$f":"IF('Input & Report'!$C51<>\"\",'Input & Report'!$C51,\"\")","v":""},{"$f":"IF(K72=\"\",\"\",RANK(K72,INDIRECT('Weibull Reliability Calculator'!$T$13),1))","v":""},"",{"$error":"#VALUE!"},{"$error":"#VALUE!"},{"$f":"J$14-(3*K$14)+(6*K$14)*(COUNT(K$23:K72)/COUNT(WeibullPlotData_AFTER[Cycles to failure]))","v":{"$error":"#DIV/0!"}},""]
[{"$f":"IF(WeibullPlotData_BEFORE[Cycles to failure]<>\"\",COUNT(B$23:B73),\"\")","v":""},{"$f":"IF('Input & Report'!$B52<>\"\",'Input & Report'!$B52,\"\")","v":""},{"$f":"IF(B73=\"\",\"\",RANK(B73,INDIRECT('Weibull Reliability Calculator'!$T$5),1))","v":""},"",{"$error":"#VALUE!"},{"$error":"#VALUE!"},{"$f":"IF(B73=\"\",\"\",G$14-(3*H$14)+(6*H$14)*(COUNT(B$23:B73)/COUNT(WeibullPlotData_BEFORE[Cycles to failure])))","v":""},"",null,{"$f":"IF(WeibullPlotData_AFTER[Cycles to failure]<>\"\",COUNT(K$23:K73),\"\")","v":""},{"$f":"IF('Input & Report'!$C52<>\"\",'Input & Report'!$C52,\"\")","v":""},{"$f":"IF(K73=\"\",\"\",RANK(K73,INDIRECT('Weibull Reliability Calculator'!$T$13),1))","v":""},"",{"$error":"#VALUE!"},{"$error":"#VALUE!"},{"$f":"J$14-(3*K$14)+(6*K$14)*(COUNT(K$23:K73)/COUNT(WeibullPlotData_AFTER[Cycles to failure]))","v":{"$error":"#DIV/0!"}},""]
[{"$f":"IF(WeibullPlotData_BEFORE[Cycles to failure]<>\"\",COUNT(B$23:B74),\"\")","v":""},{"$f":"IF('Input & Report'!$B53<>\"\",'Input & Report'!$B53,\"\")","v":""},{"$f":"IF(B74=\"\",\"\",RANK(B74,INDIRECT('Weibull Reliability Calculator'!$T$5),1))","v":""},"",{"$error":"#VALUE!"},{"$error":"#VALUE!"},{"$f":"IF(B74=\"\",\"\",G$14-(3*H$14)+(6*H$14)*(COUNT(B$23:B74)/COUNT(WeibullPlotData_BEFORE[Cycles to failure])))","v":""},"",null,{"$f":"IF(WeibullPlotData_AFTER[Cycles to failure]<>\"\",COUNT(K$23:K74),\"\")","v":""},{"$f":"IF('Input & Report'!$C53<>\"\",'Input & Report'!$C53,\"\")","v":""},{"$f":"IF(K74=\"\",\"\",RANK(K74,INDIRECT('Weibull Reliability Calculator'!$T$13),1))","v":""},"",{"$error":"#VALUE!"},{"$error":"#VALUE!"},{"$f":"J$14-(3*K$14)+(6*K$14)*(COUNT(K$23:K74)/COUNT(WeibullPlotData_AFTER[Cycles to failure]))","v":{"$error":"#DIV/0!"}},""]
[{"$f":"IF(WeibullPlotData_BEFORE[Cycles to failure]<>\"\",COUNT(B$23:B75),\"\")","v":""},{"$f":"IF('Input & Report'!$B54<>\"\",'Input & Report'!$B54,\"\")","v":""},{"$f":"IF(B75=\"\",\"\",RANK(B75,INDIRECT('Weibull Reliability Calculator'!$T$5),1))","v":""},"",{"$error":"#VALUE!"},{"$error":"#VALUE!"},{"$f":"IF(B75=\"\",\"\",G$14-(3*H$14)+(6*H$14)*(COUNT(B$23:B75)/COUNT(WeibullPlotData_BEFORE[Cycles to failure])))","v":""},"",null,{"$f":"IF(WeibullPlotData_AFTER[Cycles to failure]<>\"\",COUNT(K$23:K75),\"\")","v":""},{"$f":"IF('Input & Report'!$C54<>\"\",'Input & Report'!$C54,\"\")","v":""},{"$f":"IF(K75=\"\",\"\",RANK(K75,INDIRECT('Weibull Reliability Calculator'!$T$13),1))","v":""},"",{"$error":"#VALUE!"},{"$error":"#VALUE!"},{"$f":"J$14-(3*K$14)+(6*K$14)*(COUNT(K$23:K75)/COUNT(WeibullPlotData_AFTER[Cycles to failure]))","v":{"$error":"#DIV/0!"}},""]
[{"$f":"IF(WeibullPlotData_BEFORE[Cycles to failure]<>\"\",COUNT(B$23:B76),\"\")","v":""},{"$f":"IF('Input & Report'!$B55<>\"\",'Input & Report'!$B55,\"\")","v":""},{"$f":"IF(B76=\"\",\"\",RANK(B76,INDIRECT('Weibull Reliability Calculator'!$T$5),1))","v":""},"",{"$error":"#VALUE!"},{"$error":"#VALUE!"},{"$f":"IF(B76=\"\",\"\",G$14-(3*H$14)+(6*H$14)*(COUNT(B$23:B76)/COUNT(WeibullPlotData_BEFORE[Cycles to failure])))","v":""},"",null,{"$f":"IF(WeibullPlotData_AFTER[Cycles to failure]<>\"\",COUNT(K$23:K76),\"\")","v":""},{"$f":"IF('Input & Report'!$C55<>\"\",'Input & Report'!$C55,\"\")","v":""},{"$f":"IF(K76=\"\",\"\",RANK(K76,INDIRECT('Weibull Reliability Calculator'!$T$13),1))","v":""},"",{"$error":"#VALUE!"},{"$error":"#VALUE!"},{"$f":"J$14-(3*K$14)+(6*K$14)*(COUNT(K$23:K76)/COUNT(WeibullPlotData_AFTER[Cycles to failure]))","v":{"$error":"#DIV/0!"}},""]
[{"$f":"IF(WeibullPlotData_BEFORE[Cycles to failure]<>\"\",COUNT(B$23:B77),\"\")","v":""},{"$f":"IF('Input & Report'!$B56<>\"\",'Input & Report'!$B56,\"\")","v":""},{"$f":"IF(B77=\"\",\"\",RANK(B77,INDIRECT('Weibull Reliability Calculator'!$T$5),1))","v":""},"",{"$error":"#VALUE!"},{"$error":"#VALUE!"},{"$f":"IF(B77=\"\",\"\",G$14-(3*H$14)+(6*H$14)*(COUNT(B$23:B77)/COUNT(WeibullPlotData_BEFORE[Cycles to failure])))","v":""},"",null,{"$f":"IF(WeibullPlotData_AFTER[Cycles to failure]<>\"\",COUNT(K$23:K77),\"\")","v":""},{"$f":"IF('Input & Report'!$C56<>\"\",'Input & Report'!$C56,\"\")","v":""},{"$f":"IF(K77=\"\",\"\",RANK(K77,INDIRECT('Weibull Reliability Calculator'!$T$13),1))","v":""},"",{"$error":"#VALUE!"},{"$error":"#VALUE!"},{"$f":"J$14-(3*K$14)+(6*K$14)*(COUNT(K$23:K77)/COUNT(WeibullPlotData_AFTER[Cycles to failure]))","v":{"$error":"#DIV/0!"}},""]
[{"$f":"IF(WeibullPlotData_BEFORE[Cycles to failure]<>\"\",COUNT(B$23:B78),\"\")","v":""},{"$f":"IF('Input & Report'!$B57<>\"\",'Input & Report'!$B57,\"\")","v":""},{"$f":"IF(B78=\"\",\"\",RANK(B78,INDIRECT('Weibull Reliability Calculator'!$T$5),1))","v":""},"",{"$error":"#VALUE!"},{"$error":"#VALUE!"},{"$f":"IF(B78=\"\",\"\",G$14-(3*H$14)+(6*H$14)*(COUNT(B$23:B78)/COUNT(WeibullPlotData_BEFORE[Cycles to failure])))","v":""},"",null,{"$f":"IF(WeibullPlotData_AFTER[Cycles to failure]<>\"\",COUNT(K$23:K78),\"\")","v":""},{"$f":"IF('Input & Report'!$C57<>\"\",'Input & Report'!$C57,\"\")","v":""},{"$f":"IF(K78=\"\",\"\",RANK(K78,INDIRECT('Weibull Reliability Calculator'!$T$13),1))","v":""},"",{"$error":"#VALUE!"},{"$error":"#VALUE!"},{"$f":"J$14-(3*K$14)+(6*K$14)*(COUNT(K$23:K78)/COUNT(WeibullPlotData_AFTER[Cycles to failure]))","v":{"$error":"#DIV/0!"}},""]
[{"$f":"IF(WeibullPlotData_BEFORE[Cycles to failure]<>\"\",COUNT(B$23:B79),\"\")","v":""},{"$f":"IF('Input & Report'!$B58<>\"\",'Input & Report'!$B58,\"\")","v":""},{"$f":"IF(B79=\"\",\"\",RANK(B79,INDIRECT('Weibull Reliability Calculator'!$T$5),1))","v":""},"",{"$error":"#VALUE!"},{"$error":"#VALUE!"},{"$f":"IF(B79=\"\",\"\",G$14-(3*H$14)+(6*H$14)*(COUNT(B$23:B79)/COUNT(WeibullPlotData_BEFORE[Cycles to failure])))","v":""},"",null,{"$f":"IF(WeibullPlotData_AFTER[Cycles to failure]<>\"\",COUNT(K$23:K79),\"\")","v":""},{"$f":"IF('Input & Report'!$C58<>\"\",'Input & Report'!$C58,\"\")","v":""},{"$f":"IF(K79=\"\",\"\",RANK(K79,INDIRECT('Weibull Reliability Calculator'!$T$13),1))","v":""},"",{"$error":"#VALUE!"},{"$error":"#VALUE!"},{"$f":"J$14-(3*K$14)+(6*K$14)*(COUNT(K$23:K79)/COUNT(WeibullPlotData_AFTER[Cycles to failure]))","v":{"$error":"#DIV/0!"}},""]
[{"$f":"IF(WeibullPlotData_BEFORE[Cycles to failure]<>\"\",COUNT(B$23:B80),\"\")","v":""},{"$f":"IF('Input & Report'!$B59<>\"\",'Input & Report'!$B59,\"\")","v":""},{"$f":"IF(B80=\"\",\"\",RANK(B80,INDIRECT('Weibull Reliability Calculator'!$T$5),1))","v":""},"",{"$error":"#VALUE!"},{"$error":"#VALUE!"},{"$f":"IF(B80=\"\",\"\",G$14-(3*H$14)+(6*H$14)*(COUNT(B$23:B80)/COUNT(WeibullPlotData_BEFORE[Cycles to failure])))","v":""},"",null,{"$f":"IF(WeibullPlotData_AFTER[Cycles to failure]<>\"\",COUNT(K$23:K80),\"\")","v":""},{"$f":"IF('Input & Report'!$C59<>\"\",'Input & Report'!$C59,\"\")","v":""},{"$f":"IF(K80=\"\",\"\",RANK(K80,INDIRECT('Weibull Reliability Calculator'!$T$13),1))","v":""},"",{"$error":"#VALUE!"},{"$error":"#VALUE!"},{"$f":"J$14-(3*K$14)+(6*K$14)*(COUNT(K$23:K80)/COUNT(WeibullPlotData_AFTER[Cycles to failure]))","v":{"$error":"#DIV/0!"}},""]
[{"$f":"IF(WeibullPlotData_BEFORE[Cycles to failure]<>\"\",COUNT(B$23:B81),\"\")","v":""},{"$f":"IF('Input & Report'!$B60<>\"\",'Input & Report'!$B60,\"\")","v":""},{"$f":"IF(B81=\"\",\"\",RANK(B81,INDIRECT('Weibull Reliability Calculator'!$T$5),1))","v":""},"",{"$error":"#VALUE!"},{"$error":"#VALUE!"},{"$f":"IF(B81=\"\",\"\",G$14-(3*H$14)+(6*H$14)*(COUNT(B$23:B81)/COUNT(WeibullPlotData_BEFORE[Cycles to failure])))","v":""},"",null,{"$f":"IF(WeibullPlotData_AFTER[Cycles to failure]<>\"\",COUNT(K$23:K81),\"\")","v":""},{"$f":"IF('Input & Report'!$C60<>\"\",'Input & Report'!$C60,\"\")","v":""},{"$f":"IF(K81=\"\",\"\",RANK(K81,INDIRECT('Weibull Reliability Calculator'!$T$13),1))","v":""},"",{"$error":"#VALUE!"},{"$error":"#VALUE!"},{"$f":"J$14-(3*K$14)+(6*K$14)*(COUNT(K$23:K81)/COUNT(WeibullPlotData_AFTER[Cycles to failure]))","v":{"$error":"#DIV/0!"}},""]
[{"$f":"IF(WeibullPlotData_BEFORE[Cycles to failure]<>\"\",COUNT(B$23:B82),\"\")","v":""},{"$f":"IF('Input & Report'!$B61<>\"\",'Input & Report'!$B61,\"\")","v":""},{"$f":"IF(B82=\"\",\"\",RANK(B82,INDIRECT('Weibull Reliability Calculator'!$T$5),1))","v":""},"",{"$error":"#VALUE!"},{"$error":"#VALUE!"},{"$f":"IF(B82=\"\",\"\",G$14-(3*H$14)+(6*H$14)*(COUNT(B$23:B82)/COUNT(WeibullPlotData_BEFORE[Cycles to failure])))","v":""},"",null,{"$f":"IF(WeibullPlotData_AFTER[Cycles to failure]<>\"\",COUNT(K$23:K82),\"\")","v":""},{"$f":"IF('Input & Report'!$C61<>\"\",'Input & Report'!$C61,\"\")","v":""},{"$f":"IF(K82=\"\",\"\",RANK(K82,INDIRECT('Weibull Reliability Calculator'!$T$13),1))","v":""},"",{"$error":"#VALUE!"},{"$error":"#VALUE!"},{"$f":"J$14-(3*K$14)+(6*K$14)*(COUNT(K$23:K82)/COUNT(WeibullPlotData_AFTER[Cycles to failure]))","v":{"$error":"#DIV/0!"}},""]
[{"$f":"IF(WeibullPlotData_BEFORE[Cycles to failure]<>\"\",COUNT(B$23:B83),\"\")","v":""},{"$f":"IF('Input & Report'!$B62<>\"\",'Input & Report'!$B62,\"\")","v":""},{"$f":"IF(B83=\"\",\"\",RANK(B83,INDIRECT('Weibull Reliability Calculator'!$T$5),1))","v":""},"",{"$error":"#VALUE!"},{"$error":"#VALUE!"},{"$f":"IF(B83=\"\",\"\",G$14-(3*H$14)+(6*H$14)*(COUNT(B$23:B83)/COUNT(WeibullPlotData_BEFORE[Cycles to failure])))","v":""},"",null,{"$f":"IF(WeibullPlotData_AFTER[Cycles to failure]<>\"\",COUNT(K$23:K83),\"\")","v":""},{"$f":"IF('Input & Report'!$C62<>\"\",'Input & Report'!$C62,\"\")","v":""},{"$f":"IF(K83=\"\",\"\",RANK(K83,INDIRECT('Weibull Reliability Calculator'!$T$13),1))","v":""},"",{"$error":"#VALUE!"},{"$error":"#VALUE!"},{"$f":"J$14-(3*K$14)+(6*K$14)*(COUNT(K$23:K83)/COUNT(WeibullPlotData_AFTER[Cycles to failure]))","v":{"$error":"#DIV/0!"}},""]
[{"$f":"IF(WeibullPlotData_BEFORE[Cycles to failure]<>\"\",COUNT(B$23:B84),\"\")","v":""},{"$f":"IF('Input & Report'!$B63<>\"\",'Input & Report'!$B63,\"\")","v":""},{"$f":"IF(B84=\"\",\"\",RANK(B84,INDIRECT('Weibull Reliability Calculator'!$T$5),1))","v":""},"",{"$error":"#VALUE!"},{"$error":"#VALUE!"},{"$f":"IF(B84=\"\",\"\",G$14-(3*H$14)+(6*H$14)*(COUNT(B$23:B84)/COUNT(WeibullPlotData_BEFORE[Cycles to failure])))","v":""},"",null,{"$f":"IF(WeibullPlotData_AFTER[Cycles to failure]<>\"\",COUNT(K$23:K84),\"\")","v":""},{"$f":"IF('Input & Report'!$C63<>\"\",'Input & Report'!$C63,\"\")","v":""},{"$f":"IF(K84=\"\",\"\",RANK(K84,INDIRECT('Weibull Reliability Calculator'!$T$13),1))","v":""},"",{"$error":"#VALUE!"},{"$error":"#VALUE!"},{"$f":"J$14-(3*K$14)+(6*K$14)*(COUNT(K$23:K84)/COUNT(WeibullPlotData_AFTER[Cycles to failure]))","v":{"$error":"#DIV/0!"}},""]
[{"$f":"IF(WeibullPlotData_BEFORE[Cycles to failure]<>\"\",COUNT(B$23:B85),\"\")","v":""},{"$f":"IF('Input & Report'!$B64<>\"\",'Input & Report'!$B64,\"\")","v":""},{"$f":"IF(B85=\"\",\"\",RANK(B85,INDIRECT('Weibull Reliability Calculator'!$T$5),1))","v":""},"",{"$error":"#VALUE!"},{"$error":"#VALUE!"},{"$f":"IF(B85=\"\",\"\",G$14-(3*H$14)+(6*H$14)*(COUNT(B$23:B85)/COUNT(WeibullPlotData_BEFORE[Cycles to failure])))","v":""},"",null,{"$f":"IF(WeibullPlotData_AFTER[Cycles to failure]<>\"\",COUNT(K$23:K85),\"\")","v":""},{"$f":"IF('Input & Report'!$C64<>\"\",'Input & Report'!$C64,\"\")","v":""},{"$f":"IF(K85=\"\",\"\",RANK(K85,INDIRECT('Weibull Reliability Calculator'!$T$13),1))","v":""},"",{"$error":"#VALUE!"},{"$error":"#VALUE!"},{"$f":"J$14-(3*K$14)+(6*K$14)*(COUNT(K$23:K85)/COUNT(WeibullPlotData_AFTER[Cycles to failure]))","v":{"$error":"#DIV/0!"}},""]
[{"$f":"IF(WeibullPlotData_BEFORE[Cycles to failure]<>\"\",COUNT(B$23:B86),\"\")","v":""},{"$f":"IF('Input & Report'!$B65<>\"\",'Input & Report'!$B65,\"\")","v":""},{"$f":"IF(B86=\"\",\"\",RANK(B86,INDIRECT('Weibull Reliability Calculator'!$T$5),1))","v":""},"",{"$error":"#VALUE!"},{"$error":"#VALUE!"},{"$f":"IF(B86=\"\",\"\",G$14-(3*H$14)+(6*H$14)*(COUNT(B$23:B86)/COUNT(WeibullPlotData_BEFORE[Cycles to failure])))","v":""},"",null,{"$f":"IF(WeibullPlotData_AFTER[Cycles to failure]<>\"\",COUNT(K$23:K86),\"\")","v":""},{"$f":"IF('Input & Report'!$C65<>\"\",'Input & Report'!$C65,\"\")","v":""},{"$f":"IF(K86=\"\",\"\",RANK(K86,INDIRECT('Weibull Reliability Calculator'!$T$13),1))","v":""},"",{"$error":"#VALUE!"},{"$error":"#VALUE!"},{"$f":"J$14-(3*K$14)+(6*K$14)*(COUNT(K$23:K86)/COUNT(WeibullPlotData_AFTER[Cycles to failure]))","v":{"$error":"#DIV/0!"}},""]
[{"$f":"IF(WeibullPlotData_BEFORE[Cycles to failure]<>\"\",COUNT(B$23:B87),\"\")","v":""},{"$f":"IF('Input & Report'!$B66<>\"\",'Input & Report'!$B66,\"\")","v":""},{"$f":"IF(B87=\"\",\"\",RANK(B87,INDIRECT('Weibull Reliability Calculator'!$T$5),1))","v":""},{"$f":"IF(B87=\"\",\"\",((C87-0.3)/($T$7+0.4)))","v":""},{"$error":"#VALUE!"},{"$error":"#VALUE!"},{"$f":"IF(B87=\"\",\"\",G$14-(3*H$14)+(6*H$14)*(COUNT(B$23:B87)/COUNT(WeibullPlotData_BEFORE[Cycles to failure])))","v":""},"",null,{"$f":"IF(WeibullPlotData_AFTER[Cycles to failure]<>\"\",COUNT(K$23:K87),\"\")","v":""},{"$f":"IF('Input & Report'!$C66<>\"\",'Input & Report'!$C66,\"\")","v":""},{"$f":"IF(K87=\"\",\"\",RANK(K87,INDIRECT('Weibull Reliability Calculator'!$T$13),1))","v":""},{"$f":"IF(K87=\"\",\"\",((L87-0.3)/($T$15+0.4)))","v":""},{"$error":"#VALUE!"},{"$error":"#VALUE!"},{"$f":"J$14-(3*K$14)+(6*K$14)*(COUNT(K$23:K87)/COUNT(WeibullPlotData_AFTER[Cycles to failure]))","v":{"$error":"#DIV/0!"}},{"$f":"IF(K87=\"\",\"\",NORMDIST(P87,J$14,K$14,FALSE))","v":""}]
[{"$f":"IF(WeibullPlotData_BEFORE[Cycles to failure]<>\"\",COUNT(B$23:B88),\"\")","v":""},{"$f":"IF('Input & Report'!$B67<>\"\",'Input & Report'!$B67,\"\")","v":""},{"$f":"IF(B88=\"\",\"\",RANK(B88,INDIRECT('Weibull Reliability Calculator'!$T$5),1))","v":""},"",{"$f":"LN(LN((1/(1-D88))))","v":{"$error":"#VALUE!"}},{"$f":"LN(B88)","v":{"$error":"#VALUE!"}},{"$f":"IF(B88=\"\",\"\",G$14-(3*H$14)+(6*H$14)*(COUNT(B$23:B88)/COUNT(WeibullPlotData_BEFORE[Cycles to failure])))","v":""},{"$f":"IF(B88=\"\",\"\",NORMDIST(G88,G$14,H$14,FALSE))","v":""},null,{"$f":"IF(WeibullPlotData_AFTER[Cycles to failure]<>\"\",COUNT(K$23:K88),\"\")","v":""},{"$f":"IF('Input & Report'!$C67<>\"\",'Input & Report'!$C67,\"\")","v":""},{"$f":"IF(K88=\"\",\"\",RANK(K88,INDIRECT('Weibull Reliability Calculator'!$T$13),1))","v":""},"",{"$f":"LN(LN((1/(1-M88))))","v":{"$error":"#VALUE!"}},{"$f":"LN(K88)","v":{"$error":"#VALUE!"}},{"$f":"J$14-(3*K$14)+(6*K$14)*(COUNT(K$23:K88)/COUNT(WeibullPlotData_AFTER[Cycles to failure]))","v":{"$error":"#DIV/0!"}},""]
[{"$f":"IF(WeibullPlotData_BEFORE[Cycles to failure]<>\"\",COUNT(B$23:B89),\"\")","v":""},{"$f":"IF('Input & Report'!$B68<>\"\",'Input & Report'!$B68,\"\")","v":""},{"$f":"IF(B89=\"\",\"\",RANK(B89,INDIRECT('Weibull Reliability Calculator'!$T$5),1))","v":""},"",{"$error":"#VALUE!"},{"$error":"#VALUE!"},{"$f":"IF(B89=\"\",\"\",G$14-(3*H$14)+(6*H$14)*(COUNT(B$23:B89)/COUNT(WeibullPlotData_BEFORE[Cycles to failure])))","v":""},"",null,{"$f":"IF(WeibullPlotData_AFTER[Cycles to failure]<>\"\",COUNT(K$23:K89),\"\")","v":""},{"$f":"IF('Input & Report'!$C68<>\"\",'Input & Report'!$C68,\"\")","v":""},{"$f":"IF(K89=\"\",\"\",RANK(K89,INDIRECT('Weibull Reliability Calculator'!$T$13),1))","v":""},"",{"$error":"#VALUE!"},{"$error":"#VALUE!"},{"$f":"J$14-(3*K$14)+(6*K$14)*(COUNT(K$23:K89)/COUNT(WeibullPlotData_AFTER[Cycles to failure]))","v":{"$error":"#DIV/0!"}},""]
[{"$f":"IF(WeibullPlotData_BEFORE[Cycles to failure]<>\"\",COUNT(B$23:B90),\"\")","v":""},{"$f":"IF('Input & Report'!$B69<>\"\",'Input & Report'!$B69,\"\")","v":""},{"$f":"IF(B90=\"\",\"\",RANK(B90,INDIRECT('Weibull Reliability Calculator'!$T$5),1))","v":""},"",{"$error":"#VALUE!"},{"$error":"#VALUE!"},{"$f":"IF(B90=\"\",\"\",G$14-(3*H$14)+(6*H$14)*(COUNT(B$23:B90)/COUNT(WeibullPlotData_BEFORE[Cycles to failure])))","v":""},"",null,{"$f":"IF(WeibullPlotData_AFTER[Cycles to failure]<>\"\",COUNT(K$23:K90),\"\")","v":""},{"$f":"IF('Input & Report'!$C69<>\"\",'Input & Report'!$C69,\"\")","v":""},{"$f":"IF(K90=\"\",\"\",RANK(K90,INDIRECT('Weibull Reliability Calculator'!$T$13),1))","v":""},"",{"$error":"#VALUE!"},{"$error":"#VALUE!"},{"$f":"J$14-(3*K$14)+(6*K$14)*(COUNT(K$23:K90)/COUNT(WeibullPlotData_AFTER[Cycles to failure]))","v":{"$error":"#DIV/0!"}},""]
[{"$f":"IF(WeibullPlotData_BEFORE[Cycles to failure]<>\"\",COUNT(B$23:B91),\"\")","v":""},{"$f":"IF('Input & Report'!$B70<>\"\",'Input & Report'!$B70,\"\")","v":""},{"$f":"IF(B91=\"\",\"\",RANK(B91,INDIRECT('Weibull Reliability Calculator'!$T$5),1))","v":""},"",{"$error":"#VALUE!"},{"$error":"#VALUE!"},{"$f":"IF(B91=\"\",\"\",G$14-(3*H$14)+(6*H$14)*(COUNT(B$23:B91)/COUNT(WeibullPlotData_BEFORE[Cycles to failure])))","v":""},"",null,{"$f":"IF(WeibullPlotData_AFTER[Cycles to failure]<>\"\",COUNT(K$23:K91),\"\")","v":""},{"$f":"IF('Input & Report'!$C70<>\"\",'Input & Report'!$C70,\"\")","v":""},{"$f":"IF(K91=\"\",\"\",RANK(K91,INDIRECT('Weibull Reliability Calculator'!$T$13),1))","v":""},"",{"$error":"#VALUE!"},{"$error":"#VALUE!"},{"$f":"J$14-(3*K$14)+(6*K$14)*(COUNT(K$23:K91)/COUNT(WeibullPlotData_AFTER[Cycles to failure]))","v":{"$error":"#DIV/0!"}},""]
[{"$f":"IF(WeibullPlotData_BEFORE[Cycles to failure]<>\"\",COUNT(B$23:B92),\"\")","v":""},{"$f":"IF('Input & Report'!$B71<>\"\",'Input & Report'!$B71,\"\")","v":""},{"$f":"IF(B92=\"\",\"\",RANK(B92,INDIRECT('Weibull Reliability Calculator'!$T$5),1))","v":""},"",{"$error":"#VALUE!"},{"$error":"#VALUE!"},{"$f":"IF(B92=\"\",\"\",G$14-(3*H$14)+(6*H$14)*(COUNT(B$23:B92)/COUNT(WeibullPlotData_BEFORE[Cycles to failure])))","v":""},"",null,{"$f":"IF(WeibullPlotData_AFTER[Cycles to failure]<>\"\",COUNT(K$23:K92),\"\")","v":""},{"$f":"IF('Input & Report'!$C71<>\"\",'Input & Report'!$C71,\"\")","v":""},{"$f":"IF(K92=\"\",\"\",RANK(K92,INDIRECT('Weibull Reliability Calculator'!$T$13),1))","v":""},"",{"$error":"#VALUE!"},{"$error":"#VALUE!"},{"$f":"J$14-(3*K$14)+(6*K$14)*(COUNT(K$23:K92)/COUNT(WeibullPlotData_AFTER[Cycles to failure]))","v":{"$error":"#DIV/0!"}},""]
[{"$f":"IF(WeibullPlotData_BEFORE[Cycles to failure]<>\"\",COUNT(B$23:B93),\"\")","v":""},{"$f":"IF('Input & Report'!$B72<>\"\",'Input & Report'!$B72,\"\")","v":""},{"$f":"IF(B93=\"\",\"\",RANK(B93,INDIRECT('Weibull Reliability Calculator'!$T$5),1))","v":""},"",{"$error":"#VALUE!"},{"$error":"#VALUE!"},{"$f":"IF(B93=\"\",\"\",G$14-(3*H$14)+(6*H$14)*(COUNT(B$23:B93)/COUNT(WeibullPlotData_BEFORE[Cycles to failure])))","v":""},"",null,{"$f":"IF(WeibullPlotData_AFTER[Cycles to failure]<>\"\",COUNT(K$23:K93),\"\")","v":""},{"$f":"IF('Input & Report'!$C72<>\"\",'Input & Report'!$C72,\"\")","v":""},{"$f":"IF(K93=\"\",\"\",RANK(K93,INDIRECT('Weibull Reliability Calculator'!$T$13),1))","v":""},"",{"$error":"#VALUE!"},{"$error":"#VALUE!"},{"$f":"J$14-(3*K$14)+(6*K$14)*(COUNT(K$23:K93)/COUNT(WeibullPlotData_AFTER[Cycles to failure]))","v":{"$error":"#DIV/0!"}},""]
[{"$f":"IF(WeibullPlotData_BEFORE[Cycles to failure]<>\"\",COUNT(B$23:B94),\"\")","v":""},{"$f":"IF('Input & Report'!$B73<>\"\",'Input & Report'!$B73,\"\")","v":""},{"$f":"IF(B94=\"\",\"\",RANK(B94,INDIRECT('Weibull Reliability Calculator'!$T$5),1))","v":""},"",{"$error":"#VALUE!"},{"$error":"#VALUE!"},{"$f":"IF(B94=\"\",\"\",G$14-(3*H$14)+(6*H$14)*(COUNT(B$23:B94)/COUNT(WeibullPlotData_BEFORE[Cycles to failure])))","v":""},"",null,{"$f":"IF(WeibullPlotData_AFTER[Cycles to failure]<>\"\",COUNT(K$23:K94),\"\")","v":""},{"$f":"IF('Input & Report'!$C73<>\"\",'Input & Report'!$C73,\"\")","v":""},{"$f":"IF(K94=\"\",\"\",RANK(K94,INDIRECT('Weibull Reliability Calculator'!$T$13),1))","v":""},"",{"$error":"#VALUE!"},{"$error":"#VALUE!"},{"$f":"J$14-(3*K$14)+(6*K$14)*(COUNT(K$23:K94)/COUNT(WeibullPlotData_AFTER[Cycles to failure]))","v":{"$error":"#DIV/0!"}},""]
[{"$f":"IF(WeibullPlotData_BEFORE[Cycles to failure]<>\"\",COUNT(B$23:B95),\"\")","v":""},{"$f":"IF('Input & Report'!$B74<>\"\",'Input & Report'!$B74,\"\")","v":""},{"$f":"IF(B95=\"\",\"\",RANK(B95,INDIRECT('Weibull Reliability Calculator'!$T$5),1))","v":""},"",{"$error":"#VALUE!"},{"$error":"#VALUE!"},{"$f":"IF(B95=\"\",\"\",G$14-(3*H$14)+(6*H$14)*(COUNT(B$23:B95)/COUNT(WeibullPlotData_BEFORE[Cycles to failure])))","v":""},"",null,{"$f":"IF(WeibullPlotData_AFTER[Cycles to failure]<>\"\",COUNT(K$23:K95),\"\")","v":""},{"$f":"IF('Input & Report'!$C74<>\"\",'Input & Report'!$C74,\"\")","v":""},{"$f":"IF(K95=\"\",\"\",RANK(K95,INDIRECT('Weibull Reliability Calculator'!$T$13),1))","v":""},"",{"$error":"#VALUE!"},{"$error":"#VALUE!"},{"$f":"J$14-(3*K$14)+(6*K$14)*(COUNT(K$23:K95)/COUNT(WeibullPlotData_AFTER[Cycles to failure]))","v":{"$error":"#DIV/0!"}},""]
[{"$f":"IF(WeibullPlotData_BEFORE[Cycles to failure]<>\"\",COUNT(B$23:B96),\"\")","v":""},{"$f":"IF('Input & Report'!$B75<>\"\",'Input & Report'!$B75,\"\")","v":""},{"$f":"IF(B96=\"\",\"\",RANK(B96,INDIRECT('Weibull Reliability Calculator'!$T$5),1))","v":""},"",{"$error":"#VALUE!"},{"$error":"#VALUE!"},{"$f":"IF(B96=\"\",\"\",G$14-(3*H$14)+(6*H$14)*(COUNT(B$23:B96)/COUNT(WeibullPlotData_BEFORE[Cycles to failure])))","v":""},"",null,{"$f":"IF(WeibullPlotData_AFTER[Cycles to failure]<>\"\",COUNT(K$23:K96),\"\")","v":""},{"$f":"IF('Input & Report'!$C75<>\"\",'Input & Report'!$C75,\"\")","v":""},{"$f":"IF(K96=\"\",\"\",RANK(K96,INDIRECT('Weibull Reliability Calculator'!$T$13),1))","v":""},"",{"$error":"#VALUE!"},{"$error":"#VALUE!"},{"$f":"J$14-(3*K$14)+(6*K$14)*(COUNT(K$23:K96)/COUNT(WeibullPlotData_AFTER[Cycles to failure]))","v":{"$error":"#DIV/0!"}},""]
[{"$f":"IF(WeibullPlotData_BEFORE[Cycles to failure]<>\"\",COUNT(B$23:B97),\"\")","v":""},{"$f":"IF('Input & Report'!$B76<>\"\",'Input & Report'!$B76,\"\")","v":""},{"$f":"IF(B97=\"\",\"\",RANK(B97,INDIRECT('Weibull Reliability Calculator'!$T$5),1))","v":""},"",{"$error":"#VALUE!"},{"$error":"#VALUE!"},{"$f":"IF(B97=\"\",\"\",G$14-(3*H$14)+(6*H$14)*(COUNT(B$23:B97)/COUNT(WeibullPlotData_BEFORE[Cycles to failure])))","v":""},"",null,{"$f":"IF(WeibullPlotData_AFTER[Cycles to failure]<>\"\",COUNT(K$23:K97),\"\")","v":""},{"$f":"IF('Input & Report'!$C76<>\"\",'Input & Report'!$C76,\"\")","v":""},{"$f":"IF(K97=\"\",\"\",RANK(K97,INDIRECT('Weibull Reliability Calculator'!$T$13),1))","v":""},"",{"$error":"#VALUE!"},{"$error":"#VALUE!"},{"$f":"J$14-(3*K$14)+(6*K$14)*(COUNT(K$23:K97)/COUNT(WeibullPlotData_AFTER[Cycles to failure]))","v":{"$error":"#DIV/0!"}},""]
[{"$f":"IF(WeibullPlotData_BEFORE[Cycles to failure]<>\"\",COUNT(B$23:B98),\"\")","v":""},{"$f":"IF('Input & Report'!$B77<>\"\",'Input & Report'!$B77,\"\")","v":""},{"$f":"IF(B98=\"\",\"\",RANK(B98,INDIRECT('Weibull Reliability Calculator'!$T$5),1))","v":""},"",{"$error":"#VALUE!"},{"$error":"#VALUE!"},{"$f":"IF(B98=\"\",\"\",G$14-(3*H$14)+(6*H$14)*(COUNT(B$23:B98)/COUNT(WeibullPlotData_BEFORE[Cycles to failure])))","v":""},"",null,{"$f":"IF(WeibullPlotData_AFTER[Cycles to failure]<>\"\",COUNT(K$23:K98),\"\")","v":""},{"$f":"IF('Input & Report'!$C77<>\"\",'Input & Report'!$C77,\"\")","v":""},{"$f":"IF(K98=\"\",\"\",RANK(K98,INDIRECT('Weibull Reliability Calculator'!$T$13),1))","v":""},"",{"$error":"#VALUE!"},{"$error":"#VALUE!"},{"$f":"J$14-(3*K$14)+(6*K$14)*(COUNT(K$23:K98)/COUNT(WeibullPlotData_AFTER[Cycles to failure]))","v":{"$error":"#DIV/0!"}},""]
[{"$f":"IF(WeibullPlotData_BEFORE[Cycles to failure]<>\"\",COUNT(B$23:B99),\"\")","v":""},{"$f":"IF('Input & Report'!$B78<>\"\",'Input & Report'!$B78,\"\")","v":""},{"$f":"IF(B99=\"\",\"\",RANK(B99,INDIRECT('Weibull Reliability Calculator'!$T$5),1))","v":""},"",{"$error":"#VALUE!"},{"$error":"#VALUE!"},{"$f":"IF(B99=\"\",\"\",G$14-(3*H$14)+(6*H$14)*(COUNT(B$23:B99)/COUNT(WeibullPlotData_BEFORE[Cycles to failure])))","v":""},"",null,{"$f":"IF(WeibullPlotData_AFTER[Cycles to failure]<>\"\",COUNT(K$23:K99),\"\")","v":""},{"$f":"IF('Input & Report'!$C78<>\"\",'Input & Report'!$C78,\"\")","v":""},{"$f":"IF(K99=\"\",\"\",RANK(K99,INDIRECT('Weibull Reliability Calculator'!$T$13),1))","v":""},"",{"$error":"#VALUE!"},{"$error":"#VALUE!"},{"$f":"J$14-(3*K$14)+(6*K$14)*(COUNT(K$23:K99)/COUNT(WeibullPlotData_AFTER[Cycles to failure]))","v":{"$error":"#DIV/0!"}},""]
[{"$f":"IF(WeibullPlotData_BEFORE[Cycles to failure]<>\"\",COUNT(B$23:B100),\"\")","v":""},{"$f":"IF('Input & Report'!$B79<>\"\",'Input & Report'!$B79,\"\")","v":""},{"$f":"IF(B100=\"\",\"\",RANK(B100,INDIRECT('Weibull Reliability Calculator'!$T$5),1))","v":""},"",{"$error":"#VALUE!"},{"$error":"#VALUE!"},{"$f":"IF(B100=\"\",\"\",G$14-(3*H$14)+(6*H$14)*(COUNT(B$23:B100)/COUNT(WeibullPlotData_BEFORE[Cycles to failure])))","v":""},"",null,{"$f":"IF(WeibullPlotData_AFTER[Cycles to failure]<>\"\",COUNT(K$23:K100),\"\")","v":""},{"$f":"IF('Input & Report'!$C79<>\"\",'Input & Report'!$C79,\"\")","v":""},{"$f":"IF(K100=\"\",\"\",RANK(K100,INDIRECT('Weibull Reliability Calculator'!$T$13),1))","v":""},"",{"$error":"#VALUE!"},{"$error":"#VALUE!"},{"$f":"J$14-(3*K$14)+(6*K$14)*(COUNT(K$23:K100)/COUNT(WeibullPlotData_AFTER[Cycles to failure]))","v":{"$error":"#DIV/0!"}},""]
[{"$f":"IF(WeibullPlotData_BEFORE[Cycles to failure]<>\"\",COUNT(B$23:B101),\"\")","v":""},{"$f":"IF('Input & Report'!$B80<>\"\",'Input & Report'!$B80,\"\")","v":""},{"$f":"IF(B101=\"\",\"\",RANK(B101,INDIRECT('Weibull Reliability Calculator'!$T$5),1))","v":""},"",{"$error":"#VALUE!"},{"$error":"#VALUE!"},{"$f":"IF(B101=\"\",\"\",G$14-(3*H$14)+(6*H$14)*(COUNT(B$23:B101)/COUNT(WeibullPlotData_BEFORE[Cycles to failure])))","v":""},"",null,{"$f":"IF(WeibullPlotData_AFTER[Cycles to failure]<>\"\",COUNT(K$23:K101),\"\")","v":""},{"$f":"IF('Input & Report'!$C80<>\"\",'Input & Report'!$C80,\"\")","v":""},{"$f":"IF(K101=\"\",\"\",RANK(K101,INDIRECT('Weibull Reliability Calculator'!$T$13),1))","v":""},"",{"$error":"#VALUE!"},{"$error":"#VALUE!"},{"$f":"J$14-(3*K$14)+(6*K$14)*(COUNT(K$23:K101)/COUNT(WeibullPlotData_AFTER[Cycles to failure]))","v":{"$error":"#DIV/0!"}},""]
[{"$f":"IF(WeibullPlotData_BEFORE[Cycles to failure]<>\"\",COUNT(B$23:B102),\"\")","v":""},{"$f":"IF('Input & Report'!$B81<>\"\",'Input & Report'!$B81,\"\")","v":""},{"$f":"IF(B102=\"\",\"\",RANK(B102,INDIRECT('Weibull Reliability Calculator'!$T$5),1))","v":""},"",{"$error":"#VALUE!"},{"$error":"#VALUE!"},{"$f":"IF(B102=\"\",\"\",G$14-(3*H$14)+(6*H$14)*(COUNT(B$23:B102)/COUNT(WeibullPlotData_BEFORE[Cycles to failure])))","v":""},"",null,{"$f":"IF(WeibullPlotData_AFTER[Cycles to failure]<>\"\",COUNT(K$23:K102),\"\")","v":""},{"$f":"IF('Input & Report'!$C81<>\"\",'Input & Report'!$C81,\"\")","v":""},{"$f":"IF(K102=\"\",\"\",RANK(K102,INDIRECT('Weibull Reliability Calculator'!$T$13),1))","v":""},"",{"$error":"#VALUE!"},{"$error":"#VALUE!"},{"$f":"J$14-(3*K$14)+(6*K$14)*(COUNT(K$23:K102)/COUNT(WeibullPlotData_AFTER[Cycles to failure]))","v":{"$error":"#DIV/0!"}},""]
[{"$f":"IF(WeibullPlotData_BEFORE[Cycles to failure]<>\"\",COUNT(B$23:B103),\"\")","v":""},{"$f":"IF('Input & Report'!$B82<>\"\",'Input & Report'!$B82,\"\")","v":""},{"$f":"IF(B103=\"\",\"\",RANK(B103,INDIRECT('Weibull Reliability Calculator'!$T$5),1))","v":""},"",{"$error":"#VALUE!"},{"$error":"#VALUE!"},{"$f":"IF(B103=\"\",\"\",G$14-(3*H$14)+(6*H$14)*(COUNT(B$23:B103)/COUNT(WeibullPlotData_BEFORE[Cycles to failure])))","v":""},"",null,{"$f":"IF(WeibullPlotData_AFTER[Cycles to failure]<>\"\",COUNT(K$23:K103),\"\")","v":""},{"$f":"IF('Input & Report'!$C82<>\"\",'Input & Report'!$C82,\"\")","v":""},{"$f":"IF(K103=\"\",\"\",RANK(K103,INDIRECT('Weibull Reliability Calculator'!$T$13),1))","v":""},"",{"$error":"#VALUE!"},{"$error":"#VALUE!"},{"$f":"J$14-(3*K$14)+(6*K$14)*(COUNT(K$23:K103)/COUNT(WeibullPlotData_AFTER[Cycles to failure]))","v":{"$error":"#DIV/0!"}},""]
[{"$f":"IF(WeibullPlotData_BEFORE[Cycles to failure]<>\"\",COUNT(B$23:B104),\"\")","v":""},{"$f":"IF('Input & Report'!$B83<>\"\",'Input & Report'!$B83,\"\")","v":""},{"$f":"IF(B104=\"\",\"\",RANK(B104,INDIRECT('Weibull Reliability Calculator'!$T$5),1))","v":""},"",{"$error":"#VALUE!"},{"$error":"#VALUE!"},{"$f":"IF(B104=\"\",\"\",G$14-(3*H$14)+(6*H$14)*(COUNT(B$23:B104)/COUNT(WeibullPlotData_BEFORE[Cycles to failure])))","v":""},"",null,{"$f":"IF(WeibullPlotData_AFTER[Cycles to failure]<>\"\",COUNT(K$23:K104),\"\")","v":""},{"$f":"IF('Input & Report'!$C83<>\"\",'Input & Report'!$C83,\"\")","v":""},{"$f":"IF(K104=\"\",\"\",RANK(K104,INDIRECT('Weibull Reliability Calculator'!$T$13),1))","v":""},"",{"$error":"#VALUE!"},{"$error":"#VALUE!"},{"$f":"J$14-(3*K$14)+(6*K$14)*(COUNT(K$23:K104)/COUNT(WeibullPlotData_AFTER[Cycles to failure]))","v":{"$error":"#DIV/0!"}},""]
[{"$f":"IF(WeibullPlotData_BEFORE[Cycles to failure]<>\"\",COUNT(B$23:B105),\"\")","v":""},{"$f":"IF('Input & Report'!$B84<>\"\",'Input & Report'!$B84,\"\")","v":""},{"$f":"IF(B105=\"\",\"\",RANK(B105,INDIRECT('Weibull Reliability Calculator'!$T$5),1))","v":""},"",{"$error":"#VALUE!"},{"$error":"#VALUE!"},{"$f":"IF(B105=\"\",\"\",G$14-(3*H$14)+(6*H$14)*(COUNT(B$23:B105)/COUNT(WeibullPlotData_BEFORE[Cycles to failure])))","v":""},"",null,{"$f":"IF(WeibullPlotData_AFTER[Cycles to failure]<>\"\",COUNT(K$23:K105),\"\")","v":""},{"$f":"IF('Input & Report'!$C84<>\"\",'Input & Report'!$C84,\"\")","v":""},{"$f":"IF(K105=\"\",\"\",RANK(K105,INDIRECT('Weibull Reliability Calculator'!$T$13),1))","v":""},"",{"$error":"#VALUE!"},{"$error":"#VALUE!"},{"$f":"J$14-(3*K$14)+(6*K$14)*(COUNT(K$23:K105)/COUNT(WeibullPlotData_AFTER[Cycles to failure]))","v":{"$error":"#DIV/0!"}},""]
[{"$f":"IF(WeibullPlotData_BEFORE[Cycles to failure]<>\"\",COUNT(B$23:B106),\"\")","v":""},{"$f":"IF('Input & Report'!$B85<>\"\",'Input & Report'!$B85,\"\")","v":""},{"$f":"IF(B106=\"\",\"\",RANK(B106,INDIRECT('Weibull Reliability Calculator'!$T$5),1))","v":""},"",{"$error":"#VALUE!"},{"$error":"#VALUE!"},{"$f":"IF(B106=\"\",\"\",G$14-(3*H$14)+(6*H$14)*(COUNT(B$23:B106)/COUNT(WeibullPlotData_BEFORE[Cycles to failure])))","v":""},"",null,{"$f":"IF(WeibullPlotData_AFTER[Cycles to failure]<>\"\",COUNT(K$23:K106),\"\")","v":""},{"$f":"IF('Input & Report'!$C85<>\"\",'Input & Report'!$C85,\"\")","v":""},{"$f":"IF(K106=\"\",\"\",RANK(K106,INDIRECT('Weibull Reliability Calculator'!$T$13),1))","v":""},"",{"$error":"#VALUE!"},{"$error":"#VALUE!"},{"$f":"J$14-(3*K$14)+(6*K$14)*(COUNT(K$23:K106)/COUNT(WeibullPlotData_AFTER[Cycles to failure]))","v":{"$error":"#DIV/0!"}},""]
[{"$f":"IF(WeibullPlotData_BEFORE[Cycles to failure]<>\"\",COUNT(B$23:B107),\"\")","v":""},{"$f":"IF('Input & Report'!$B86<>\"\",'Input & Report'!$B86,\"\")","v":""},{"$f":"IF(B107=\"\",\"\",RANK(B107,INDIRECT('Weibull Reliability Calculator'!$T$5),1))","v":""},"",{"$error":"#VALUE!"},{"$error":"#VALUE!"},{"$f":"IF(B107=\"\",\"\",G$14-(3*H$14)+(6*H$14)*(COUNT(B$23:B107)/COUNT(WeibullPlotData_BEFORE[Cycles to failure])))","v":""},"",null,{"$f":"IF(WeibullPlotData_AFTER[Cycles to failure]<>\"\",COUNT(K$23:K107),\"\")","v":""},{"$f":"IF('Input & Report'!$C86<>\"\",'Input & Report'!$C86,\"\")","v":""},{"$f":"IF(K107=\"\",\"\",RANK(K107,INDIRECT('Weibull Reliability Calculator'!$T$13),1))","v":""},"",{"$error":"#VALUE!"},{"$error":"#VALUE!"},{"$f":"J$14-(3*K$14)+(6*K$14)*(COUNT(K$23:K107)/COUNT(WeibullPlotData_AFTER[Cycles to failure]))","v":{"$error":"#DIV/0!"}},""]
[{"$f":"IF(WeibullPlotData_BEFORE[Cycles to failure]<>\"\",COUNT(B$23:B108),\"\")","v":""},{"$f":"IF('Input & Report'!$B87<>\"\",'Input & Report'!$B87,\"\")","v":""},{"$f":"IF(B108=\"\",\"\",RANK(B108,INDIRECT('Weibull Reliability Calculator'!$T$5),1))","v":""},"",{"$error":"#VALUE!"},{"$error":"#VALUE!"},{"$f":"IF(B108=\"\",\"\",G$14-(3*H$14)+(6*H$14)*(COUNT(B$23:B108)/COUNT(WeibullPlotData_BEFORE[Cycles to failure])))","v":""},"",null,{"$f":"IF(WeibullPlotData_AFTER[Cycles to failure]<>\"\",COUNT(K$23:K108),\"\")","v":""},{"$f":"IF('Input & Report'!$C87<>\"\",'Input & Report'!$C87,\"\")","v":""},{"$f":"IF(K108=\"\",\"\",RANK(K108,INDIRECT('Weibull Reliability Calculator'!$T$13),1))","v":""},"",{"$error":"#VALUE!"},{"$error":"#VALUE!"},{"$f":"J$14-(3*K$14)+(6*K$14)*(COUNT(K$23:K108)/COUNT(WeibullPlotData_AFTER[Cycles to failure]))","v":{"$error":"#DIV/0!"}},""]
[{"$f":"IF(WeibullPlotData_BEFORE[Cycles to failure]<>\"\",COUNT(B$23:B109),\"\")","v":""},{"$f":"IF('Input & Report'!$B88<>\"\",'Input & Report'!$B88,\"\")","v":""},{"$f":"IF(B109=\"\",\"\",RANK(B109,INDIRECT('Weibull Reliability Calculator'!$T$5),1))","v":""},"",{"$error":"#VALUE!"},{"$error":"#VALUE!"},{"$f":"IF(B109=\"\",\"\",G$14-(3*H$14)+(6*H$14)*(COUNT(B$23:B109)/COUNT(WeibullPlotData_BEFORE[Cycles to failure])))","v":""},"",null,{"$f":"IF(WeibullPlotData_AFTER[Cycles to failure]<>\"\",COUNT(K$23:K109),\"\")","v":""},{"$f":"IF('Input & Report'!$C88<>\"\",'Input & Report'!$C88,\"\")","v":""},{"$f":"IF(K109=\"\",\"\",RANK(K109,INDIRECT('Weibull Reliability Calculator'!$T$13),1))","v":""},"",{"$error":"#VALUE!"},{"$error":"#VALUE!"},{"$f":"J$14-(3*K$14)+(6*K$14)*(COUNT(K$23:K109)/COUNT(WeibullPlotData_AFTER[Cycles to failure]))","v":{"$error":"#DIV/0!"}},""]
[{"$f":"IF(WeibullPlotData_BEFORE[Cycles to failure]<>\"\",COUNT(B$23:B110),\"\")","v":""},{"$f":"IF('Input & Report'!$B89<>\"\",'Input & Report'!$B89,\"\")","v":""},{"$f":"IF(B110=\"\",\"\",RANK(B110,INDIRECT('Weibull Reliability Calculator'!$T$5),1))","v":""},"",{"$error":"#VALUE!"},{"$error":"#VALUE!"},{"$f":"IF(B110=\"\",\"\",G$14-(3*H$14)+(6*H$14)*(COUNT(B$23:B110)/COUNT(WeibullPlotData_BEFORE[Cycles to failure])))","v":""},"",null,{"$f":"IF(WeibullPlotData_AFTER[Cycles to failure]<>\"\",COUNT(K$23:K110),\"\")","v":""},{"$f":"IF('Input & Report'!$C89<>\"\",'Input & Report'!$C89,\"\")","v":""},{"$f":"IF(K110=\"\",\"\",RANK(K110,INDIRECT('Weibull Reliability Calculator'!$T$13),1))","v":""},"",{"$error":"#VALUE!"},{"$error":"#VALUE!"},{"$f":"J$14-(3*K$14)+(6*K$14)*(COUNT(K$23:K110)/COUNT(WeibullPlotData_AFTER[Cycles to failure]))","v":{"$error":"#DIV/0!"}},""]
[{"$f":"IF(WeibullPlotData_BEFORE[Cycles to failure]<>\"\",COUNT(B$23:B111),\"\")","v":""},{"$f":"IF('Input & Report'!$B90<>\"\",'Input & Report'!$B90,\"\")","v":""},{"$f":"IF(B111=\"\",\"\",RANK(B111,INDIRECT('Weibull Reliability Calculator'!$T$5),1))","v":""},"",{"$error":"#VALUE!"},{"$error":"#VALUE!"},{"$f":"IF(B111=\"\",\"\",G$14-(3*H$14)+(6*H$14)*(COUNT(B$23:B111)/COUNT(WeibullPlotData_BEFORE[Cycles to failure])))","v":""},"",null,{"$f":"IF(WeibullPlotData_AFTER[Cycles to failure]<>\"\",COUNT(K$23:K111),\"\")","v":""},{"$f":"IF('Input & Report'!$C90<>\"\",'Input & Report'!$C90,\"\")","v":""},{"$f":"IF(K111=\"\",\"\",RANK(K111,INDIRECT('Weibull Reliability Calculator'!$T$13),1))","v":""},"",{"$error":"#VALUE!"},{"$error":"#VALUE!"},{"$f":"J$14-(3*K$14)+(6*K$14)*(COUNT(K$23:K111)/COUNT(WeibullPlotData_AFTER[Cycles to failure]))","v":{"$error":"#DIV/0!"}},""]
[{"$f":"IF(WeibullPlotData_BEFORE[Cycles to failure]<>\"\",COUNT(B$23:B112),\"\")","v":""},{"$f":"IF('Input & Report'!$B91<>\"\",'Input & Report'!$B91,\"\")","v":""},{"$f":"IF(B112=\"\",\"\",RANK(B112,INDIRECT('Weibull Reliability Calculator'!$T$5),1))","v":""},"",{"$error":"#VALUE!"},{"$error":"#VALUE!"},{"$f":"IF(B112=\"\",\"\",G$14-(3*H$14)+(6*H$14)*(COUNT(B$23:B112)/COUNT(WeibullPlotData_BEFORE[Cycles to failure])))","v":""},"",null,{"$f":"IF(WeibullPlotData_AFTER[Cycles to failure]<>\"\",COUNT(K$23:K112),\"\")","v":""},{"$f":"IF('Input & Report'!$C91<>\"\",'Input & Report'!$C91,\"\")","v":""},{"$f":"IF(K112=\"\",\"\",RANK(K112,INDIRECT('Weibull Reliability Calculator'!$T$13),1))","v":""},"",{"$error":"#VALUE!"},{"$error":"#VALUE!"},{"$f":"J$14-(3*K$14)+(6*K$14)*(COUNT(K$23:K112)/COUNT(WeibullPlotData_AFTER[Cycles to failure]))","v":{"$error":"#DIV/0!"}},""]
[{"$f":"IF(WeibullPlotData_BEFORE[Cycles to failure]<>\"\",COUNT(B$23:B113),\"\")","v":""},{"$f":"IF('Input & Report'!$B92<>\"\",'Input & Report'!$B92,\"\")","v":""},{"$f":"IF(B113=\"\",\"\",RANK(B113,INDIRECT('Weibull Reliability Calculator'!$T$5),1))","v":""},"",{"$error":"#VALUE!"},{"$error":"#VALUE!"},{"$f":"IF(B113=\"\",\"\",G$14-(3*H$14)+(6*H$14)*(COUNT(B$23:B113)/COUNT(WeibullPlotData_BEFORE[Cycles to failure])))","v":""},"",null,{"$f":"IF(WeibullPlotData_AFTER[Cycles to failure]<>\"\",COUNT(K$23:K113),\"\")","v":""},{"$f":"IF('Input & Report'!$C92<>\"\",'Input & Report'!$C92,\"\")","v":""},{"$f":"IF(K113=\"\",\"\",RANK(K113,INDIRECT('Weibull Reliability Calculator'!$T$13),1))","v":""},"",{"$error":"#VALUE!"},{"$error":"#VALUE!"},{"$f":"J$14-(3*K$14)+(6*K$14)*(COUNT(K$23:K113)/COUNT(WeibullPlotData_AFTER[Cycles to failure]))","v":{"$error":"#DIV/0!"}},""]
[{"$f":"IF(WeibullPlotData_BEFORE[Cycles to failure]<>\"\",COUNT(B$23:B114),\"\")","v":""},{"$f":"IF('Input & Report'!$B93<>\"\",'Input & Report'!$B93,\"\")","v":""},{"$f":"IF(B114=\"\",\"\",RANK(B114,INDIRECT('Weibull Reliability Calculator'!$T$5),1))","v":""},"",{"$error":"#VALUE!"},{"$error":"#VALUE!"},{"$f":"IF(B114=\"\",\"\",G$14-(3*H$14)+(6*H$14)*(COUNT(B$23:B114)/COUNT(WeibullPlotData_BEFORE[Cycles to failure])))","v":""},"",null,{"$f":"IF(WeibullPlotData_AFTER[Cycles to failure]<>\"\",COUNT(K$23:K114),\"\")","v":""},{"$f":"IF('Input & Report'!$C93<>\"\",'Input & Report'!$C93,\"\")","v":""},{"$f":"IF(K114=\"\",\"\",RANK(K114,INDIRECT('Weibull Reliability Calculator'!$T$13),1))","v":""},"",{"$error":"#VALUE!"},{"$error":"#VALUE!"},{"$f":"J$14-(3*K$14)+(6*K$14)*(COUNT(K$23:K114)/COUNT(WeibullPlotData_AFTER[Cycles to failure]))","v":{"$error":"#DIV/0!"}},""]
[{"$f":"IF(WeibullPlotData_BEFORE[Cycles to failure]<>\"\",COUNT(B$23:B115),\"\")","v":""},{"$f":"IF('Input & Report'!$B94<>\"\",'Input & Report'!$B94,\"\")","v":""},{"$f":"IF(B115=\"\",\"\",RANK(B115,INDIRECT('Weibull Reliability Calculator'!$T$5),1))","v":""},"",{"$error":"#VALUE!"},{"$error":"#VALUE!"},{"$f":"IF(B115=\"\",\"\",G$14-(3*H$14)+(6*H$14)*(COUNT(B$23:B115)/COUNT(WeibullPlotData_BEFORE[Cycles to failure])))","v":""},"",null,{"$f":"IF(WeibullPlotData_AFTER[Cycles to failure]<>\"\",COUNT(K$23:K115),\"\")","v":""},{"$f":"IF('Input & Report'!$C94<>\"\",'Input & Report'!$C94,\"\")","v":""},{"$f":"IF(K115=\"\",\"\",RANK(K115,INDIRECT('Weibull Reliability Calculator'!$T$13),1))","v":""},"",{"$error":"#VALUE!"},{"$error":"#VALUE!"},{"$f":"J$14-(3*K$14)+(6*K$14)*(COUNT(K$23:K115)/COUNT(WeibullPlotData_AFTER[Cycles to failure]))","v":{"$error":"#DIV/0!"}},""]
[{"$f":"IF(WeibullPlotData_BEFORE[Cycles to failure]<>\"\",COUNT(B$23:B116),\"\")","v":""},{"$f":"IF('Input & Report'!$B95<>\"\",'Input & Report'!$B95,\"\")","v":""},{"$f":"IF(B116=\"\",\"\",RANK(B116,INDIRECT('Weibull Reliability Calculator'!$T$5),1))","v":""},"",{"$error":"#VALUE!"},{"$error":"#VALUE!"},{"$f":"IF(B116=\"\",\"\",G$14-(3*H$14)+(6*H$14)*(COUNT(B$23:B116)/COUNT(WeibullPlotData_BEFORE[Cycles to failure])))","v":""},"",null,{"$f":"IF(WeibullPlotData_AFTER[Cycles to failure]<>\"\",COUNT(K$23:K116),\"\")","v":""},{"$f":"IF('Input & Report'!$C95<>\"\",'Input & Report'!$C95,\"\")","v":""},{"$f":"IF(K116=\"\",\"\",RANK(K116,INDIRECT('Weibull Reliability Calculator'!$T$13),1))","v":""},"",{"$error":"#VALUE!"},{"$error":"#VALUE!"},{"$f":"J$14-(3*K$14)+(6*K$14)*(COUNT(K$23:K116)/COUNT(WeibullPlotData_AFTER[Cycles to failure]))","v":{"$error":"#DIV/0!"}},""]
[{"$f":"IF(WeibullPlotData_BEFORE[Cycles to failure]<>\"\",COUNT(B$23:B117),\"\")","v":""},{"$f":"IF('Input & Report'!$B96<>\"\",'Input & Report'!$B96,\"\")","v":""},{"$f":"IF(B117=\"\",\"\",RANK(B117,INDIRECT('Weibull Reliability Calculator'!$T$5),1))","v":""},"",{"$error":"#VALUE!"},{"$error":"#VALUE!"},{"$f":"IF(B117=\"\",\"\",G$14-(3*H$14)+(6*H$14)*(COUNT(B$23:B117)/COUNT(WeibullPlotData_BEFORE[Cycles to failure])))","v":""},"",null,{"$f":"IF(WeibullPlotData_AFTER[Cycles to failure]<>\"\",COUNT(K$23:K117),\"\")","v":""},{"$f":"IF('Input & Report'!$C96<>\"\",'Input & Report'!$C96,\"\")","v":""},{"$f":"IF(K117=\"\",\"\",RANK(K117,INDIRECT('Weibull Reliability Calculator'!$T$13),1))","v":""},"",{"$error":"#VALUE!"},{"$error":"#VALUE!"},{"$f":"J$14-(3*K$14)+(6*K$14)*(COUNT(K$23:K117)/COUNT(WeibullPlotData_AFTER[Cycles to failure]))","v":{"$error":"#DIV/0!"}},""]
[{"$f":"IF(WeibullPlotData_BEFORE[Cycles to failure]<>\"\",COUNT(B$23:B118),\"\")","v":""},{"$f":"IF('Input & Report'!$B97<>\"\",'Input & Report'!$B97,\"\")","v":""},{"$f":"IF(B118=\"\",\"\",RANK(B118,INDIRECT('Weibull Reliability Calculator'!$T$5),1))","v":""},"",{"$error":"#VALUE!"},{"$error":"#VALUE!"},{"$f":"IF(B118=\"\",\"\",G$14-(3*H$14)+(6*H$14)*(COUNT(B$23:B118)/COUNT(WeibullPlotData_BEFORE[Cycles to failure])))","v":""},"",null,{"$f":"IF(WeibullPlotData_AFTER[Cycles to failure]<>\"\",COUNT(K$23:K118),\"\")","v":""},{"$f":"IF('Input & Report'!$C97<>\"\",'Input & Report'!$C97,\"\")","v":""},{"$f":"IF(K118=\"\",\"\",RANK(K118,INDIRECT('Weibull Reliability Calculator'!$T$13),1))","v":""},"",{"$error":"#VALUE!"},{"$error":"#VALUE!"},{"$f":"J$14-(3*K$14)+(6*K$14)*(COUNT(K$23:K118)/COUNT(WeibullPlotData_AFTER[Cycles to failure]))","v":{"$error":"#DIV/0!"}},""]
[{"$f":"IF(WeibullPlotData_BEFORE[Cycles to failure]<>\"\",COUNT(B$23:B119),\"\")","v":""},{"$f":"IF('Input & Report'!$B98<>\"\",'Input & Report'!$B98,\"\")","v":""},{"$f":"IF(B119=\"\",\"\",RANK(B119,INDIRECT('Weibull Reliability Calculator'!$T$5),1))","v":""},"",{"$error":"#VALUE!"},{"$error":"#VALUE!"},{"$f":"IF(B119=\"\",\"\",G$14-(3*H$14)+(6*H$14)*(COUNT(B$23:B119)/COUNT(WeibullPlotData_BEFORE[Cycles to failure])))","v":""},"",null,{"$f":"IF(WeibullPlotData_AFTER[Cycles to failure]<>\"\",COUNT(K$23:K119),\"\")","v":""},{"$f":"IF('Input & Report'!$C98<>\"\",'Input & Report'!$C98,\"\")","v":""},{"$f":"IF(K119=\"\",\"\",RANK(K119,INDIRECT('Weibull Reliability Calculator'!$T$13),1))","v":""},"",{"$error":"#VALUE!"},{"$error":"#VALUE!"},{"$f":"J$14-(3*K$14)+(6*K$14)*(COUNT(K$23:K119)/COUNT(WeibullPlotData_AFTER[Cycles to failure]))","v":{"$error":"#DIV/0!"}},""]
[{"$f":"IF(WeibullPlotData_BEFORE[Cycles to failure]<>\"\",COUNT(B$23:B120),\"\")","v":""},{"$f":"IF('Input & Report'!$B99<>\"\",'Input & Report'!$B99,\"\")","v":""},{"$f":"IF(B120=\"\",\"\",RANK(B120,INDIRECT('Weibull Reliability Calculator'!$T$5),1))","v":""},"",{"$error":"#VALUE!"},{"$error":"#VALUE!"},{"$f":"IF(B120=\"\",\"\",G$14-(3*H$14)+(6*H$14)*(COUNT(B$23:B120)/COUNT(WeibullPlotData_BEFORE[Cycles to failure])))","v":""},"",null,{"$f":"IF(WeibullPlotData_AFTER[Cycles to failure]<>\"\",COUNT(K$23:K120),\"\")","v":""},{"$f":"IF('Input & Report'!$C99<>\"\",'Input & Report'!$C99,\"\")","v":""},{"$f":"IF(K120=\"\",\"\",RANK(K120,INDIRECT('Weibull Reliability Calculator'!$T$13),1))","v":""},"",{"$error":"#VALUE!"},{"$error":"#VALUE!"},{"$f":"J$14-(3*K$14)+(6*K$14)*(COUNT(K$23:K120)/COUNT(WeibullPlotData_AFTER[Cycles to failure]))","v":{"$error":"#DIV/0!"}},""]
[{"$f":"IF(WeibullPlotData_BEFORE[Cycles to failure]<>\"\",COUNT(B$23:B121),\"\")","v":""},{"$f":"IF('Input & Report'!$B100<>\"\",'Input & Report'!$B100,\"\")","v":""},{"$f":"IF(B121=\"\",\"\",RANK(B121,INDIRECT('Weibull Reliability Calculator'!$T$5),1))","v":""},"",{"$error":"#VALUE!"},{"$error":"#VALUE!"},{"$f":"IF(B121=\"\",\"\",G$14-(3*H$14)+(6*H$14)*(COUNT(B$23:B121)/COUNT(WeibullPlotData_BEFORE[Cycles to failure])))","v":""},"",null,{"$f":"IF(WeibullPlotData_AFTER[Cycles to failure]<>\"\",COUNT(K$23:K121),\"\")","v":""},{"$f":"IF('Input & Report'!$C100<>\"\",'Input & Report'!$C100,\"\")","v":""},{"$f":"IF(K121=\"\",\"\",RANK(K121,INDIRECT('Weibull Reliability Calculator'!$T$13),1))","v":""},"",{"$error":"#VALUE!"},{"$error":"#VALUE!"},{"$f":"J$14-(3*K$14)+(6*K$14)*(COUNT(K$23:K121)/COUNT(WeibullPlotData_AFTER[Cycles to failure]))","v":{"$error":"#DIV/0!"}},""]
[{"$f":"IF(WeibullPlotData_BEFORE[Cycles to failure]<>\"\",COUNT(B$23:B122),\"\")","v":""},{"$f":"IF('Input & Report'!$B101<>\"\",'Input & Report'!$B101,\"\")","v":""},{"$f":"IF(B122=\"\",\"\",RANK(B122,INDIRECT('Weibull Reliability Calculator'!$T$5),1))","v":""},"",{"$error":"#VALUE!"},{"$error":"#VALUE!"},{"$f":"IF(B122=\"\",\"\",G$14-(3*H$14)+(6*H$14)*(COUNT(B$23:B122)/COUNT(WeibullPlotData_BEFORE[Cycles to failure])))","v":""},"",null,{"$f":"IF(WeibullPlotData_AFTER[Cycles to failure]<>\"\",COUNT(K$23:K122),\"\")","v":""},{"$f":"IF('Input & Report'!$C101<>\"\",'Input & Report'!$C101,\"\")","v":""},{"$f":"IF(K122=\"\",\"\",RANK(K122,INDIRECT('Weibull Reliability Calculator'!$T$13),1))","v":""},"",{"$error":"#VALUE!"},{"$error":"#VALUE!"},{"$f":"J$14-(3*K$14)+(6*K$14)*(COUNT(K$23:K122)/COUNT(WeibullPlotData_AFTER[Cycles to failure]))","v":{"$error":"#DIV/0!"}},""]
[{"$f":"IF(WeibullPlotData_BEFORE[Cycles to failure]<>\"\",COUNT(B$23:B123),\"\")","v":""},{"$f":"IF('Input & Report'!$B102<>\"\",'Input & Report'!$B102,\"\")","v":""},{"$f":"IF(B123=\"\",\"\",RANK(B123,INDIRECT('Weibull Reliability Calculator'!$T$5),1))","v":""},"",{"$error":"#VALUE!"},{"$error":"#VALUE!"},{"$f":"IF(B123=\"\",\"\",G$14-(3*H$14)+(6*H$14)*(COUNT(B$23:B123)/COUNT(WeibullPlotData_BEFORE[Cycles to failure])))","v":""},"",null,{"$f":"IF(WeibullPlotData_AFTER[Cycles to failure]<>\"\",COUNT(K$23:K123),\"\")","v":""},{"$f":"IF('Input & Report'!$C102<>\"\",'Input & Report'!$C102,\"\")","v":""},{"$f":"IF(K123=\"\",\"\",RANK(K123,INDIRECT('Weibull Reliability Calculator'!$T$13),1))","v":""},"",{"$error":"#VALUE!"},{"$error":"#VALUE!"},{"$f":"J$14-(3*K$14)+(6*K$14)*(COUNT(K$23:K123)/COUNT(WeibullPlotData_AFTER[Cycles to failure]))","v":{"$error":"#DIV/0!"}},""]
[{"$f":"IF(WeibullPlotData_BEFORE[Cycles to failure]<>\"\",COUNT(B$23:B124),\"\")","v":""},{"$f":"IF('Input & Report'!$B103<>\"\",'Input & Report'!$B103,\"\")","v":""},{"$f":"IF(B124=\"\",\"\",RANK(B124,INDIRECT('Weibull Reliability Calculator'!$T$5),1))","v":""},"",{"$error":"#VALUE!"},{"$error":"#VALUE!"},{"$f":"IF(B124=\"\",\"\",G$14-(3*H$14)+(6*H$14)*(COUNT(B$23:B124)/COUNT(WeibullPlotData_BEFORE[Cycles to failure])))","v":""},"",null,{"$f":"IF(WeibullPlotData_AFTER[Cycles to failure]<>\"\",COUNT(K$23:K124),\"\")","v":""},{"$f":"IF('Input & Report'!$C103<>\"\",'Input & Report'!$C103,\"\")","v":""},{"$f":"IF(K124=\"\",\"\",RANK(K124,INDIRECT('Weibull Reliability Calculator'!$T$13),1))","v":""},"",{"$error":"#VALUE!"},{"$error":"#VALUE!"},{"$f":"J$14-(3*K$14)+(6*K$14)*(COUNT(K$23:K124)/COUNT(WeibullPlotData_AFTER[Cycles to failure]))","v":{"$error":"#DIV/0!"}},""]
[{"$f":"IF(WeibullPlotData_BEFORE[Cycles to failure]<>\"\",COUNT(B$23:B125),\"\")","v":""},{"$f":"IF('Input & Report'!$B104<>\"\",'Input & Report'!$B104,\"\")","v":""},{"$f":"IF(B125=\"\",\"\",RANK(B125,INDIRECT('Weibull Reliability Calculator'!$T$5),1))","v":""},"",{"$error":"#VALUE!"},{"$error":"#VALUE!"},{"$f":"IF(B125=\"\",\"\",G$14-(3*H$14)+(6*H$14)*(COUNT(B$23:B125)/COUNT(WeibullPlotData_BEFORE[Cycles to failure])))","v":""},"",null,{"$f":"IF(WeibullPlotData_AFTER[Cycles to failure]<>\"\",COUNT(K$23:K125),\"\")","v":""},{"$f":"IF('Input & Report'!$C104<>\"\",'Input & Report'!$C104,\"\")","v":""},{"$f":"IF(K125=\"\",\"\",RANK(K125,INDIRECT('Weibull Reliability Calculator'!$T$13),1))","v":""},"",{"$error":"#VALUE!"},{"$error":"#VALUE!"},{"$f":"J$14-(3*K$14)+(6*K$14)*(COUNT(K$23:K125)/COUNT(WeibullPlotData_AFTER[Cycles to failure]))","v":{"$error":"#DIV/0!"}},""]
[{"$f":"IF(WeibullPlotData_BEFORE[Cycles to failure]<>\"\",COUNT(B$23:B126),\"\")","v":""},{"$f":"IF('Input & Report'!$B105<>\"\",'Input & Report'!$B105,\"\")","v":""},{"$f":"IF(B126=\"\",\"\",RANK(B126,INDIRECT('Weibull Reliability Calculator'!$T$5),1))","v":""},"",{"$error":"#VALUE!"},{"$error":"#VALUE!"},{"$f":"IF(B126=\"\",\"\",G$14-(3*H$14)+(6*H$14)*(COUNT(B$23:B126)/COUNT(WeibullPlotData_BEFORE[Cycles to failure])))","v":""},"",null,{"$f":"IF(WeibullPlotData_AFTER[Cycles to failure]<>\"\",COUNT(K$23:K126),\"\")","v":""},{"$f":"IF('Input & Report'!$C105<>\"\",'Input & Report'!$C105,\"\")","v":""},{"$f":"IF(K126=\"\",\"\",RANK(K126,INDIRECT('Weibull Reliability Calculator'!$T$13),1))","v":""},"",{"$error":"#VALUE!"},{"$error":"#VALUE!"},{"$f":"J$14-(3*K$14)+(6*K$14)*(COUNT(K$23:K126)/COUNT(WeibullPlotData_AFTER[Cycles to failure]))","v":{"$error":"#DIV/0!"}},""]
[{"$f":"IF(WeibullPlotData_BEFORE[Cycles to failure]<>\"\",COUNT(B$23:B127),\"\")","v":""},{"$f":"IF('Input & Report'!$B106<>\"\",'Input & Report'!$B106,\"\")","v":""},{"$f":"IF(B127=\"\",\"\",RANK(B127,INDIRECT('Weibull Reliability Calculator'!$T$5),1))","v":""},"",{"$error":"#VALUE!"},{"$error":"#VALUE!"},{"$f":"IF(B127=\"\",\"\",G$14-(3*H$14)+(6*H$14)*(COUNT(B$23:B127)/COUNT(WeibullPlotData_BEFORE[Cycles to failure])))","v":""},"",null,{"$f":"IF(WeibullPlotData_AFTER[Cycles to failure]<>\"\",COUNT(K$23:K127),\"\")","v":""},{"$f":"IF('Input & Report'!$C106<>\"\",'Input & Report'!$C106,\"\")","v":""},{"$f":"IF(K127=\"\",\"\",RANK(K127,INDIRECT('Weibull Reliability Calculator'!$T$13),1))","v":""},"",{"$error":"#VALUE!"},{"$error":"#VALUE!"},{"$f":"J$14-(3*K$14)+(6*K$14)*(COUNT(K$23:K127)/COUNT(WeibullPlotData_AFTER[Cycles to failure]))","v":{"$error":"#DIV/0!"}},""]
[{"$f":"IF(WeibullPlotData_BEFORE[Cycles to failure]<>\"\",COUNT(B$23:B128),\"\")","v":""},{"$f":"IF('Input & Report'!$B107<>\"\",'Input & Report'!$B107,\"\")","v":""},{"$f":"IF(B128=\"\",\"\",RANK(B128,INDIRECT('Weibull Reliability Calculator'!$T$5),1))","v":""},"",{"$error":"#VALUE!"},{"$error":"#VALUE!"},{"$f":"IF(B128=\"\",\"\",G$14-(3*H$14)+(6*H$14)*(COUNT(B$23:B128)/COUNT(WeibullPlotData_BEFORE[Cycles to failure])))","v":""},"",null,{"$f":"IF(WeibullPlotData_AFTER[Cycles to failure]<>\"\",COUNT(K$23:K128),\"\")","v":""},{"$f":"IF('Input & Report'!$C107<>\"\",'Input & Report'!$C107,\"\")","v":""},{"$f":"IF(K128=\"\",\"\",RANK(K128,INDIRECT('Weibull Reliability Calculator'!$T$13),1))","v":""},"",{"$error":"#VALUE!"},{"$error":"#VALUE!"},{"$f":"J$14-(3*K$14)+(6*K$14)*(COUNT(K$23:K128)/COUNT(WeibullPlotData_AFTER[Cycles to failure]))","v":{"$error":"#DIV/0!"}},""]
[{"$f":"IF(WeibullPlotData_BEFORE[Cycles to failure]<>\"\",COUNT(B$23:B129),\"\")","v":""},{"$f":"IF('Input & Report'!$B108<>\"\",'Input & Report'!$B108,\"\")","v":""},{"$f":"IF(B129=\"\",\"\",RANK(B129,INDIRECT('Weibull Reliability Calculator'!$T$5),1))","v":""},"",{"$error":"#VALUE!"},{"$error":"#VALUE!"},{"$f":"IF(B129=\"\",\"\",G$14-(3*H$14)+(6*H$14)*(COUNT(B$23:B129)/COUNT(WeibullPlotData_BEFORE[Cycles to failure])))","v":""},"",null,{"$f":"IF(WeibullPlotData_AFTER[Cycles to failure]<>\"\",COUNT(K$23:K129),\"\")","v":""},{"$f":"IF('Input & Report'!$C108<>\"\",'Input & Report'!$C108,\"\")","v":""},{"$f":"IF(K129=\"\",\"\",RANK(K129,INDIRECT('Weibull Reliability Calculator'!$T$13),1))","v":""},"",{"$error":"#VALUE!"},{"$error":"#VALUE!"},{"$f":"J$14-(3*K$14)+(6*K$14)*(COUNT(K$23:K129)/COUNT(WeibullPlotData_AFTER[Cycles to failure]))","v":{"$error":"#DIV/0!"}},""]
[{"$f":"IF(WeibullPlotData_BEFORE[Cycles to failure]<>\"\",COUNT(B$23:B130),\"\")","v":""},{"$f":"IF('Input & Report'!$B109<>\"\",'Input & Report'!$B109,\"\")","v":""},{"$f":"IF(B130=\"\",\"\",RANK(B130,INDIRECT('Weibull Reliability Calculator'!$T$5),1))","v":""},"",{"$error":"#VALUE!"},{"$error":"#VALUE!"},{"$f":"IF(B130=\"\",\"\",G$14-(3*H$14)+(6*H$14)*(COUNT(B$23:B130)/COUNT(WeibullPlotData_BEFORE[Cycles to failure])))","v":""},"",null,{"$f":"IF(WeibullPlotData_AFTER[Cycles to failure]<>\"\",COUNT(K$23:K130),\"\")","v":""},{"$f":"IF('Input & Report'!$C109<>\"\",'Input & Report'!$C109,\"\")","v":""},{"$f":"IF(K130=\"\",\"\",RANK(K130,INDIRECT('Weibull Reliability Calculator'!$T$13),1))","v":""},"",{"$error":"#VALUE!"},{"$error":"#VALUE!"},{"$f":"J$14-(3*K$14)+(6*K$14)*(COUNT(K$23:K130)/COUNT(WeibullPlotData_AFTER[Cycles to failure]))","v":{"$error":"#DIV/0!"}},""]
[{"$f":"IF(WeibullPlotData_BEFORE[Cycles to failure]<>\"\",COUNT(B$23:B131),\"\")","v":""},{"$f":"IF('Input & Report'!$B110<>\"\",'Input & Report'!$B110,\"\")","v":""},{"$f":"IF(B131=\"\",\"\",RANK(B131,INDIRECT('Weibull Reliability Calculator'!$T$5),1))","v":""},"",{"$error":"#VALUE!"},{"$error":"#VALUE!"},{"$f":"IF(B131=\"\",\"\",G$14-(3*H$14)+(6*H$14)*(COUNT(B$23:B131)/COUNT(WeibullPlotData_BEFORE[Cycles to failure])))","v":""},"",null,{"$f":"IF(WeibullPlotData_AFTER[Cycles to failure]<>\"\",COUNT(K$23:K131),\"\")","v":""},{"$f":"IF('Input & Report'!$C110<>\"\",'Input & Report'!$C110,\"\")","v":""},{"$f":"IF(K131=\"\",\"\",RANK(K131,INDIRECT('Weibull Reliability Calculator'!$T$13),1))","v":""},"",{"$error":"#VALUE!"},{"$error":"#VALUE!"},{"$f":"J$14-(3*K$14)+(6*K$14)*(COUNT(K$23:K131)/COUNT(WeibullPlotData_AFTER[Cycles to failure]))","v":{"$error":"#DIV/0!"}},""]
[{"$f":"IF(WeibullPlotData_BEFORE[Cycles to failure]<>\"\",COUNT(B$23:B132),\"\")","v":""},{"$f":"IF('Input & Report'!$B111<>\"\",'Input & Report'!$B111,\"\")","v":""},{"$f":"IF(B132=\"\",\"\",RANK(B132,INDIRECT('Weibull Reliability Calculator'!$T$5),1))","v":""},"",{"$error":"#VALUE!"},{"$error":"#VALUE!"},{"$f":"IF(B132=\"\",\"\",G$14-(3*H$14)+(6*H$14)*(COUNT(B$23:B132)/COUNT(WeibullPlotData_BEFORE[Cycles to failure])))","v":""},"",null,{"$f":"IF(WeibullPlotData_AFTER[Cycles to failure]<>\"\",COUNT(K$23:K132),\"\")","v":""},{"$f":"IF('Input & Report'!$C111<>\"\",'Input & Report'!$C111,\"\")","v":""},{"$f":"IF(K132=\"\",\"\",RANK(K132,INDIRECT('Weibull Reliability Calculator'!$T$13),1))","v":""},"",{"$error":"#VALUE!"},{"$error":"#VALUE!"},{"$f":"J$14-(3*K$14)+(6*K$14)*(COUNT(K$23:K132)/COUNT(WeibullPlotData_AFTER[Cycles to failure]))","v":{"$error":"#DIV/0!"}},""]
[{"$f":"IF(WeibullPlotData_BEFORE[Cycles to failure]<>\"\",COUNT(B$23:B133),\"\")","v":""},{"$f":"IF('Input & Report'!$B112<>\"\",'Input & Report'!$B112,\"\")","v":""},{"$f":"IF(B133=\"\",\"\",RANK(B133,INDIRECT('Weibull Reliability Calculator'!$T$5),1))","v":""},"",{"$error":"#VALUE!"},{"$error":"#VALUE!"},{"$f":"IF(B133=\"\",\"\",G$14-(3*H$14)+(6*H$14)*(COUNT(B$23:B133)/COUNT(WeibullPlotData_BEFORE[Cycles to failure])))","v":""},"",null,{"$f":"IF(WeibullPlotData_AFTER[Cycles to failure]<>\"\",COUNT(K$23:K133),\"\")","v":""},{"$f":"IF('Input & Report'!$C112<>\"\",'Input & Report'!$C112,\"\")","v":""},{"$f":"IF(K133=\"\",\"\",RANK(K133,INDIRECT('Weibull Reliability Calculator'!$T$13),1))","v":""},"",{"$error":"#VALUE!"},{"$error":"#VALUE!"},{"$f":"J$14-(3*K$14)+(6*K$14)*(COUNT(K$23:K133)/COUNT(WeibullPlotData_AFTER[Cycles to failure]))","v":{"$error":"#DIV/0!"}},""]
[{"$f":"IF(WeibullPlotData_BEFORE[Cycles to failure]<>\"\",COUNT(B$23:B134),\"\")","v":""},{"$f":"IF('Input & Report'!$B113<>\"\",'Input & Report'!$B113,\"\")","v":""},{"$f":"IF(B134=\"\",\"\",RANK(B134,INDIRECT('Weibull Reliability Calculator'!$T$5),1))","v":""},"",{"$error":"#VALUE!"},{"$error":"#VALUE!"},{"$f":"IF(B134=\"\",\"\",G$14-(3*H$14)+(6*H$14)*(COUNT(B$23:B134)/COUNT(WeibullPlotData_BEFORE[Cycles to failure])))","v":""},"",null,{"$f":"IF(WeibullPlotData_AFTER[Cycles to failure]<>\"\",COUNT(K$23:K134),\"\")","v":""},{"$f":"IF('Input & Report'!$C113<>\"\",'Input & Report'!$C113,\"\")","v":""},{"$f":"IF(K134=\"\",\"\",RANK(K134,INDIRECT('Weibull Reliability Calculator'!$T$13),1))","v":""},"",{"$error":"#VALUE!"},{"$error":"#VALUE!"},{"$f":"J$14-(3*K$14)+(6*K$14)*(COUNT(K$23:K134)/COUNT(WeibullPlotData_AFTER[Cycles to failure]))","v":{"$error":"#DIV/0!"}},""]
[{"$f":"IF(WeibullPlotData_BEFORE[Cycles to failure]<>\"\",COUNT(B$23:B135),\"\")","v":""},{"$f":"IF('Input & Report'!$B114<>\"\",'Input & Report'!$B114,\"\")","v":""},{"$f":"IF(B135=\"\",\"\",RANK(B135,INDIRECT('Weibull Reliability Calculator'!$T$5),1))","v":""},"",{"$error":"#VALUE!"},{"$error":"#VALUE!"},{"$f":"IF(B135=\"\",\"\",G$14-(3*H$14)+(6*H$14)*(COUNT(B$23:B135)/COUNT(WeibullPlotData_BEFORE[Cycles to failure])))","v":""},"",null,{"$f":"IF(WeibullPlotData_AFTER[Cycles to failure]<>\"\",COUNT(K$23:K135),\"\")","v":""},{"$f":"IF('Input & Report'!$C114<>\"\",'Input & Report'!$C114,\"\")","v":""},{"$f":"IF(K135=\"\",\"\",RANK(K135,INDIRECT('Weibull Reliability Calculator'!$T$13),1))","v":""},"",{"$error":"#VALUE!"},{"$error":"#VALUE!"},{"$f":"J$14-(3*K$14)+(6*K$14)*(COUNT(K$23:K135)/COUNT(WeibullPlotData_AFTER[Cycles to failure]))","v":{"$error":"#DIV/0!"}},""]
[{"$f":"IF(WeibullPlotData_BEFORE[Cycles to failure]<>\"\",COUNT(B$23:B136),\"\")","v":""},{"$f":"IF('Input & Report'!$B115<>\"\",'Input & Report'!$B115,\"\")","v":""},{"$f":"IF(B136=\"\",\"\",RANK(B136,INDIRECT('Weibull Reliability Calculator'!$T$5),1))","v":""},"",{"$error":"#VALUE!"},{"$error":"#VALUE!"},{"$f":"IF(B136=\"\",\"\",G$14-(3*H$14)+(6*H$14)*(COUNT(B$23:B136)/COUNT(WeibullPlotData_BEFORE[Cycles to failure])))","v":""},"",null,{"$f":"IF(WeibullPlotData_AFTER[Cycles to failure]<>\"\",COUNT(K$23:K136),\"\")","v":""},{"$f":"IF('Input & Report'!$C115<>\"\",'Input & Report'!$C115,\"\")","v":""},{"$f":"IF(K136=\"\",\"\",RANK(K136,INDIRECT('Weibull Reliability Calculator'!$T$13),1))","v":""},"",{"$error":"#VALUE!"},{"$error":"#VALUE!"},{"$f":"J$14-(3*K$14)+(6*K$14)*(COUNT(K$23:K136)/COUNT(WeibullPlotData_AFTER[Cycles to failure]))","v":{"$error":"#DIV/0!"}},""]
[{"$f":"IF(WeibullPlotData_BEFORE[Cycles to failure]<>\"\",COUNT(B$23:B137),\"\")","v":""},{"$f":"IF('Input & Report'!$B116<>\"\",'Input & Report'!$B116,\"\")","v":""},{"$f":"IF(B137=\"\",\"\",RANK(B137,INDIRECT('Weibull Reliability Calculator'!$T$5),1))","v":""},"",{"$error":"#VALUE!"},{"$error":"#VALUE!"},{"$f":"IF(B137=\"\",\"\",G$14-(3*H$14)+(6*H$14)*(COUNT(B$23:B137)/COUNT(WeibullPlotData_BEFORE[Cycles to failure])))","v":""},"",null,{"$f":"IF(WeibullPlotData_AFTER[Cycles to failure]<>\"\",COUNT(K$23:K137),\"\")","v":""},{"$f":"IF('Input & Report'!$C116<>\"\",'Input & Report'!$C116,\"\")","v":""},{"$f":"IF(K137=\"\",\"\",RANK(K137,INDIRECT('Weibull Reliability Calculator'!$T$13),1))","v":""},"",{"$error":"#VALUE!"},{"$error":"#VALUE!"},{"$f":"J$14-(3*K$14)+(6*K$14)*(COUNT(K$23:K137)/COUNT(WeibullPlotData_AFTER[Cycles to failure]))","v":{"$error":"#DIV/0!"}},""]
[{"$f":"IF(WeibullPlotData_BEFORE[Cycles to failure]<>\"\",COUNT(B$23:B138),\"\")","v":""},{"$f":"IF('Input & Report'!$B117<>\"\",'Input & Report'!$B117,\"\")","v":""},{"$f":"IF(B138=\"\",\"\",RANK(B138,INDIRECT('Weibull Reliability Calculator'!$T$5),1))","v":""},"",{"$error":"#VALUE!"},{"$error":"#VALUE!"},{"$f":"IF(B138=\"\",\"\",G$14-(3*H$14)+(6*H$14)*(COUNT(B$23:B138)/COUNT(WeibullPlotData_BEFORE[Cycles to failure])))","v":""},"",null,{"$f":"IF(WeibullPlotData_AFTER[Cycles to failure]<>\"\",COUNT(K$23:K138),\"\")","v":""},{"$f":"IF('Input & Report'!$C117<>\"\",'Input & Report'!$C117,\"\")","v":""},{"$f":"IF(K138=\"\",\"\",RANK(K138,INDIRECT('Weibull Reliability Calculator'!$T$13),1))","v":""},"",{"$error":"#VALUE!"},{"$error":"#VALUE!"},{"$f":"J$14-(3*K$14)+(6*K$14)*(COUNT(K$23:K138)/COUNT(WeibullPlotData_AFTER[Cycles to failure]))","v":{"$error":"#DIV/0!"}},""]
[{"$f":"IF(WeibullPlotData_BEFORE[Cycles to failure]<>\"\",COUNT(B$23:B139),\"\")","v":""},{"$f":"IF('Input & Report'!$B118<>\"\",'Input & Report'!$B118,\"\")","v":""},{"$f":"IF(B139=\"\",\"\",RANK(B139,INDIRECT('Weibull Reliability Calculator'!$T$5),1))","v":""},"",{"$error":"#VALUE!"},{"$error":"#VALUE!"},{"$f":"IF(B139=\"\",\"\",G$14-(3*H$14)+(6*H$14)*(COUNT(B$23:B139)/COUNT(WeibullPlotData_BEFORE[Cycles to failure])))","v":""},"",null,{"$f":"IF(WeibullPlotData_AFTER[Cycles to failure]<>\"\",COUNT(K$23:K139),\"\")","v":""},{"$f":"IF('Input & Report'!$C118<>\"\",'Input & Report'!$C118,\"\")","v":""},{"$f":"IF(K139=\"\",\"\",RANK(K139,INDIRECT('Weibull Reliability Calculator'!$T$13),1))","v":""},"",{"$error":"#VALUE!"},{"$error":"#VALUE!"},{"$f":"J$14-(3*K$14)+(6*K$14)*(COUNT(K$23:K139)/COUNT(WeibullPlotData_AFTER[Cycles to failure]))","v":{"$error":"#DIV/0!"}},""]
[{"$f":"IF(WeibullPlotData_BEFORE[Cycles to failure]<>\"\",COUNT(B$23:B140),\"\")","v":""},{"$f":"IF('Input & Report'!$B119<>\"\",'Input & Report'!$B119,\"\")","v":""},{"$f":"IF(B140=\"\",\"\",RANK(B140,INDIRECT('Weibull Reliability Calculator'!$T$5),1))","v":""},"",{"$error":"#VALUE!"},{"$error":"#VALUE!"},{"$f":"IF(B140=\"\",\"\",G$14-(3*H$14)+(6*H$14)*(COUNT(B$23:B140)/COUNT(WeibullPlotData_BEFORE[Cycles to failure])))","v":""},"",null,{"$f":"IF(WeibullPlotData_AFTER[Cycles to failure]<>\"\",COUNT(K$23:K140),\"\")","v":""},{"$f":"IF('Input & Report'!$C119<>\"\",'Input & Report'!$C119,\"\")","v":""},{"$f":"IF(K140=\"\",\"\",RANK(K140,INDIRECT('Weibull Reliability Calculator'!$T$13),1))","v":""},"",{"$error":"#VALUE!"},{"$error":"#VALUE!"},{"$f":"J$14-(3*K$14)+(6*K$14)*(COUNT(K$23:K140)/COUNT(WeibullPlotData_AFTER[Cycles to failure]))","v":{"$error":"#DIV/0!"}},""]
[{"$f":"IF(WeibullPlotData_BEFORE[Cycles to failure]<>\"\",COUNT(B$23:B141),\"\")","v":""},{"$f":"IF('Input & Report'!$B120<>\"\",'Input & Report'!$B120,\"\")","v":""},{"$f":"IF(B141=\"\",\"\",RANK(B141,INDIRECT('Weibull Reliability Calculator'!$T$5),1))","v":""},"",{"$error":"#VALUE!"},{"$error":"#VALUE!"},{"$f":"IF(B141=\"\",\"\",G$14-(3*H$14)+(6*H$14)*(COUNT(B$23:B141)/COUNT(WeibullPlotData_BEFORE[Cycles to failure])))","v":""},"",null,{"$f":"IF(WeibullPlotData_AFTER[Cycles to failure]<>\"\",COUNT(K$23:K141),\"\")","v":""},{"$f":"IF('Input & Report'!$C120<>\"\",'Input & Report'!$C120,\"\")","v":""},{"$f":"IF(K141=\"\",\"\",RANK(K141,INDIRECT('Weibull Reliability Calculator'!$T$13),1))","v":""},"",{"$error":"#VALUE!"},{"$error":"#VALUE!"},{"$f":"J$14-(3*K$14)+(6*K$14)*(COUNT(K$23:K141)/COUNT(WeibullPlotData_AFTER[Cycles to failure]))","v":{"$error":"#DIV/0!"}},""]
[{"$f":"IF(WeibullPlotData_BEFORE[Cycles to failure]<>\"\",COUNT(B$23:B142),\"\")","v":""},{"$f":"IF('Input & Report'!$B121<>\"\",'Input & Report'!$B121,\"\")","v":""},{"$f":"IF(B142=\"\",\"\",RANK(B142,INDIRECT('Weibull Reliability Calculator'!$T$5),1))","v":""},"",{"$error":"#VALUE!"},{"$error":"#VALUE!"},{"$f":"IF(B142=\"\",\"\",G$14-(3*H$14)+(6*H$14)*(COUNT(B$23:B142)/COUNT(WeibullPlotData_BEFORE[Cycles to failure])))","v":""},"",null,{"$f":"IF(WeibullPlotData_AFTER[Cycles to failure]<>\"\",COUNT(K$23:K142),\"\")","v":""},{"$f":"IF('Input & Report'!$C121<>\"\",'Input & Report'!$C121,\"\")","v":""},{"$f":"IF(K142=\"\",\"\",RANK(K142,INDIRECT('Weibull Reliability Calculator'!$T$13),1))","v":""},"",{"$error":"#VALUE!"},{"$error":"#VALUE!"},{"$f":"J$14-(3*K$14)+(6*K$14)*(COUNT(K$23:K142)/COUNT(WeibullPlotData_AFTER[Cycles to failure]))","v":{"$error":"#DIV/0!"}},""]
[{"$f":"IF(WeibullPlotData_BEFORE[Cycles to failure]<>\"\",COUNT(B$23:B143),\"\")","v":""},{"$f":"IF('Input & Report'!$B122<>\"\",'Input & Report'!$B122,\"\")","v":""},{"$f":"IF(B143=\"\",\"\",RANK(B143,INDIRECT('Weibull Reliability Calculator'!$T$5),1))","v":""},"",{"$error":"#VALUE!"},{"$error":"#VALUE!"},{"$f":"IF(B143=\"\",\"\",G$14-(3*H$14)+(6*H$14)*(COUNT(B$23:B143)/COUNT(WeibullPlotData_BEFORE[Cycles to failure])))","v":""},"",null,{"$f":"IF(WeibullPlotData_AFTER[Cycles to failure]<>\"\",COUNT(K$23:K143),\"\")","v":""},{"$f":"IF('Input & Report'!$C122<>\"\",'Input & Report'!$C122,\"\")","v":""},{"$f":"IF(K143=\"\",\"\",RANK(K143,INDIRECT('Weibull Reliability Calculator'!$T$13),1))","v":""},"",{"$error":"#VALUE!"},{"$error":"#VALUE!"},{"$f":"J$14-(3*K$14)+(6*K$14)*(COUNT(K$23:K143)/COUNT(WeibullPlotData_AFTER[Cycles to failure]))","v":{"$error":"#DIV/0!"}},""]
[{"$f":"IF(WeibullPlotData_BEFORE[Cycles to failure]<>\"\",COUNT(B$23:B144),\"\")","v":""},{"$f":"IF('Input & Report'!$B123<>\"\",'Input & Report'!$B123,\"\")","v":""},{"$f":"IF(B144=\"\",\"\",RANK(B144,INDIRECT('Weibull Reliability Calculator'!$T$5),1))","v":""},"",{"$error":"#VALUE!"},{"$error":"#VALUE!"},{"$f":"IF(B144=\"\",\"\",G$14-(3*H$14)+(6*H$14)*(COUNT(B$23:B144)/COUNT(WeibullPlotData_BEFORE[Cycles to failure])))","v":""},"",null,{"$f":"IF(WeibullPlotData_AFTER[Cycles to failure]<>\"\",COUNT(K$23:K144),\"\")","v":""},{"$f":"IF('Input & Report'!$C123<>\"\",'Input & Report'!$C123,\"\")","v":""},{"$f":"IF(K144=\"\",\"\",RANK(K144,INDIRECT('Weibull Reliability Calculator'!$T$13),1))","v":""},"",{"$error":"#VALUE!"},{"$error":"#VALUE!"},{"$f":"J$14-(3*K$14)+(6*K$14)*(COUNT(K$23:K144)/COUNT(WeibullPlotData_AFTER[Cycles to failure]))","v":{"$error":"#DIV/0!"}},""]
[{"$f":"IF(WeibullPlotData_BEFORE[Cycles to failure]<>\"\",COUNT(B$23:B145),\"\")","v":""},{"$f":"IF('Input & Report'!$B124<>\"\",'Input & Report'!$B124,\"\")","v":""},{"$f":"IF(B145=\"\",\"\",RANK(B145,INDIRECT('Weibull Reliability Calculator'!$T$5),1))","v":""},"",{"$error":"#VALUE!"},{"$error":"#VALUE!"},{"$f":"IF(B145=\"\",\"\",G$14-(3*H$14)+(6*H$14)*(COUNT(B$23:B145)/COUNT(WeibullPlotData_BEFORE[Cycles to failure])))","v":""},"",null,{"$f":"IF(WeibullPlotData_AFTER[Cycles to failure]<>\"\",COUNT(K$23:K145),\"\")","v":""},{"$f":"IF('Input & Report'!$C124<>\"\",'Input & Report'!$C124,\"\")","v":""},{"$f":"IF(K145=\"\",\"\",RANK(K145,INDIRECT('Weibull Reliability Calculator'!$T$13),1))","v":""},"",{"$error":"#VALUE!"},{"$error":"#VALUE!"},{"$f":"J$14-(3*K$14)+(6*K$14)*(COUNT(K$23:K145)/COUNT(WeibullPlotData_AFTER[Cycles to failure]))","v":{"$error":"#DIV/0!"}},""]
[{"$f":"IF(WeibullPlotData_BEFORE[Cycles to failure]<>\"\",COUNT(B$23:B146),\"\")","v":""},{"$f":"IF('Input & Report'!$B125<>\"\",'Input & Report'!$B125,\"\")","v":""},{"$f":"IF(B146=\"\",\"\",RANK(B146,INDIRECT('Weibull Reliability Calculator'!$T$5),1))","v":""},"",{"$error":"#VALUE!"},{"$error":"#VALUE!"},{"$f":"IF(B146=\"\",\"\",G$14-(3*H$14)+(6*H$14)*(COUNT(B$23:B146)/COUNT(WeibullPlotData_BEFORE[Cycles to failure])))","v":""},"",null,{"$f":"IF(WeibullPlotData_AFTER[Cycles to failure]<>\"\",COUNT(K$23:K146),\"\")","v":""},{"$f":"IF('Input & Report'!$C125<>\"\",'Input & Report'!$C125,\"\")","v":""},{"$f":"IF(K146=\"\",\"\",RANK(K146,INDIRECT('Weibull Reliability Calculator'!$T$13),1))","v":""},"",{"$error":"#VALUE!"},{"$error":"#VALUE!"},{"$f":"J$14-(3*K$14)+(6*K$14)*(COUNT(K$23:K146)/COUNT(WeibullPlotData_AFTER[Cycles to failure]))","v":{"$error":"#DIV/0!"}},""]
[{"$f":"IF(WeibullPlotData_BEFORE[Cycles to failure]<>\"\",COUNT(B$23:B147),\"\")","v":""},{"$f":"IF('Input & Report'!$B126<>\"\",'Input & Report'!$B126,\"\")","v":""},{"$f":"IF(B147=\"\",\"\",RANK(B147,INDIRECT('Weibull Reliability Calculator'!$T$5),1))","v":""},"",{"$error":"#VALUE!"},{"$error":"#VALUE!"},{"$f":"IF(B147=\"\",\"\",G$14-(3*H$14)+(6*H$14)*(COUNT(B$23:B147)/COUNT(WeibullPlotData_BEFORE[Cycles to failure])))","v":""},"",null,{"$f":"IF(WeibullPlotData_AFTER[Cycles to failure]<>\"\",COUNT(K$23:K147),\"\")","v":""},{"$f":"IF('Input & Report'!$C126<>\"\",'Input & Report'!$C126,\"\")","v":""},{"$f":"IF(K147=\"\",\"\",RANK(K147,INDIRECT('Weibull Reliability Calculator'!$T$13),1))","v":""},"",{"$error":"#VALUE!"},{"$error":"#VALUE!"},{"$f":"J$14-(3*K$14)+(6*K$14)*(COUNT(K$23:K147)/COUNT(WeibullPlotData_AFTER[Cycles to failure]))","v":{"$error":"#DIV/0!"}},""]
[{"$f":"IF(WeibullPlotData_BEFORE[Cycles to failure]<>\"\",COUNT(B$23:B148),\"\")","v":""},{"$f":"IF('Input & Report'!$B127<>\"\",'Input & Report'!$B127,\"\")","v":""},{"$f":"IF(B148=\"\",\"\",RANK(B148,INDIRECT('Weibull Reliability Calculator'!$T$5),1))","v":""},"",{"$error":"#VALUE!"},{"$error":"#VALUE!"},{"$f":"IF(B148=\"\",\"\",G$14-(3*H$14)+(6*H$14)*(COUNT(B$23:B148)/COUNT(WeibullPlotData_BEFORE[Cycles to failure])))","v":""},"",null,{"$f":"IF(WeibullPlotData_AFTER[Cycles to failure]<>\"\",COUNT(K$23:K148),\"\")","v":""},{"$f":"IF('Input & Report'!$C127<>\"\",'Input & Report'!$C127,\"\")","v":""},{"$f":"IF(K148=\"\",\"\",RANK(K148,INDIRECT('Weibull Reliability Calculator'!$T$13),1))","v":""},"",{"$error":"#VALUE!"},{"$error":"#VALUE!"},{"$f":"J$14-(3*K$14)+(6*K$14)*(COUNT(K$23:K148)/COUNT(WeibullPlotData_AFTER[Cycles to failure]))","v":{"$error":"#DIV/0!"}},""]
[{"$f":"IF(WeibullPlotData_BEFORE[Cycles to failure]<>\"\",COUNT(B$23:B149),\"\")","v":""},{"$f":"IF('Input & Report'!$B128<>\"\",'Input & Report'!$B128,\"\")","v":""},{"$f":"IF(B149=\"\",\"\",RANK(B149,INDIRECT('Weibull Reliability Calculator'!$T$5),1))","v":""},"",{"$error":"#VALUE!"},{"$error":"#VALUE!"},{"$f":"IF(B149=\"\",\"\",G$14-(3*H$14)+(6*H$14)*(COUNT(B$23:B149)/COUNT(WeibullPlotData_BEFORE[Cycles to failure])))","v":""},"",null,{"$f":"IF(WeibullPlotData_AFTER[Cycles to failure]<>\"\",COUNT(K$23:K149),\"\")","v":""},{"$f":"IF('Input & Report'!$C128<>\"\",'Input & Report'!$C128,\"\")","v":""},{"$f":"IF(K149=\"\",\"\",RANK(K149,INDIRECT('Weibull Reliability Calculator'!$T$13),1))","v":""},"",{"$error":"#VALUE!"},{"$error":"#VALUE!"},{"$f":"J$14-(3*K$14)+(6*K$14)*(COUNT(K$23:K149)/COUNT(WeibullPlotData_AFTER[Cycles to failure]))","v":{"$error":"#DIV/0!"}},""]
[{"$f":"IF(WeibullPlotData_BEFORE[Cycles to failure]<>\"\",COUNT(B$23:B150),\"\")","v":""},{"$f":"IF('Input & Report'!$B129<>\"\",'Input & Report'!$B129,\"\")","v":""},{"$f":"IF(B150=\"\",\"\",RANK(B150,INDIRECT('Weibull Reliability Calculator'!$T$5),1))","v":""},"",{"$error":"#VALUE!"},{"$error":"#VALUE!"},{"$f":"IF(B150=\"\",\"\",G$14-(3*H$14)+(6*H$14)*(COUNT(B$23:B150)/COUNT(WeibullPlotData_BEFORE[Cycles to failure])))","v":""},"",null,{"$f":"IF(WeibullPlotData_AFTER[Cycles to failure]<>\"\",COUNT(K$23:K150),\"\")","v":""},{"$f":"IF('Input & Report'!$C129<>\"\",'Input & Report'!$C129,\"\")","v":""},{"$f":"IF(K150=\"\",\"\",RANK(K150,INDIRECT('Weibull Reliability Calculator'!$T$13),1))","v":""},"",{"$error":"#VALUE!"},{"$error":"#VALUE!"},{"$f":"J$14-(3*K$14)+(6*K$14)*(COUNT(K$23:K150)/COUNT(WeibullPlotData_AFTER[Cycles to failure]))","v":{"$error":"#DIV/0!"}},""]
[{"$f":"IF(WeibullPlotData_BEFORE[Cycles to failure]<>\"\",COUNT(B$23:B151),\"\")","v":""},{"$f":"IF('Input & Report'!$B130<>\"\",'Input & Report'!$B130,\"\")","v":""},{"$f":"IF(B151=\"\",\"\",RANK(B151,INDIRECT('Weibull Reliability Calculator'!$T$5),1))","v":""},{"$f":"IF(B151=\"\",\"\",((C151-0.3)/($T$7+0.4)))","v":""},{"$error":"#VALUE!"},{"$error":"#VALUE!"},{"$f":"IF(B151=\"\",\"\",G$14-(3*H$14)+(6*H$14)*(COUNT(B$23:B151)/COUNT(WeibullPlotData_BEFORE[Cycles to failure])))","v":""},"",null,{"$f":"IF(WeibullPlotData_AFTER[Cycles to failure]<>\"\",COUNT(K$23:K151),\"\")","v":""},{"$f":"IF('Input & Report'!$C130<>\"\",'Input & Report'!$C130,\"\")","v":""},{"$f":"IF(K151=\"\",\"\",RANK(K151,INDIRECT('Weibull Reliability Calculator'!$T$13),1))","v":""},{"$f":"IF(K151=\"\",\"\",((L151-0.3)/($T$15+0.4)))","v":""},{"$error":"#VALUE!"},{"$error":"#VALUE!"},{"$f":"J$14-(3*K$14)+(6*K$14)*(COUNT(K$23:K151)/COUNT(WeibullPlotData_AFTER[Cycles to failure]))","v":{"$error":"#DIV/0!"}},{"$f":"IF(K151=\"\",\"\",NORMDIST(P151,J$14,K$14,FALSE))","v":""}]
[{"$f":"IF(WeibullPlotData_BEFORE[Cycles to failure]<>\"\",COUNT(B$23:B152),\"\")","v":""},{"$f":"IF('Input & Report'!$B131<>\"\",'Input & Report'!$B131,\"\")","v":""},{"$f":"IF(B152=\"\",\"\",RANK(B152,INDIRECT('Weibull Reliability Calculator'!$T$5),1))","v":""},"",{"$f":"LN(LN((1/(1-D152))))","v":{"$error":"#VALUE!"}},{"$f":"LN(B152)","v":{"$error":"#VALUE!"}},{"$f":"IF(B152=\"\",\"\",G$14-(3*H$14)+(6*H$14)*(COUNT(B$23:B152)/COUNT(WeibullPlotData_BEFORE[Cycles to failure])))","v":""},{"$f":"IF(B152=\"\",\"\",NORMDIST(G152,G$14,H$14,FALSE))","v":""},null,{"$f":"IF(WeibullPlotData_AFTER[Cycles to failure]<>\"\",COUNT(K$23:K152),\"\")","v":""},{"$f":"IF('Input & Report'!$C131<>\"\",'Input & Report'!$C131,\"\")","v":""},{"$f":"IF(K152=\"\",\"\",RANK(K152,INDIRECT('Weibull Reliability Calculator'!$T$13),1))","v":""},"",{"$f":"LN(LN((1/(1-M152))))","v":{"$error":"#VALUE!"}},{"$f":"LN(K152)","v":{"$error":"#VALUE!"}},{"$f":"J$14-(3*K$14)+(6*K$14)*(COUNT(K$23:K152)/COUNT(WeibullPlotData_AFTER[Cycles to failure]))","v":{"$error":"#DIV/0!"}},""]
[{"$f":"IF(WeibullPlotData_BEFORE[Cycles to failure]<>\"\",COUNT(B$23:B153),\"\")","v":""},{"$f":"IF('Input & Report'!$B132<>\"\",'Input & Report'!$B132,\"\")","v":""},{"$f":"IF(B153=\"\",\"\",RANK(B153,INDIRECT('Weibull Reliability Calculator'!$T$5),1))","v":""},"",{"$error":"#VALUE!"},{"$error":"#VALUE!"},{"$f":"IF(B153=\"\",\"\",G$14-(3*H$14)+(6*H$14)*(COUNT(B$23:B153)/COUNT(WeibullPlotData_BEFORE[Cycles to failure])))","v":""},"",null,{"$f":"IF(WeibullPlotData_AFTER[Cycles to failure]<>\"\",COUNT(K$23:K153),\"\")","v":""},{"$f":"IF('Input & Report'!$C132<>\"\",'Input & Report'!$C132,\"\")","v":""},{"$f":"IF(K153=\"\",\"\",RANK(K153,INDIRECT('Weibull Reliability Calculator'!$T$13),1))","v":""},"",{"$error":"#VALUE!"},{"$error":"#VALUE!"},{"$f":"J$14-(3*K$14)+(6*K$14)*(COUNT(K$23:K153)/COUNT(WeibullPlotData_AFTER[Cycles to failure]))","v":{"$error":"#DIV/0!"}},""]
[{"$f":"IF(WeibullPlotData_BEFORE[Cycles to failure]<>\"\",COUNT(B$23:B154),\"\")","v":""},{"$f":"IF('Input & Report'!$B133<>\"\",'Input & Report'!$B133,\"\")","v":""},{"$f":"IF(B154=\"\",\"\",RANK(B154,INDIRECT('Weibull Reliability Calculator'!$T$5),1))","v":""},"",{"$error":"#VALUE!"},{"$error":"#VALUE!"},{"$f":"IF(B154=\"\",\"\",G$14-(3*H$14)+(6*H$14)*(COUNT(B$23:B154)/COUNT(WeibullPlotData_BEFORE[Cycles to failure])))","v":""},"",null,{"$f":"IF(WeibullPlotData_AFTER[Cycles to failure]<>\"\",COUNT(K$23:K154),\"\")","v":""},{"$f":"IF('Input & Report'!$C133<>\"\",'Input & Report'!$C133,\"\")","v":""},{"$f":"IF(K154=\"\",\"\",RANK(K154,INDIRECT('Weibull Reliability Calculator'!$T$13),1))","v":""},"",{"$error":"#VALUE!"},{"$error":"#VALUE!"},{"$f":"J$14-(3*K$14)+(6*K$14)*(COUNT(K$23:K154)/COUNT(WeibullPlotData_AFTER[Cycles to failure]))","v":{"$error":"#DIV/0!"}},""]
[{"$f":"IF(WeibullPlotData_BEFORE[Cycles to failure]<>\"\",COUNT(B$23:B155),\"\")","v":""},{"$f":"IF('Input & Report'!$B134<>\"\",'Input & Report'!$B134,\"\")","v":""},{"$f":"IF(B155=\"\",\"\",RANK(B155,INDIRECT('Weibull Reliability Calculator'!$T$5),1))","v":""},"",{"$error":"#VALUE!"},{"$error":"#VALUE!"},{"$f":"IF(B155=\"\",\"\",G$14-(3*H$14)+(6*H$14)*(COUNT(B$23:B155)/COUNT(WeibullPlotData_BEFORE[Cycles to failure])))","v":""},"",null,{"$f":"IF(WeibullPlotData_AFTER[Cycles to failure]<>\"\",COUNT(K$23:K155),\"\")","v":""},{"$f":"IF('Input & Report'!$C134<>\"\",'Input & Report'!$C134,\"\")","v":""},{"$f":"IF(K155=\"\",\"\",RANK(K155,INDIRECT('Weibull Reliability Calculator'!$T$13),1))","v":""},"",{"$error":"#VALUE!"},{"$error":"#VALUE!"},{"$f":"J$14-(3*K$14)+(6*K$14)*(COUNT(K$23:K155)/COUNT(WeibullPlotData_AFTER[Cycles to failure]))","v":{"$error":"#DIV/0!"}},""]
[{"$f":"IF(WeibullPlotData_BEFORE[Cycles to failure]<>\"\",COUNT(B$23:B156),\"\")","v":""},{"$f":"IF('Input & Report'!$B135<>\"\",'Input & Report'!$B135,\"\")","v":""},{"$f":"IF(B156=\"\",\"\",RANK(B156,INDIRECT('Weibull Reliability Calculator'!$T$5),1))","v":""},"",{"$error":"#VALUE!"},{"$error":"#VALUE!"},{"$f":"IF(B156=\"\",\"\",G$14-(3*H$14)+(6*H$14)*(COUNT(B$23:B156)/COUNT(WeibullPlotData_BEFORE[Cycles to failure])))","v":""},"",null,{"$f":"IF(WeibullPlotData_AFTER[Cycles to failure]<>\"\",COUNT(K$23:K156),\"\")","v":""},{"$f":"IF('Input & Report'!$C135<>\"\",'Input & Report'!$C135,\"\")","v":""},{"$f":"IF(K156=\"\",\"\",RANK(K156,INDIRECT('Weibull Reliability Calculator'!$T$13),1))","v":""},"",{"$error":"#VALUE!"},{"$error":"#VALUE!"},{"$f":"J$14-(3*K$14)+(6*K$14)*(COUNT(K$23:K156)/COUNT(WeibullPlotData_AFTER[Cycles to failure]))","v":{"$error":"#DIV/0!"}},""]
[{"$f":"IF(WeibullPlotData_BEFORE[Cycles to failure]<>\"\",COUNT(B$23:B157),\"\")","v":""},{"$f":"IF('Input & Report'!$B136<>\"\",'Input & Report'!$B136,\"\")","v":""},{"$f":"IF(B157=\"\",\"\",RANK(B157,INDIRECT('Weibull Reliability Calculator'!$T$5),1))","v":""},"",{"$error":"#VALUE!"},{"$error":"#VALUE!"},{"$f":"IF(B157=\"\",\"\",G$14-(3*H$14)+(6*H$14)*(COUNT(B$23:B157)/COUNT(WeibullPlotData_BEFORE[Cycles to failure])))","v":""},"",null,{"$f":"IF(WeibullPlotData_AFTER[Cycles to failure]<>\"\",COUNT(K$23:K157),\"\")","v":""},{"$f":"IF('Input & Report'!$C136<>\"\",'Input & Report'!$C136,\"\")","v":""},{"$f":"IF(K157=\"\",\"\",RANK(K157,INDIRECT('Weibull Reliability Calculator'!$T$13),1))","v":""},"",{"$error":"#VALUE!"},{"$error":"#VALUE!"},{"$f":"J$14-(3*K$14)+(6*K$14)*(COUNT(K$23:K157)/COUNT(WeibullPlotData_AFTER[Cycles to failure]))","v":{"$error":"#DIV/0!"}},""]
[{"$f":"IF(WeibullPlotData_BEFORE[Cycles to failure]<>\"\",COUNT(B$23:B158),\"\")","v":""},{"$f":"IF('Input & Report'!$B137<>\"\",'Input & Report'!$B137,\"\")","v":""},{"$f":"IF(B158=\"\",\"\",RANK(B158,INDIRECT('Weibull Reliability Calculator'!$T$5),1))","v":""},"",{"$error":"#VALUE!"},{"$error":"#VALUE!"},{"$f":"IF(B158=\"\",\"\",G$14-(3*H$14)+(6*H$14)*(COUNT(B$23:B158)/COUNT(WeibullPlotData_BEFORE[Cycles to failure])))","v":""},"",null,{"$f":"IF(WeibullPlotData_AFTER[Cycles to failure]<>\"\",COUNT(K$23:K158),\"\")","v":""},{"$f":"IF('Input & Report'!$C137<>\"\",'Input & Report'!$C137,\"\")","v":""},{"$f":"IF(K158=\"\",\"\",RANK(K158,INDIRECT('Weibull Reliability Calculator'!$T$13),1))","v":""},"",{"$error":"#VALUE!"},{"$error":"#VALUE!"},{"$f":"J$14-(3*K$14)+(6*K$14)*(COUNT(K$23:K158)/COUNT(WeibullPlotData_AFTER[Cycles to failure]))","v":{"$error":"#DIV/0!"}},""]
[{"$f":"IF(WeibullPlotData_BEFORE[Cycles to failure]<>\"\",COUNT(B$23:B159),\"\")","v":""},{"$f":"IF('Input & Report'!$B138<>\"\",'Input & Report'!$B138,\"\")","v":""},{"$f":"IF(B159=\"\",\"\",RANK(B159,INDIRECT('Weibull Reliability Calculator'!$T$5),1))","v":""},"",{"$error":"#VALUE!"},{"$error":"#VALUE!"},{"$f":"IF(B159=\"\",\"\",G$14-(3*H$14)+(6*H$14)*(COUNT(B$23:B159)/COUNT(WeibullPlotData_BEFORE[Cycles to failure])))","v":""},"",null,{"$f":"IF(WeibullPlotData_AFTER[Cycles to failure]<>\"\",COUNT(K$23:K159),\"\")","v":""},{"$f":"IF('Input & Report'!$C138<>\"\",'Input & Report'!$C138,\"\")","v":""},{"$f":"IF(K159=\"\",\"\",RANK(K159,INDIRECT('Weibull Reliability Calculator'!$T$13),1))","v":""},"",{"$error":"#VALUE!"},{"$error":"#VALUE!"},{"$f":"J$14-(3*K$14)+(6*K$14)*(COUNT(K$23:K159)/COUNT(WeibullPlotData_AFTER[Cycles to failure]))","v":{"$error":"#DIV/0!"}},""]
[{"$f":"IF(WeibullPlotData_BEFORE[Cycles to failure]<>\"\",COUNT(B$23:B160),\"\")","v":""},{"$f":"IF('Input & Report'!$B139<>\"\",'Input & Report'!$B139,\"\")","v":""},{"$f":"IF(B160=\"\",\"\",RANK(B160,INDIRECT('Weibull Reliability Calculator'!$T$5),1))","v":""},"",{"$error":"#VALUE!"},{"$error":"#VALUE!"},{"$f":"IF(B160=\"\",\"\",G$14-(3*H$14)+(6*H$14)*(COUNT(B$23:B160)/COUNT(WeibullPlotData_BEFORE[Cycles to failure])))","v":""},"",null,{"$f":"IF(WeibullPlotData_AFTER[Cycles to failure]<>\"\",COUNT(K$23:K160),\"\")","v":""},{"$f":"IF('Input & Report'!$C139<>\"\",'Input & Report'!$C139,\"\")","v":""},{"$f":"IF(K160=\"\",\"\",RANK(K160,INDIRECT('Weibull Reliability Calculator'!$T$13),1))","v":""},"",{"$error":"#VALUE!"},{"$error":"#VALUE!"},{"$f":"J$14-(3*K$14)+(6*K$14)*(COUNT(K$23:K160)/COUNT(WeibullPlotData_AFTER[Cycles to failure]))","v":{"$error":"#DIV/0!"}},""]
[{"$f":"IF(WeibullPlotData_BEFORE[Cycles to failure]<>\"\",COUNT(B$23:B161),\"\")","v":""},{"$f":"IF('Input & Report'!$B140<>\"\",'Input & Report'!$B140,\"\")","v":""},{"$f":"IF(B161=\"\",\"\",RANK(B161,INDIRECT('Weibull Reliability Calculator'!$T$5),1))","v":""},"",{"$error":"#VALUE!"},{"$error":"#VALUE!"},{"$f":"IF(B161=\"\",\"\",G$14-(3*H$14)+(6*H$14)*(COUNT(B$23:B161)/COUNT(WeibullPlotData_BEFORE[Cycles to failure])))","v":""},"",null,{"$f":"IF(WeibullPlotData_AFTER[Cycles to failure]<>\"\",COUNT(K$23:K161),\"\")","v":""},{"$f":"IF('Input & Report'!$C140<>\"\",'Input & Report'!$C140,\"\")","v":""},{"$f":"IF(K161=\"\",\"\",RANK(K161,INDIRECT('Weibull Reliability Calculator'!$T$13),1))","v":""},"",{"$error":"#VALUE!"},{"$error":"#VALUE!"},{"$f":"J$14-(3*K$14)+(6*K$14)*(COUNT(K$23:K161)/COUNT(WeibullPlotData_AFTER[Cycles to failure]))","v":{"$error":"#DIV/0!"}},""]
[{"$f":"IF(WeibullPlotData_BEFORE[Cycles to failure]<>\"\",COUNT(B$23:B162),\"\")","v":""},{"$f":"IF('Input & Report'!$B141<>\"\",'Input & Report'!$B141,\"\")","v":""},{"$f":"IF(B162=\"\",\"\",RANK(B162,INDIRECT('Weibull Reliability Calculator'!$T$5),1))","v":""},"",{"$error":"#VALUE!"},{"$error":"#VALUE!"},{"$f":"IF(B162=\"\",\"\",G$14-(3*H$14)+(6*H$14)*(COUNT(B$23:B162)/COUNT(WeibullPlotData_BEFORE[Cycles to failure])))","v":""},"",null,{"$f":"IF(WeibullPlotData_AFTER[Cycles to failure]<>\"\",COUNT(K$23:K162),\"\")","v":""},{"$f":"IF('Input & Report'!$C141<>\"\",'Input & Report'!$C141,\"\")","v":""},{"$f":"IF(K162=\"\",\"\",RANK(K162,INDIRECT('Weibull Reliability Calculator'!$T$13),1))","v":""},"",{"$error":"#VALUE!"},{"$error":"#VALUE!"},{"$f":"J$14-(3*K$14)+(6*K$14)*(COUNT(K$23:K162)/COUNT(WeibullPlotData_AFTER[Cycles to failure]))","v":{"$error":"#DIV/0!"}},""]
[{"$f":"IF(WeibullPlotData_BEFORE[Cycles to failure]<>\"\",COUNT(B$23:B163),\"\")","v":""},{"$f":"IF('Input & Report'!$B142<>\"\",'Input & Report'!$B142,\"\")","v":""},{"$f":"IF(B163=\"\",\"\",RANK(B163,INDIRECT('Weibull Reliability Calculator'!$T$5),1))","v":""},"",{"$error":"#VALUE!"},{"$error":"#VALUE!"},{"$f":"IF(B163=\"\",\"\",G$14-(3*H$14)+(6*H$14)*(COUNT(B$23:B163)/COUNT(WeibullPlotData_BEFORE[Cycles to failure])))","v":""},"",null,{"$f":"IF(WeibullPlotData_AFTER[Cycles to failure]<>\"\",COUNT(K$23:K163),\"\")","v":""},{"$f":"IF('Input & Report'!$C142<>\"\",'Input & Report'!$C142,\"\")","v":""},{"$f":"IF(K163=\"\",\"\",RANK(K163,INDIRECT('Weibull Reliability Calculator'!$T$13),1))","v":""},"",{"$error":"#VALUE!"},{"$error":"#VALUE!"},{"$f":"J$14-(3*K$14)+(6*K$14)*(COUNT(K$23:K163)/COUNT(WeibullPlotData_AFTER[Cycles to failure]))","v":{"$error":"#DIV/0!"}},""]
[{"$f":"IF(WeibullPlotData_BEFORE[Cycles to failure]<>\"\",COUNT(B$23:B164),\"\")","v":""},{"$f":"IF('Input & Report'!$B143<>\"\",'Input & Report'!$B143,\"\")","v":""},{"$f":"IF(B164=\"\",\"\",RANK(B164,INDIRECT('Weibull Reliability Calculator'!$T$5),1))","v":""},"",{"$error":"#VALUE!"},{"$error":"#VALUE!"},{"$f":"IF(B164=\"\",\"\",G$14-(3*H$14)+(6*H$14)*(COUNT(B$23:B164)/COUNT(WeibullPlotData_BEFORE[Cycles to failure])))","v":""},"",null,{"$f":"IF(WeibullPlotData_AFTER[Cycles to failure]<>\"\",COUNT(K$23:K164),\"\")","v":""},{"$f":"IF('Input & Report'!$C143<>\"\",'Input & Report'!$C143,\"\")","v":""},{"$f":"IF(K164=\"\",\"\",RANK(K164,INDIRECT('Weibull Reliability Calculator'!$T$13),1))","v":""},"",{"$error":"#VALUE!"},{"$error":"#VALUE!"},{"$f":"J$14-(3*K$14)+(6*K$14)*(COUNT(K$23:K164)/COUNT(WeibullPlotData_AFTER[Cycles to failure]))","v":{"$error":"#DIV/0!"}},""]
[{"$f":"IF(WeibullPlotData_BEFORE[Cycles to failure]<>\"\",COUNT(B$23:B165),\"\")","v":""},{"$f":"IF('Input & Report'!$B144<>\"\",'Input & Report'!$B144,\"\")","v":""},{"$f":"IF(B165=\"\",\"\",RANK(B165,INDIRECT('Weibull Reliability Calculator'!$T$5),1))","v":""},"",{"$error":"#VALUE!"},{"$error":"#VALUE!"},{"$f":"IF(B165=\"\",\"\",G$14-(3*H$14)+(6*H$14)*(COUNT(B$23:B165)/COUNT(WeibullPlotData_BEFORE[Cycles to failure])))","v":""},"",null,{"$f":"IF(WeibullPlotData_AFTER[Cycles to failure]<>\"\",COUNT(K$23:K165),\"\")","v":""},{"$f":"IF('Input & Report'!$C144<>\"\",'Input & Report'!$C144,\"\")","v":""},{"$f":"IF(K165=\"\",\"\",RANK(K165,INDIRECT('Weibull Reliability Calculator'!$T$13),1))","v":""},"",{"$error":"#VALUE!"},{"$error":"#VALUE!"},{"$f":"J$14-(3*K$14)+(6*K$14)*(COUNT(K$23:K165)/COUNT(WeibullPlotData_AFTER[Cycles to failure]))","v":{"$error":"#DIV/0!"}},""]
[{"$f":"IF(WeibullPlotData_BEFORE[Cycles to failure]<>\"\",COUNT(B$23:B166),\"\")","v":""},{"$f":"IF('Input & Report'!$B145<>\"\",'Input & Report'!$B145,\"\")","v":""},{"$f":"IF(B166=\"\",\"\",RANK(B166,INDIRECT('Weibull Reliability Calculator'!$T$5),1))","v":""},"",{"$error":"#VALUE!"},{"$error":"#VALUE!"},{"$f":"IF(B166=\"\",\"\",G$14-(3*H$14)+(6*H$14)*(COUNT(B$23:B166)/COUNT(WeibullPlotData_BEFORE[Cycles to failure])))","v":""},"",null,{"$f":"IF(WeibullPlotData_AFTER[Cycles to failure]<>\"\",COUNT(K$23:K166),\"\")","v":""},{"$f":"IF('Input & Report'!$C145<>\"\",'Input & Report'!$C145,\"\")","v":""},{"$f":"IF(K166=\"\",\"\",RANK(K166,INDIRECT('Weibull Reliability Calculator'!$T$13),1))","v":""},"",{"$error":"#VALUE!"},{"$error":"#VALUE!"},{"$f":"J$14-(3*K$14)+(6*K$14)*(COUNT(K$23:K166)/COUNT(WeibullPlotData_AFTER[Cycles to failure]))","v":{"$error":"#DIV/0!"}},""]
[{"$f":"IF(WeibullPlotData_BEFORE[Cycles to failure]<>\"\",COUNT(B$23:B167),\"\")","v":""},{"$f":"IF('Input & Report'!$B146<>\"\",'Input & Report'!$B146,\"\")","v":""},{"$f":"IF(B167=\"\",\"\",RANK(B167,INDIRECT('Weibull Reliability Calculator'!$T$5),1))","v":""},"",{"$error":"#VALUE!"},{"$error":"#VALUE!"},{"$f":"IF(B167=\"\",\"\",G$14-(3*H$14)+(6*H$14)*(COUNT(B$23:B167)/COUNT(WeibullPlotData_BEFORE[Cycles to failure])))","v":""},"",null,{"$f":"IF(WeibullPlotData_AFTER[Cycles to failure]<>\"\",COUNT(K$23:K167),\"\")","v":""},{"$f":"IF('Input & Report'!$C146<>\"\",'Input & Report'!$C146,\"\")","v":""},{"$f":"IF(K167=\"\",\"\",RANK(K167,INDIRECT('Weibull Reliability Calculator'!$T$13),1))","v":""},"",{"$error":"#VALUE!"},{"$error":"#VALUE!"},{"$f":"J$14-(3*K$14)+(6*K$14)*(COUNT(K$23:K167)/COUNT(WeibullPlotData_AFTER[Cycles to failure]))","v":{"$error":"#DIV/0!"}},""]
[{"$f":"IF(WeibullPlotData_BEFORE[Cycles to failure]<>\"\",COUNT(B$23:B168),\"\")","v":""},{"$f":"IF('Input & Report'!$B147<>\"\",'Input & Report'!$B147,\"\")","v":""},{"$f":"IF(B168=\"\",\"\",RANK(B168,INDIRECT('Weibull Reliability Calculator'!$T$5),1))","v":""},"",{"$error":"#VALUE!"},{"$error":"#VALUE!"},{"$f":"IF(B168=\"\",\"\",G$14-(3*H$14)+(6*H$14)*(COUNT(B$23:B168)/COUNT(WeibullPlotData_BEFORE[Cycles to failure])))","v":""},"",null,{"$f":"IF(WeibullPlotData_AFTER[Cycles to failure]<>\"\",COUNT(K$23:K168),\"\")","v":""},{"$f":"IF('Input & Report'!$C147<>\"\",'Input & Report'!$C147,\"\")","v":""},{"$f":"IF(K168=\"\",\"\",RANK(K168,INDIRECT('Weibull Reliability Calculator'!$T$13),1))","v":""},"",{"$error":"#VALUE!"},{"$error":"#VALUE!"},{"$f":"J$14-(3*K$14)+(6*K$14)*(COUNT(K$23:K168)/COUNT(WeibullPlotData_AFTER[Cycles to failure]))","v":{"$error":"#DIV/0!"}},""]
[{"$f":"IF(WeibullPlotData_BEFORE[Cycles to failure]<>\"\",COUNT(B$23:B169),\"\")","v":""},{"$f":"IF('Input & Report'!$B148<>\"\",'Input & Report'!$B148,\"\")","v":""},{"$f":"IF(B169=\"\",\"\",RANK(B169,INDIRECT('Weibull Reliability Calculator'!$T$5),1))","v":""},"",{"$error":"#VALUE!"},{"$error":"#VALUE!"},{"$f":"IF(B169=\"\",\"\",G$14-(3*H$14)+(6*H$14)*(COUNT(B$23:B169)/COUNT(WeibullPlotData_BEFORE[Cycles to failure])))","v":""},"",null,{"$f":"IF(WeibullPlotData_AFTER[Cycles to failure]<>\"\",COUNT(K$23:K169),\"\")","v":""},{"$f":"IF('Input & Report'!$C148<>\"\",'Input & Report'!$C148,\"\")","v":""},{"$f":"IF(K169=\"\",\"\",RANK(K169,INDIRECT('Weibull Reliability Calculator'!$T$13),1))","v":""},"",{"$error":"#VALUE!"},{"$error":"#VALUE!"},{"$f":"J$14-(3*K$14)+(6*K$14)*(COUNT(K$23:K169)/COUNT(WeibullPlotData_AFTER[Cycles to failure]))","v":{"$error":"#DIV/0!"}},""]
[{"$f":"IF(WeibullPlotData_BEFORE[Cycles to failure]<>\"\",COUNT(B$23:B170),\"\")","v":""},{"$f":"IF('Input & Report'!$B149<>\"\",'Input & Report'!$B149,\"\")","v":""},{"$f":"IF(B170=\"\",\"\",RANK(B170,INDIRECT('Weibull Reliability Calculator'!$T$5),1))","v":""},"",{"$error":"#VALUE!"},{"$error":"#VALUE!"},{"$f":"IF(B170=\"\",\"\",G$14-(3*H$14)+(6*H$14)*(COUNT(B$23:B170)/COUNT(WeibullPlotData_BEFORE[Cycles to failure])))","v":""},"",null,{"$f":"IF(WeibullPlotData_AFTER[Cycles to failure]<>\"\",COUNT(K$23:K170),\"\")","v":""},{"$f":"IF('Input & Report'!$C149<>\"\",'Input & Report'!$C149,\"\")","v":""},{"$f":"IF(K170=\"\",\"\",RANK(K170,INDIRECT('Weibull Reliability Calculator'!$T$13),1))","v":""},"",{"$error":"#VALUE!"},{"$error":"#VALUE!"},{"$f":"J$14-(3*K$14)+(6*K$14)*(COUNT(K$23:K170)/COUNT(WeibullPlotData_AFTER[Cycles to failure]))","v":{"$error":"#DIV/0!"}},""]
[{"$f":"IF(WeibullPlotData_BEFORE[Cycles to failure]<>\"\",COUNT(B$23:B171),\"\")","v":""},{"$f":"IF('Input & Report'!$B150<>\"\",'Input & Report'!$B150,\"\")","v":""},{"$f":"IF(B171=\"\",\"\",RANK(B171,INDIRECT('Weibull Reliability Calculator'!$T$5),1))","v":""},"",{"$error":"#VALUE!"},{"$error":"#VALUE!"},{"$f":"IF(B171=\"\",\"\",G$14-(3*H$14)+(6*H$14)*(COUNT(B$23:B171)/COUNT(WeibullPlotData_BEFORE[Cycles to failure])))","v":""},"",null,{"$f":"IF(WeibullPlotData_AFTER[Cycles to failure]<>\"\",COUNT(K$23:K171),\"\")","v":""},{"$f":"IF('Input & Report'!$C150<>\"\",'Input & Report'!$C150,\"\")","v":""},{"$f":"IF(K171=\"\",\"\",RANK(K171,INDIRECT('Weibull Reliability Calculator'!$T$13),1))","v":""},"",{"$error":"#VALUE!"},{"$error":"#VALUE!"},{"$f":"J$14-(3*K$14)+(6*K$14)*(COUNT(K$23:K171)/COUNT(WeibullPlotData_AFTER[Cycles to failure]))","v":{"$error":"#DIV/0!"}},""]
[{"$f":"IF(WeibullPlotData_BEFORE[Cycles to failure]<>\"\",COUNT(B$23:B172),\"\")","v":""},{"$f":"IF('Input & Report'!$B151<>\"\",'Input & Report'!$B151,\"\")","v":""},{"$f":"IF(B172=\"\",\"\",RANK(B172,INDIRECT('Weibull Reliability Calculator'!$T$5),1))","v":""},"",{"$error":"#VALUE!"},{"$error":"#VALUE!"},{"$f":"IF(B172=\"\",\"\",G$14-(3*H$14)+(6*H$14)*(COUNT(B$23:B172)/COUNT(WeibullPlotData_BEFORE[Cycles to failure])))","v":""},"",null,{"$f":"IF(WeibullPlotData_AFTER[Cycles to failure]<>\"\",COUNT(K$23:K172),\"\")","v":""},{"$f":"IF('Input & Report'!$C151<>\"\",'Input & Report'!$C151,\"\")","v":""},{"$f":"IF(K172=\"\",\"\",RANK(K172,INDIRECT('Weibull Reliability Calculator'!$T$13),1))","v":""},"",{"$error":"#VALUE!"},{"$error":"#VALUE!"},{"$f":"J$14-(3*K$14)+(6*K$14)*(COUNT(K$23:K172)/COUNT(WeibullPlotData_AFTER[Cycles to failure]))","v":{"$error":"#DIV/0!"}},""]
[{"$f":"IF(WeibullPlotData_BEFORE[Cycles to failure]<>\"\",COUNT(B$23:B173),\"\")","v":""},{"$f":"IF('Input & Report'!$B152<>\"\",'Input & Report'!$B152,\"\")","v":""},{"$f":"IF(B173=\"\",\"\",RANK(B173,INDIRECT('Weibull Reliability Calculator'!$T$5),1))","v":""},"",{"$error":"#VALUE!"},{"$error":"#VALUE!"},{"$f":"IF(B173=\"\",\"\",G$14-(3*H$14)+(6*H$14)*(COUNT(B$23:B173)/COUNT(WeibullPlotData_BEFORE[Cycles to failure])))","v":""},"",null,{"$f":"IF(WeibullPlotData_AFTER[Cycles to failure]<>\"\",COUNT(K$23:K173),\"\")","v":""},{"$f":"IF('Input & Report'!$C152<>\"\",'Input & Report'!$C152,\"\")","v":""},{"$f":"IF(K173=\"\",\"\",RANK(K173,INDIRECT('Weibull Reliability Calculator'!$T$13),1))","v":""},"",{"$error":"#VALUE!"},{"$error":"#VALUE!"},{"$f":"J$14-(3*K$14)+(6*K$14)*(COUNT(K$23:K173)/COUNT(WeibullPlotData_AFTER[Cycles to failure]))","v":{"$error":"#DIV/0!"}},""]
[{"$f":"IF(WeibullPlotData_BEFORE[Cycles to failure]<>\"\",COUNT(B$23:B174),\"\")","v":""},{"$f":"IF('Input & Report'!$B153<>\"\",'Input & Report'!$B153,\"\")","v":""},{"$f":"IF(B174=\"\",\"\",RANK(B174,INDIRECT('Weibull Reliability Calculator'!$T$5),1))","v":""},"",{"$error":"#VALUE!"},{"$error":"#VALUE!"},{"$f":"IF(B174=\"\",\"\",G$14-(3*H$14)+(6*H$14)*(COUNT(B$23:B174)/COUNT(WeibullPlotData_BEFORE[Cycles to failure])))","v":""},"",null,{"$f":"IF(WeibullPlotData_AFTER[Cycles to failure]<>\"\",COUNT(K$23:K174),\"\")","v":""},{"$f":"IF('Input & Report'!$C153<>\"\",'Input & Report'!$C153,\"\")","v":""},{"$f":"IF(K174=\"\",\"\",RANK(K174,INDIRECT('Weibull Reliability Calculator'!$T$13),1))","v":""},"",{"$error":"#VALUE!"},{"$error":"#VALUE!"},{"$f":"J$14-(3*K$14)+(6*K$14)*(COUNT(K$23:K174)/COUNT(WeibullPlotData_AFTER[Cycles to failure]))","v":{"$error":"#DIV/0!"}},""]
[{"$f":"IF(WeibullPlotData_BEFORE[Cycles to failure]<>\"\",COUNT(B$23:B175),\"\")","v":""},{"$f":"IF('Input & Report'!$B154<>\"\",'Input & Report'!$B154,\"\")","v":""},{"$f":"IF(B175=\"\",\"\",RANK(B175,INDIRECT('Weibull Reliability Calculator'!$T$5),1))","v":""},"",{"$error":"#VALUE!"},{"$error":"#VALUE!"},{"$f":"IF(B175=\"\",\"\",G$14-(3*H$14)+(6*H$14)*(COUNT(B$23:B175)/COUNT(WeibullPlotData_BEFORE[Cycles to failure])))","v":""},"",null,{"$f":"IF(WeibullPlotData_AFTER[Cycles to failure]<>\"\",COUNT(K$23:K175),\"\")","v":""},{"$f":"IF('Input & Report'!$C154<>\"\",'Input & Report'!$C154,\"\")","v":""},{"$f":"IF(K175=\"\",\"\",RANK(K175,INDIRECT('Weibull Reliability Calculator'!$T$13),1))","v":""},"",{"$error":"#VALUE!"},{"$error":"#VALUE!"},{"$f":"J$14-(3*K$14)+(6*K$14)*(COUNT(K$23:K175)/COUNT(WeibullPlotData_AFTER[Cycles to failure]))","v":{"$error":"#DIV/0!"}},""]
[{"$f":"IF(WeibullPlotData_BEFORE[Cycles to failure]<>\"\",COUNT(B$23:B176),\"\")","v":""},{"$f":"IF('Input & Report'!$B155<>\"\",'Input & Report'!$B155,\"\")","v":""},{"$f":"IF(B176=\"\",\"\",RANK(B176,INDIRECT('Weibull Reliability Calculator'!$T$5),1))","v":""},"",{"$error":"#VALUE!"},{"$error":"#VALUE!"},{"$f":"IF(B176=\"\",\"\",G$14-(3*H$14)+(6*H$14)*(COUNT(B$23:B176)/COUNT(WeibullPlotData_BEFORE[Cycles to failure])))","v":""},"",null,{"$f":"IF(WeibullPlotData_AFTER[Cycles to failure]<>\"\",COUNT(K$23:K176),\"\")","v":""},{"$f":"IF('Input & Report'!$C155<>\"\",'Input & Report'!$C155,\"\")","v":""},{"$f":"IF(K176=\"\",\"\",RANK(K176,INDIRECT('Weibull Reliability Calculator'!$T$13),1))","v":""},"",{"$error":"#VALUE!"},{"$error":"#VALUE!"},{"$f":"J$14-(3*K$14)+(6*K$14)*(COUNT(K$23:K176)/COUNT(WeibullPlotData_AFTER[Cycles to failure]))","v":{"$error":"#DIV/0!"}},""]
[{"$f":"IF(WeibullPlotData_BEFORE[Cycles to failure]<>\"\",COUNT(B$23:B177),\"\")","v":""},{"$f":"IF('Input & Report'!$B156<>\"\",'Input & Report'!$B156,\"\")","v":""},{"$f":"IF(B177=\"\",\"\",RANK(B177,INDIRECT('Weibull Reliability Calculator'!$T$5),1))","v":""},"",{"$error":"#VALUE!"},{"$error":"#VALUE!"},{"$f":"IF(B177=\"\",\"\",G$14-(3*H$14)+(6*H$14)*(COUNT(B$23:B177)/COUNT(WeibullPlotData_BEFORE[Cycles to failure])))","v":""},"",null,{"$f":"IF(WeibullPlotData_AFTER[Cycles to failure]<>\"\",COUNT(K$23:K177),\"\")","v":""},{"$f":"IF('Input & Report'!$C156<>\"\",'Input & Report'!$C156,\"\")","v":""},{"$f":"IF(K177=\"\",\"\",RANK(K177,INDIRECT('Weibull Reliability Calculator'!$T$13),1))","v":""},"",{"$error":"#VALUE!"},{"$error":"#VALUE!"},{"$f":"J$14-(3*K$14)+(6*K$14)*(COUNT(K$23:K177)/COUNT(WeibullPlotData_AFTER[Cycles to failure]))","v":{"$error":"#DIV/0!"}},""]
[{"$f":"IF(WeibullPlotData_BEFORE[Cycles to failure]<>\"\",COUNT(B$23:B178),\"\")","v":""},{"$f":"IF('Input & Report'!$B157<>\"\",'Input & Report'!$B157,\"\")","v":""},{"$f":"IF(B178=\"\",\"\",RANK(B178,INDIRECT('Weibull Reliability Calculator'!$T$5),1))","v":""},"",{"$error":"#VALUE!"},{"$error":"#VALUE!"},{"$f":"IF(B178=\"\",\"\",G$14-(3*H$14)+(6*H$14)*(COUNT(B$23:B178)/COUNT(WeibullPlotData_BEFORE[Cycles to failure])))","v":""},"",null,{"$f":"IF(WeibullPlotData_AFTER[Cycles to failure]<>\"\",COUNT(K$23:K178),\"\")","v":""},{"$f":"IF('Input & Report'!$C157<>\"\",'Input & Report'!$C157,\"\")","v":""},{"$f":"IF(K178=\"\",\"\",RANK(K178,INDIRECT('Weibull Reliability Calculator'!$T$13),1))","v":""},"",{"$error":"#VALUE!"},{"$error":"#VALUE!"},{"$f":"J$14-(3*K$14)+(6*K$14)*(COUNT(K$23:K178)/COUNT(WeibullPlotData_AFTER[Cycles to failure]))","v":{"$error":"#DIV/0!"}},""]
[{"$f":"IF(WeibullPlotData_BEFORE[Cycles to failure]<>\"\",COUNT(B$23:B179),\"\")","v":""},{"$f":"IF('Input & Report'!$B158<>\"\",'Input & Report'!$B158,\"\")","v":""},{"$f":"IF(B179=\"\",\"\",RANK(B179,INDIRECT('Weibull Reliability Calculator'!$T$5),1))","v":""},"",{"$error":"#VALUE!"},{"$error":"#VALUE!"},{"$f":"IF(B179=\"\",\"\",G$14-(3*H$14)+(6*H$14)*(COUNT(B$23:B179)/COUNT(WeibullPlotData_BEFORE[Cycles to failure])))","v":""},"",null,{"$f":"IF(WeibullPlotData_AFTER[Cycles to failure]<>\"\",COUNT(K$23:K179),\"\")","v":""},{"$f":"IF('Input & Report'!$C158<>\"\",'Input & Report'!$C158,\"\")","v":""},{"$f":"IF(K179=\"\",\"\",RANK(K179,INDIRECT('Weibull Reliability Calculator'!$T$13),1))","v":""},"",{"$error":"#VALUE!"},{"$error":"#VALUE!"},{"$f":"J$14-(3*K$14)+(6*K$14)*(COUNT(K$23:K179)/COUNT(WeibullPlotData_AFTER[Cycles to failure]))","v":{"$error":"#DIV/0!"}},""]
[{"$f":"IF(WeibullPlotData_BEFORE[Cycles to failure]<>\"\",COUNT(B$23:B180),\"\")","v":""},{"$f":"IF('Input & Report'!$B159<>\"\",'Input & Report'!$B159,\"\")","v":""},{"$f":"IF(B180=\"\",\"\",RANK(B180,INDIRECT('Weibull Reliability Calculator'!$T$5),1))","v":""},"",{"$error":"#VALUE!"},{"$error":"#VALUE!"},{"$f":"IF(B180=\"\",\"\",G$14-(3*H$14)+(6*H$14)*(COUNT(B$23:B180)/COUNT(WeibullPlotData_BEFORE[Cycles to failure])))","v":""},"",null,{"$f":"IF(WeibullPlotData_AFTER[Cycles to failure]<>\"\",COUNT(K$23:K180),\"\")","v":""},{"$f":"IF('Input & Report'!$C159<>\"\",'Input & Report'!$C159,\"\")","v":""},{"$f":"IF(K180=\"\",\"\",RANK(K180,INDIRECT('Weibull Reliability Calculator'!$T$13),1))","v":""},"",{"$error":"#VALUE!"},{"$error":"#VALUE!"},{"$f":"J$14-(3*K$14)+(6*K$14)*(COUNT(K$23:K180)/COUNT(WeibullPlotData_AFTER[Cycles to failure]))","v":{"$error":"#DIV/0!"}},""]
[{"$f":"IF(WeibullPlotData_BEFORE[Cycles to failure]<>\"\",COUNT(B$23:B181),\"\")","v":""},{"$f":"IF('Input & Report'!$B160<>\"\",'Input & Report'!$B160,\"\")","v":""},{"$f":"IF(B181=\"\",\"\",RANK(B181,INDIRECT('Weibull Reliability Calculator'!$T$5),1))","v":""},"",{"$error":"#VALUE!"},{"$error":"#VALUE!"},{"$f":"IF(B181=\"\",\"\",G$14-(3*H$14)+(6*H$14)*(COUNT(B$23:B181)/COUNT(WeibullPlotData_BEFORE[Cycles to failure])))","v":""},"",null,{"$f":"IF(WeibullPlotData_AFTER[Cycles to failure]<>\"\",COUNT(K$23:K181),\"\")","v":""},{"$f":"IF('Input & Report'!$C160<>\"\",'Input & Report'!$C160,\"\")","v":""},{"$f":"IF(K181=\"\",\"\",RANK(K181,INDIRECT('Weibull Reliability Calculator'!$T$13),1))","v":""},"",{"$error":"#VALUE!"},{"$error":"#VALUE!"},{"$f":"J$14-(3*K$14)+(6*K$14)*(COUNT(K$23:K181)/COUNT(WeibullPlotData_AFTER[Cycles to failure]))","v":{"$error":"#DIV/0!"}},""]
[{"$f":"IF(WeibullPlotData_BEFORE[Cycles to failure]<>\"\",COUNT(B$23:B182),\"\")","v":""},{"$f":"IF('Input & Report'!$B161<>\"\",'Input & Report'!$B161,\"\")","v":""},{"$f":"IF(B182=\"\",\"\",RANK(B182,INDIRECT('Weibull Reliability Calculator'!$T$5),1))","v":""},"",{"$error":"#VALUE!"},{"$error":"#VALUE!"},{"$f":"IF(B182=\"\",\"\",G$14-(3*H$14)+(6*H$14)*(COUNT(B$23:B182)/COUNT(WeibullPlotData_BEFORE[Cycles to failure])))","v":""},"",null,{"$f":"IF(WeibullPlotData_AFTER[Cycles to failure]<>\"\",COUNT(K$23:K182),\"\")","v":""},{"$f":"IF('Input & Report'!$C161<>\"\",'Input & Report'!$C161,\"\")","v":""},{"$f":"IF(K182=\"\",\"\",RANK(K182,INDIRECT('Weibull Reliability Calculator'!$T$13),1))","v":""},"",{"$error":"#VALUE!"},{"$error":"#VALUE!"},{"$f":"J$14-(3*K$14)+(6*K$14)*(COUNT(K$23:K182)/COUNT(WeibullPlotData_AFTER[Cycles to failure]))","v":{"$error":"#DIV/0!"}},""]
[{"$f":"IF(WeibullPlotData_BEFORE[Cycles to failure]<>\"\",COUNT(B$23:B183),\"\")","v":""},{"$f":"IF('Input & Report'!$B162<>\"\",'Input & Report'!$B162,\"\")","v":""},{"$f":"IF(B183=\"\",\"\",RANK(B183,INDIRECT('Weibull Reliability Calculator'!$T$5),1))","v":""},"",{"$error":"#VALUE!"},{"$error":"#VALUE!"},{"$f":"IF(B183=\"\",\"\",G$14-(3*H$14)+(6*H$14)*(COUNT(B$23:B183)/COUNT(WeibullPlotData_BEFORE[Cycles to failure])))","v":""},"",null,{"$f":"IF(WeibullPlotData_AFTER[Cycles to failure]<>\"\",COUNT(K$23:K183),\"\")","v":""},{"$f":"IF('Input & Report'!$C162<>\"\",'Input & Report'!$C162,\"\")","v":""},{"$f":"IF(K183=\"\",\"\",RANK(K183,INDIRECT('Weibull Reliability Calculator'!$T$13),1))","v":""},"",{"$error":"#VALUE!"},{"$error":"#VALUE!"},{"$f":"J$14-(3*K$14)+(6*K$14)*(COUNT(K$23:K183)/COUNT(WeibullPlotData_AFTER[Cycles to failure]))","v":{"$error":"#DIV/0!"}},""]
[{"$f":"IF(WeibullPlotData_BEFORE[Cycles to failure]<>\"\",COUNT(B$23:B184),\"\")","v":""},{"$f":"IF('Input & Report'!$B163<>\"\",'Input & Report'!$B163,\"\")","v":""},{"$f":"IF(B184=\"\",\"\",RANK(B184,INDIRECT('Weibull Reliability Calculator'!$T$5),1))","v":""},"",{"$error":"#VALUE!"},{"$error":"#VALUE!"},{"$f":"IF(B184=\"\",\"\",G$14-(3*H$14)+(6*H$14)*(COUNT(B$23:B184)/COUNT(WeibullPlotData_BEFORE[Cycles to failure])))","v":""},"",null,{"$f":"IF(WeibullPlotData_AFTER[Cycles to failure]<>\"\",COUNT(K$23:K184),\"\")","v":""},{"$f":"IF('Input & Report'!$C163<>\"\",'Input & Report'!$C163,\"\")","v":""},{"$f":"IF(K184=\"\",\"\",RANK(K184,INDIRECT('Weibull Reliability Calculator'!$T$13),1))","v":""},"",{"$error":"#VALUE!"},{"$error":"#VALUE!"},{"$f":"J$14-(3*K$14)+(6*K$14)*(COUNT(K$23:K184)/COUNT(WeibullPlotData_AFTER[Cycles to failure]))","v":{"$error":"#DIV/0!"}},""]
[{"$f":"IF(WeibullPlotData_BEFORE[Cycles to failure]<>\"\",COUNT(B$23:B185),\"\")","v":""},{"$f":"IF('Input & Report'!$B164<>\"\",'Input & Report'!$B164,\"\")","v":""},{"$f":"IF(B185=\"\",\"\",RANK(B185,INDIRECT('Weibull Reliability Calculator'!$T$5),1))","v":""},"",{"$error":"#VALUE!"},{"$error":"#VALUE!"},{"$f":"IF(B185=\"\",\"\",G$14-(3*H$14)+(6*H$14)*(COUNT(B$23:B185)/COUNT(WeibullPlotData_BEFORE[Cycles to failure])))","v":""},"",null,{"$f":"IF(WeibullPlotData_AFTER[Cycles to failure]<>\"\",COUNT(K$23:K185),\"\")","v":""},{"$f":"IF('Input & Report'!$C164<>\"\",'Input & Report'!$C164,\"\")","v":""},{"$f":"IF(K185=\"\",\"\",RANK(K185,INDIRECT('Weibull Reliability Calculator'!$T$13),1))","v":""},"",{"$error":"#VALUE!"},{"$error":"#VALUE!"},{"$f":"J$14-(3*K$14)+(6*K$14)*(COUNT(K$23:K185)/COUNT(WeibullPlotData_AFTER[Cycles to failure]))","v":{"$error":"#DIV/0!"}},""]
[{"$f":"IF(WeibullPlotData_BEFORE[Cycles to failure]<>\"\",COUNT(B$23:B186),\"\")","v":""},{"$f":"IF('Input & Report'!$B165<>\"\",'Input & Report'!$B165,\"\")","v":""},{"$f":"IF(B186=\"\",\"\",RANK(B186,INDIRECT('Weibull Reliability Calculator'!$T$5),1))","v":""},"",{"$error":"#VALUE!"},{"$error":"#VALUE!"},{"$f":"IF(B186=\"\",\"\",G$14-(3*H$14)+(6*H$14)*(COUNT(B$23:B186)/COUNT(WeibullPlotData_BEFORE[Cycles to failure])))","v":""},"",null,{"$f":"IF(WeibullPlotData_AFTER[Cycles to failure]<>\"\",COUNT(K$23:K186),\"\")","v":""},{"$f":"IF('Input & Report'!$C165<>\"\",'Input & Report'!$C165,\"\")","v":""},{"$f":"IF(K186=\"\",\"\",RANK(K186,INDIRECT('Weibull Reliability Calculator'!$T$13),1))","v":""},"",{"$error":"#VALUE!"},{"$error":"#VALUE!"},{"$f":"J$14-(3*K$14)+(6*K$14)*(COUNT(K$23:K186)/COUNT(WeibullPlotData_AFTER[Cycles to failure]))","v":{"$error":"#DIV/0!"}},""]
[{"$f":"IF(WeibullPlotData_BEFORE[Cycles to failure]<>\"\",COUNT(B$23:B187),\"\")","v":""},{"$f":"IF('Input & Report'!$B166<>\"\",'Input & Report'!$B166,\"\")","v":""},{"$f":"IF(B187=\"\",\"\",RANK(B187,INDIRECT('Weibull Reliability Calculator'!$T$5),1))","v":""},"",{"$error":"#VALUE!"},{"$error":"#VALUE!"},{"$f":"IF(B187=\"\",\"\",G$14-(3*H$14)+(6*H$14)*(COUNT(B$23:B187)/COUNT(WeibullPlotData_BEFORE[Cycles to failure])))","v":""},"",null,{"$f":"IF(WeibullPlotData_AFTER[Cycles to failure]<>\"\",COUNT(K$23:K187),\"\")","v":""},{"$f":"IF('Input & Report'!$C166<>\"\",'Input & Report'!$C166,\"\")","v":""},{"$f":"IF(K187=\"\",\"\",RANK(K187,INDIRECT('Weibull Reliability Calculator'!$T$13),1))","v":""},"",{"$error":"#VALUE!"},{"$error":"#VALUE!"},{"$f":"J$14-(3*K$14)+(6*K$14)*(COUNT(K$23:K187)/COUNT(WeibullPlotData_AFTER[Cycles to failure]))","v":{"$error":"#DIV/0!"}},""]
[{"$f":"IF(WeibullPlotData_BEFORE[Cycles to failure]<>\"\",COUNT(B$23:B188),\"\")","v":""},{"$f":"IF('Input & Report'!$B167<>\"\",'Input & Report'!$B167,\"\")","v":""},{"$f":"IF(B188=\"\",\"\",RANK(B188,INDIRECT('Weibull Reliability Calculator'!$T$5),1))","v":""},"",{"$error":"#VALUE!"},{"$error":"#VALUE!"},{"$f":"IF(B188=\"\",\"\",G$14-(3*H$14)+(6*H$14)*(COUNT(B$23:B188)/COUNT(WeibullPlotData_BEFORE[Cycles to failure])))","v":""},"",null,{"$f":"IF(WeibullPlotData_AFTER[Cycles to failure]<>\"\",COUNT(K$23:K188),\"\")","v":""},{"$f":"IF('Input & Report'!$C167<>\"\",'Input & Report'!$C167,\"\")","v":""},{"$f":"IF(K188=\"\",\"\",RANK(K188,INDIRECT('Weibull Reliability Calculator'!$T$13),1))","v":""},"",{"$error":"#VALUE!"},{"$error":"#VALUE!"},{"$f":"J$14-(3*K$14)+(6*K$14)*(COUNT(K$23:K188)/COUNT(WeibullPlotData_AFTER[Cycles to failure]))","v":{"$error":"#DIV/0!"}},""]
[{"$f":"IF(WeibullPlotData_BEFORE[Cycles to failure]<>\"\",COUNT(B$23:B189),\"\")","v":""},{"$f":"IF('Input & Report'!$B168<>\"\",'Input & Report'!$B168,\"\")","v":""},{"$f":"IF(B189=\"\",\"\",RANK(B189,INDIRECT('Weibull Reliability Calculator'!$T$5),1))","v":""},"",{"$error":"#VALUE!"},{"$error":"#VALUE!"},{"$f":"IF(B189=\"\",\"\",G$14-(3*H$14)+(6*H$14)*(COUNT(B$23:B189)/COUNT(WeibullPlotData_BEFORE[Cycles to failure])))","v":""},"",null,{"$f":"IF(WeibullPlotData_AFTER[Cycles to failure]<>\"\",COUNT(K$23:K189),\"\")","v":""},{"$f":"IF('Input & Report'!$C168<>\"\",'Input & Report'!$C168,\"\")","v":""},{"$f":"IF(K189=\"\",\"\",RANK(K189,INDIRECT('Weibull Reliability Calculator'!$T$13),1))","v":""},"",{"$error":"#VALUE!"},{"$error":"#VALUE!"},{"$f":"J$14-(3*K$14)+(6*K$14)*(COUNT(K$23:K189)/COUNT(WeibullPlotData_AFTER[Cycles to failure]))","v":{"$error":"#DIV/0!"}},""]
[{"$f":"IF(WeibullPlotData_BEFORE[Cycles to failure]<>\"\",COUNT(B$23:B190),\"\")","v":""},{"$f":"IF('Input & Report'!$B169<>\"\",'Input & Report'!$B169,\"\")","v":""},{"$f":"IF(B190=\"\",\"\",RANK(B190,INDIRECT('Weibull Reliability Calculator'!$T$5),1))","v":""},"",{"$error":"#VALUE!"},{"$error":"#VALUE!"},{"$f":"IF(B190=\"\",\"\",G$14-(3*H$14)+(6*H$14)*(COUNT(B$23:B190)/COUNT(WeibullPlotData_BEFORE[Cycles to failure])))","v":""},"",null,{"$f":"IF(WeibullPlotData_AFTER[Cycles to failure]<>\"\",COUNT(K$23:K190),\"\")","v":""},{"$f":"IF('Input & Report'!$C169<>\"\",'Input & Report'!$C169,\"\")","v":""},{"$f":"IF(K190=\"\",\"\",RANK(K190,INDIRECT('Weibull Reliability Calculator'!$T$13),1))","v":""},"",{"$error":"#VALUE!"},{"$error":"#VALUE!"},{"$f":"J$14-(3*K$14)+(6*K$14)*(COUNT(K$23:K190)/COUNT(WeibullPlotData_AFTER[Cycles to failure]))","v":{"$error":"#DIV/0!"}},""]
[{"$f":"IF(WeibullPlotData_BEFORE[Cycles to failure]<>\"\",COUNT(B$23:B191),\"\")","v":""},{"$f":"IF('Input & Report'!$B170<>\"\",'Input & Report'!$B170,\"\")","v":""},{"$f":"IF(B191=\"\",\"\",RANK(B191,INDIRECT('Weibull Reliability Calculator'!$T$5),1))","v":""},"",{"$error":"#VALUE!"},{"$error":"#VALUE!"},{"$f":"IF(B191=\"\",\"\",G$14-(3*H$14)+(6*H$14)*(COUNT(B$23:B191)/COUNT(WeibullPlotData_BEFORE[Cycles to failure])))","v":""},"",null,{"$f":"IF(WeibullPlotData_AFTER[Cycles to failure]<>\"\",COUNT(K$23:K191),\"\")","v":""},{"$f":"IF('Input & Report'!$C170<>\"\",'Input & Report'!$C170,\"\")","v":""},{"$f":"IF(K191=\"\",\"\",RANK(K191,INDIRECT('Weibull Reliability Calculator'!$T$13),1))","v":""},"",{"$error":"#VALUE!"},{"$error":"#VALUE!"},{"$f":"J$14-(3*K$14)+(6*K$14)*(COUNT(K$23:K191)/COUNT(WeibullPlotData_AFTER[Cycles to failure]))","v":{"$error":"#DIV/0!"}},""]
[{"$f":"IF(WeibullPlotData_BEFORE[Cycles to failure]<>\"\",COUNT(B$23:B192),\"\")","v":""},{"$f":"IF('Input & Report'!$B171<>\"\",'Input & Report'!$B171,\"\")","v":""},{"$f":"IF(B192=\"\",\"\",RANK(B192,INDIRECT('Weibull Reliability Calculator'!$T$5),1))","v":""},"",{"$error":"#VALUE!"},{"$error":"#VALUE!"},{"$f":"IF(B192=\"\",\"\",G$14-(3*H$14)+(6*H$14)*(COUNT(B$23:B192)/COUNT(WeibullPlotData_BEFORE[Cycles to failure])))","v":""},"",null,{"$f":"IF(WeibullPlotData_AFTER[Cycles to failure]<>\"\",COUNT(K$23:K192),\"\")","v":""},{"$f":"IF('Input & Report'!$C171<>\"\",'Input & Report'!$C171,\"\")","v":""},{"$f":"IF(K192=\"\",\"\",RANK(K192,INDIRECT('Weibull Reliability Calculator'!$T$13),1))","v":""},"",{"$error":"#VALUE!"},{"$error":"#VALUE!"},{"$f":"J$14-(3*K$14)+(6*K$14)*(COUNT(K$23:K192)/COUNT(WeibullPlotData_AFTER[Cycles to failure]))","v":{"$error":"#DIV/0!"}},""]
[{"$f":"IF(WeibullPlotData_BEFORE[Cycles to failure]<>\"\",COUNT(B$23:B193),\"\")","v":""},{"$f":"IF('Input & Report'!$B172<>\"\",'Input & Report'!$B172,\"\")","v":""},{"$f":"IF(B193=\"\",\"\",RANK(B193,INDIRECT('Weibull Reliability Calculator'!$T$5),1))","v":""},"",{"$error":"#VALUE!"},{"$error":"#VALUE!"},{"$f":"IF(B193=\"\",\"\",G$14-(3*H$14)+(6*H$14)*(COUNT(B$23:B193)/COUNT(WeibullPlotData_BEFORE[Cycles to failure])))","v":""},"",null,{"$f":"IF(WeibullPlotData_AFTER[Cycles to failure]<>\"\",COUNT(K$23:K193),\"\")","v":""},{"$f":"IF('Input & Report'!$C172<>\"\",'Input & Report'!$C172,\"\")","v":""},{"$f":"IF(K193=\"\",\"\",RANK(K193,INDIRECT('Weibull Reliability Calculator'!$T$13),1))","v":""},"",{"$error":"#VALUE!"},{"$error":"#VALUE!"},{"$f":"J$14-(3*K$14)+(6*K$14)*(COUNT(K$23:K193)/COUNT(WeibullPlotData_AFTER[Cycles to failure]))","v":{"$error":"#DIV/0!"}},""]
[{"$f":"IF(WeibullPlotData_BEFORE[Cycles to failure]<>\"\",COUNT(B$23:B194),\"\")","v":""},{"$f":"IF('Input & Report'!$B173<>\"\",'Input & Report'!$B173,\"\")","v":""},{"$f":"IF(B194=\"\",\"\",RANK(B194,INDIRECT('Weibull Reliability Calculator'!$T$5),1))","v":""},"",{"$error":"#VALUE!"},{"$error":"#VALUE!"},{"$f":"IF(B194=\"\",\"\",G$14-(3*H$14)+(6*H$14)*(COUNT(B$23:B194)/COUNT(WeibullPlotData_BEFORE[Cycles to failure])))","v":""},"",null,{"$f":"IF(WeibullPlotData_AFTER[Cycles to failure]<>\"\",COUNT(K$23:K194),\"\")","v":""},{"$f":"IF('Input & Report'!$C173<>\"\",'Input & Report'!$C173,\"\")","v":""},{"$f":"IF(K194=\"\",\"\",RANK(K194,INDIRECT('Weibull Reliability Calculator'!$T$13),1))","v":""},"",{"$error":"#VALUE!"},{"$error":"#VALUE!"},{"$f":"J$14-(3*K$14)+(6*K$14)*(COUNT(K$23:K194)/COUNT(WeibullPlotData_AFTER[Cycles to failure]))","v":{"$error":"#DIV/0!"}},""]
[{"$f":"IF(WeibullPlotData_BEFORE[Cycles to failure]<>\"\",COUNT(B$23:B195),\"\")","v":""},{"$f":"IF('Input & Report'!$B174<>\"\",'Input & Report'!$B174,\"\")","v":""},{"$f":"IF(B195=\"\",\"\",RANK(B195,INDIRECT('Weibull Reliability Calculator'!$T$5),1))","v":""},"",{"$error":"#VALUE!"},{"$error":"#VALUE!"},{"$f":"IF(B195=\"\",\"\",G$14-(3*H$14)+(6*H$14)*(COUNT(B$23:B195)/COUNT(WeibullPlotData_BEFORE[Cycles to failure])))","v":""},"",null,{"$f":"IF(WeibullPlotData_AFTER[Cycles to failure]<>\"\",COUNT(K$23:K195),\"\")","v":""},{"$f":"IF('Input & Report'!$C174<>\"\",'Input & Report'!$C174,\"\")","v":""},{"$f":"IF(K195=\"\",\"\",RANK(K195,INDIRECT('Weibull Reliability Calculator'!$T$13),1))","v":""},"",{"$error":"#VALUE!"},{"$error":"#VALUE!"},{"$f":"J$14-(3*K$14)+(6*K$14)*(COUNT(K$23:K195)/COUNT(WeibullPlotData_AFTER[Cycles to failure]))","v":{"$error":"#DIV/0!"}},""]
[{"$f":"IF(WeibullPlotData_BEFORE[Cycles to failure]<>\"\",COUNT(B$23:B196),\"\")","v":""},{"$f":"IF('Input & Report'!$B175<>\"\",'Input & Report'!$B175,\"\")","v":""},{"$f":"IF(B196=\"\",\"\",RANK(B196,INDIRECT('Weibull Reliability Calculator'!$T$5),1))","v":""},"",{"$error":"#VALUE!"},{"$error":"#VALUE!"},{"$f":"IF(B196=\"\",\"\",G$14-(3*H$14)+(6*H$14)*(COUNT(B$23:B196)/COUNT(WeibullPlotData_BEFORE[Cycles to failure])))","v":""},"",null,{"$f":"IF(WeibullPlotData_AFTER[Cycles to failure]<>\"\",COUNT(K$23:K196),\"\")","v":""},{"$f":"IF('Input & Report'!$C175<>\"\",'Input & Report'!$C175,\"\")","v":""},{"$f":"IF(K196=\"\",\"\",RANK(K196,INDIRECT('Weibull Reliability Calculator'!$T$13),1))","v":""},"",{"$error":"#VALUE!"},{"$error":"#VALUE!"},{"$f":"J$14-(3*K$14)+(6*K$14)*(COUNT(K$23:K196)/COUNT(WeibullPlotData_AFTER[Cycles to failure]))","v":{"$error":"#DIV/0!"}},""]
[{"$f":"IF(WeibullPlotData_BEFORE[Cycles to failure]<>\"\",COUNT(B$23:B197),\"\")","v":""},{"$f":"IF('Input & Report'!$B176<>\"\",'Input & Report'!$B176,\"\")","v":""},{"$f":"IF(B197=\"\",\"\",RANK(B197,INDIRECT('Weibull Reliability Calculator'!$T$5),1))","v":""},"",{"$error":"#VALUE!"},{"$error":"#VALUE!"},{"$f":"IF(B197=\"\",\"\",G$14-(3*H$14)+(6*H$14)*(COUNT(B$23:B197)/COUNT(WeibullPlotData_BEFORE[Cycles to failure])))","v":""},"",null,{"$f":"IF(WeibullPlotData_AFTER[Cycles to failure]<>\"\",COUNT(K$23:K197),\"\")","v":""},{"$f":"IF('Input & Report'!$C176<>\"\",'Input & Report'!$C176,\"\")","v":""},{"$f":"IF(K197=\"\",\"\",RANK(K197,INDIRECT('Weibull Reliability Calculator'!$T$13),1))","v":""},"",{"$error":"#VALUE!"},{"$error":"#VALUE!"},{"$f":"J$14-(3*K$14)+(6*K$14)*(COUNT(K$23:K197)/COUNT(WeibullPlotData_AFTER[Cycles to failure]))","v":{"$error":"#DIV/0!"}},""]
[{"$f":"IF(WeibullPlotData_BEFORE[Cycles to failure]<>\"\",COUNT(B$23:B198),\"\")","v":""},{"$f":"IF('Input & Report'!$B177<>\"\",'Input & Report'!$B177,\"\")","v":""},{"$f":"IF(B198=\"\",\"\",RANK(B198,INDIRECT('Weibull Reliability Calculator'!$T$5),1))","v":""},"",{"$error":"#VALUE!"},{"$error":"#VALUE!"},{"$f":"IF(B198=\"\",\"\",G$14-(3*H$14)+(6*H$14)*(COUNT(B$23:B198)/COUNT(WeibullPlotData_BEFORE[Cycles to failure])))","v":""},"",null,{"$f":"IF(WeibullPlotData_AFTER[Cycles to failure]<>\"\",COUNT(K$23:K198),\"\")","v":""},{"$f":"IF('Input & Report'!$C177<>\"\",'Input & Report'!$C177,\"\")","v":""},{"$f":"IF(K198=\"\",\"\",RANK(K198,INDIRECT('Weibull Reliability Calculator'!$T$13),1))","v":""},"",{"$error":"#VALUE!"},{"$error":"#VALUE!"},{"$f":"J$14-(3*K$14)+(6*K$14)*(COUNT(K$23:K198)/COUNT(WeibullPlotData_AFTER[Cycles to failure]))","v":{"$error":"#DIV/0!"}},""]
[{"$f":"IF(WeibullPlotData_BEFORE[Cycles to failure]<>\"\",COUNT(B$23:B199),\"\")","v":""},{"$f":"IF('Input & Report'!$B178<>\"\",'Input & Report'!$B178,\"\")","v":""},{"$f":"IF(B199=\"\",\"\",RANK(B199,INDIRECT('Weibull Reliability Calculator'!$T$5),1))","v":""},"",{"$error":"#VALUE!"},{"$error":"#VALUE!"},{"$f":"IF(B199=\"\",\"\",G$14-(3*H$14)+(6*H$14)*(COUNT(B$23:B199)/COUNT(WeibullPlotData_BEFORE[Cycles to failure])))","v":""},"",null,{"$f":"IF(WeibullPlotData_AFTER[Cycles to failure]<>\"\",COUNT(K$23:K199),\"\")","v":""},{"$f":"IF('Input & Report'!$C178<>\"\",'Input & Report'!$C178,\"\")","v":""},{"$f":"IF(K199=\"\",\"\",RANK(K199,INDIRECT('Weibull Reliability Calculator'!$T$13),1))","v":""},"",{"$error":"#VALUE!"},{"$error":"#VALUE!"},{"$f":"J$14-(3*K$14)+(6*K$14)*(COUNT(K$23:K199)/COUNT(WeibullPlotData_AFTER[Cycles to failure]))","v":{"$error":"#DIV/0!"}},""]
[{"$f":"IF(WeibullPlotData_BEFORE[Cycles to failure]<>\"\",COUNT(B$23:B200),\"\")","v":""},{"$f":"IF('Input & Report'!$B179<>\"\",'Input & Report'!$B179,\"\")","v":""},{"$f":"IF(B200=\"\",\"\",RANK(B200,INDIRECT('Weibull Reliability Calculator'!$T$5),1))","v":""},"",{"$error":"#VALUE!"},{"$error":"#VALUE!"},{"$f":"IF(B200=\"\",\"\",G$14-(3*H$14)+(6*H$14)*(COUNT(B$23:B200)/COUNT(WeibullPlotData_BEFORE[Cycles to failure])))","v":""},"",null,{"$f":"IF(WeibullPlotData_AFTER[Cycles to failure]<>\"\",COUNT(K$23:K200),\"\")","v":""},{"$f":"IF('Input & Report'!$C179<>\"\",'Input & Report'!$C179,\"\")","v":""},{"$f":"IF(K200=\"\",\"\",RANK(K200,INDIRECT('Weibull Reliability Calculator'!$T$13),1))","v":""},"",{"$error":"#VALUE!"},{"$error":"#VALUE!"},{"$f":"J$14-(3*K$14)+(6*K$14)*(COUNT(K$23:K200)/COUNT(WeibullPlotData_AFTER[Cycles to failure]))","v":{"$error":"#DIV/0!"}},""]
[{"$f":"IF(WeibullPlotData_BEFORE[Cycles to failure]<>\"\",COUNT(B$23:B201),\"\")","v":""},{"$f":"IF('Input & Report'!$B180<>\"\",'Input & Report'!$B180,\"\")","v":""},{"$f":"IF(B201=\"\",\"\",RANK(B201,INDIRECT('Weibull Reliability Calculator'!$T$5),1))","v":""},"",{"$error":"#VALUE!"},{"$error":"#VALUE!"},{"$f":"IF(B201=\"\",\"\",G$14-(3*H$14)+(6*H$14)*(COUNT(B$23:B201)/COUNT(WeibullPlotData_BEFORE[Cycles to failure])))","v":""},"",null,{"$f":"IF(WeibullPlotData_AFTER[Cycles to failure]<>\"\",COUNT(K$23:K201),\"\")","v":""},{"$f":"IF('Input & Report'!$C180<>\"\",'Input & Report'!$C180,\"\")","v":""},{"$f":"IF(K201=\"\",\"\",RANK(K201,INDIRECT('Weibull Reliability Calculator'!$T$13),1))","v":""},"",{"$error":"#VALUE!"},{"$error":"#VALUE!"},{"$f":"J$14-(3*K$14)+(6*K$14)*(COUNT(K$23:K201)/COUNT(WeibullPlotData_AFTER[Cycles to failure]))","v":{"$error":"#DIV/0!"}},""]
[{"$f":"IF(WeibullPlotData_BEFORE[Cycles to failure]<>\"\",COUNT(B$23:B202),\"\")","v":""},{"$f":"IF('Input & Report'!$B181<>\"\",'Input & Report'!$B181,\"\")","v":""},{"$f":"IF(B202=\"\",\"\",RANK(B202,INDIRECT('Weibull Reliability Calculator'!$T$5),1))","v":""},"",{"$error":"#VALUE!"},{"$error":"#VALUE!"},{"$f":"IF(B202=\"\",\"\",G$14-(3*H$14)+(6*H$14)*(COUNT(B$23:B202)/COUNT(WeibullPlotData_BEFORE[Cycles to failure])))","v":""},"",null,{"$f":"IF(WeibullPlotData_AFTER[Cycles to failure]<>\"\",COUNT(K$23:K202),\"\")","v":""},{"$f":"IF('Input & Report'!$C181<>\"\",'Input & Report'!$C181,\"\")","v":""},{"$f":"IF(K202=\"\",\"\",RANK(K202,INDIRECT('Weibull Reliability Calculator'!$T$13),1))","v":""},"",{"$error":"#VALUE!"},{"$error":"#VALUE!"},{"$f":"J$14-(3*K$14)+(6*K$14)*(COUNT(K$23:K202)/COUNT(WeibullPlotData_AFTER[Cycles to failure]))","v":{"$error":"#DIV/0!"}},""]
[{"$f":"IF(WeibullPlotData_BEFORE[Cycles to failure]<>\"\",COUNT(B$23:B203),\"\")","v":""},{"$f":"IF('Input & Report'!$B182<>\"\",'Input & Report'!$B182,\"\")","v":""},{"$f":"IF(B203=\"\",\"\",RANK(B203,INDIRECT('Weibull Reliability Calculator'!$T$5),1))","v":""},"",{"$error":"#VALUE!"},{"$error":"#VALUE!"},{"$f":"IF(B203=\"\",\"\",G$14-(3*H$14)+(6*H$14)*(COUNT(B$23:B203)/COUNT(WeibullPlotData_BEFORE[Cycles to failure])))","v":""},"",null,{"$f":"IF(WeibullPlotData_AFTER[Cycles to failure]<>\"\",COUNT(K$23:K203),\"\")","v":""},{"$f":"IF('Input & Report'!$C182<>\"\",'Input & Report'!$C182,\"\")","v":""},{"$f":"IF(K203=\"\",\"\",RANK(K203,INDIRECT('Weibull Reliability Calculator'!$T$13),1))","v":""},"",{"$error":"#VALUE!"},{"$error":"#VALUE!"},{"$f":"J$14-(3*K$14)+(6*K$14)*(COUNT(K$23:K203)/COUNT(WeibullPlotData_AFTER[Cycles to failure]))","v":{"$error":"#DIV/0!"}},""]
[{"$f":"IF(WeibullPlotData_BEFORE[Cycles to failure]<>\"\",COUNT(B$23:B204),\"\")","v":""},{"$f":"IF('Input & Report'!$B183<>\"\",'Input & Report'!$B183,\"\")","v":""},{"$f":"IF(B204=\"\",\"\",RANK(B204,INDIRECT('Weibull Reliability Calculator'!$T$5),1))","v":""},"",{"$error":"#VALUE!"},{"$error":"#VALUE!"},{"$f":"IF(B204=\"\",\"\",G$14-(3*H$14)+(6*H$14)*(COUNT(B$23:B204)/COUNT(WeibullPlotData_BEFORE[Cycles to failure])))","v":""},"",null,{"$f":"IF(WeibullPlotData_AFTER[Cycles to failure]<>\"\",COUNT(K$23:K204),\"\")","v":""},{"$f":"IF('Input & Report'!$C183<>\"\",'Input & Report'!$C183,\"\")","v":""},{"$f":"IF(K204=\"\",\"\",RANK(K204,INDIRECT('Weibull Reliability Calculator'!$T$13),1))","v":""},"",{"$error":"#VALUE!"},{"$error":"#VALUE!"},{"$f":"J$14-(3*K$14)+(6*K$14)*(COUNT(K$23:K204)/COUNT(WeibullPlotData_AFTER[Cycles to failure]))","v":{"$error":"#DIV/0!"}},""]
[{"$f":"IF(WeibullPlotData_BEFORE[Cycles to failure]<>\"\",COUNT(B$23:B205),\"\")","v":""},{"$f":"IF('Input & Report'!$B184<>\"\",'Input & Report'!$B184,\"\")","v":""},{"$f":"IF(B205=\"\",\"\",RANK(B205,INDIRECT('Weibull Reliability Calculator'!$T$5),1))","v":""},"",{"$error":"#VALUE!"},{"$error":"#VALUE!"},{"$f":"IF(B205=\"\",\"\",G$14-(3*H$14)+(6*H$14)*(COUNT(B$23:B205)/COUNT(WeibullPlotData_BEFORE[Cycles to failure])))","v":""},"",null,{"$f":"IF(WeibullPlotData_AFTER[Cycles to failure]<>\"\",COUNT(K$23:K205),\"\")","v":""},{"$f":"IF('Input & Report'!$C184<>\"\",'Input & Report'!$C184,\"\")","v":""},{"$f":"IF(K205=\"\",\"\",RANK(K205,INDIRECT('Weibull Reliability Calculator'!$T$13),1))","v":""},"",{"$error":"#VALUE!"},{"$error":"#VALUE!"},{"$f":"J$14-(3*K$14)+(6*K$14)*(COUNT(K$23:K205)/COUNT(WeibullPlotData_AFTER[Cycles to failure]))","v":{"$error":"#DIV/0!"}},""]
[{"$f":"IF(WeibullPlotData_BEFORE[Cycles to failure]<>\"\",COUNT(B$23:B206),\"\")","v":""},{"$f":"IF('Input & Report'!$B185<>\"\",'Input & Report'!$B185,\"\")","v":""},{"$f":"IF(B206=\"\",\"\",RANK(B206,INDIRECT('Weibull Reliability Calculator'!$T$5),1))","v":""},"",{"$error":"#VALUE!"},{"$error":"#VALUE!"},{"$f":"IF(B206=\"\",\"\",G$14-(3*H$14)+(6*H$14)*(COUNT(B$23:B206)/COUNT(WeibullPlotData_BEFORE[Cycles to failure])))","v":""},"",null,{"$f":"IF(WeibullPlotData_AFTER[Cycles to failure]<>\"\",COUNT(K$23:K206),\"\")","v":""},{"$f":"IF('Input & Report'!$C185<>\"\",'Input & Report'!$C185,\"\")","v":""},{"$f":"IF(K206=\"\",\"\",RANK(K206,INDIRECT('Weibull Reliability Calculator'!$T$13),1))","v":""},"",{"$error":"#VALUE!"},{"$error":"#VALUE!"},{"$f":"J$14-(3*K$14)+(6*K$14)*(COUNT(K$23:K206)/COUNT(WeibullPlotData_AFTER[Cycles to failure]))","v":{"$error":"#DIV/0!"}},""]
[{"$f":"IF(WeibullPlotData_BEFORE[Cycles to failure]<>\"\",COUNT(B$23:B207),\"\")","v":""},{"$f":"IF('Input & Report'!$B186<>\"\",'Input & Report'!$B186,\"\")","v":""},{"$f":"IF(B207=\"\",\"\",RANK(B207,INDIRECT('Weibull Reliability Calculator'!$T$5),1))","v":""},"",{"$error":"#VALUE!"},{"$error":"#VALUE!"},{"$f":"IF(B207=\"\",\"\",G$14-(3*H$14)+(6*H$14)*(COUNT(B$23:B207)/COUNT(WeibullPlotData_BEFORE[Cycles to failure])))","v":""},"",null,{"$f":"IF(WeibullPlotData_AFTER[Cycles to failure]<>\"\",COUNT(K$23:K207),\"\")","v":""},{"$f":"IF('Input & Report'!$C186<>\"\",'Input & Report'!$C186,\"\")","v":""},{"$f":"IF(K207=\"\",\"\",RANK(K207,INDIRECT('Weibull Reliability Calculator'!$T$13),1))","v":""},"",{"$error":"#VALUE!"},{"$error":"#VALUE!"},{"$f":"J$14-(3*K$14)+(6*K$14)*(COUNT(K$23:K207)/COUNT(WeibullPlotData_AFTER[Cycles to failure]))","v":{"$error":"#DIV/0!"}},""]
[{"$f":"IF(WeibullPlotData_BEFORE[Cycles to failure]<>\"\",COUNT(B$23:B208),\"\")","v":""},{"$f":"IF('Input & Report'!$B187<>\"\",'Input & Report'!$B187,\"\")","v":""},{"$f":"IF(B208=\"\",\"\",RANK(B208,INDIRECT('Weibull Reliability Calculator'!$T$5),1))","v":""},"",{"$error":"#VALUE!"},{"$error":"#VALUE!"},{"$f":"IF(B208=\"\",\"\",G$14-(3*H$14)+(6*H$14)*(COUNT(B$23:B208)/COUNT(WeibullPlotData_BEFORE[Cycles to failure])))","v":""},"",null,{"$f":"IF(WeibullPlotData_AFTER[Cycles to failure]<>\"\",COUNT(K$23:K208),\"\")","v":""},{"$f":"IF('Input & Report'!$C187<>\"\",'Input & Report'!$C187,\"\")","v":""},{"$f":"IF(K208=\"\",\"\",RANK(K208,INDIRECT('Weibull Reliability Calculator'!$T$13),1))","v":""},"",{"$error":"#VALUE!"},{"$error":"#VALUE!"},{"$f":"J$14-(3*K$14)+(6*K$14)*(COUNT(K$23:K208)/COUNT(WeibullPlotData_AFTER[Cycles to failure]))","v":{"$error":"#DIV/0!"}},""]
[{"$f":"IF(WeibullPlotData_BEFORE[Cycles to failure]<>\"\",COUNT(B$23:B209),\"\")","v":""},{"$f":"IF('Input & Report'!$B188<>\"\",'Input & Report'!$B188,\"\")","v":""},{"$f":"IF(B209=\"\",\"\",RANK(B209,INDIRECT('Weibull Reliability Calculator'!$T$5),1))","v":""},"",{"$error":"#VALUE!"},{"$error":"#VALUE!"},{"$f":"IF(B209=\"\",\"\",G$14-(3*H$14)+(6*H$14)*(COUNT(B$23:B209)/COUNT(WeibullPlotData_BEFORE[Cycles to failure])))","v":""},"",null,{"$f":"IF(WeibullPlotData_AFTER[Cycles to failure]<>\"\",COUNT(K$23:K209),\"\")","v":""},{"$f":"IF('Input & Report'!$C188<>\"\",'Input & Report'!$C188,\"\")","v":""},{"$f":"IF(K209=\"\",\"\",RANK(K209,INDIRECT('Weibull Reliability Calculator'!$T$13),1))","v":""},"",{"$error":"#VALUE!"},{"$error":"#VALUE!"},{"$f":"J$14-(3*K$14)+(6*K$14)*(COUNT(K$23:K209)/COUNT(WeibullPlotData_AFTER[Cycles to failure]))","v":{"$error":"#DIV/0!"}},""]
[{"$f":"IF(WeibullPlotData_BEFORE[Cycles to failure]<>\"\",COUNT(B$23:B210),\"\")","v":""},{"$f":"IF('Input & Report'!$B189<>\"\",'Input & Report'!$B189,\"\")","v":""},{"$f":"IF(B210=\"\",\"\",RANK(B210,INDIRECT('Weibull Reliability Calculator'!$T$5),1))","v":""},"",{"$error":"#VALUE!"},{"$error":"#VALUE!"},{"$f":"IF(B210=\"\",\"\",G$14-(3*H$14)+(6*H$14)*(COUNT(B$23:B210)/COUNT(WeibullPlotData_BEFORE[Cycles to failure])))","v":""},"",null,{"$f":"IF(WeibullPlotData_AFTER[Cycles to failure]<>\"\",COUNT(K$23:K210),\"\")","v":""},{"$f":"IF('Input & Report'!$C189<>\"\",'Input & Report'!$C189,\"\")","v":""},{"$f":"IF(K210=\"\",\"\",RANK(K210,INDIRECT('Weibull Reliability Calculator'!$T$13),1))","v":""},"",{"$error":"#VALUE!"},{"$error":"#VALUE!"},{"$f":"J$14-(3*K$14)+(6*K$14)*(COUNT(K$23:K210)/COUNT(WeibullPlotData_AFTER[Cycles to failure]))","v":{"$error":"#DIV/0!"}},""]
[{"$f":"IF(WeibullPlotData_BEFORE[Cycles to failure]<>\"\",COUNT(B$23:B211),\"\")","v":""},{"$f":"IF('Input & Report'!$B190<>\"\",'Input & Report'!$B190,\"\")","v":""},{"$f":"IF(B211=\"\",\"\",RANK(B211,INDIRECT('Weibull Reliability Calculator'!$T$5),1))","v":""},"",{"$error":"#VALUE!"},{"$error":"#VALUE!"},{"$f":"IF(B211=\"\",\"\",G$14-(3*H$14)+(6*H$14)*(COUNT(B$23:B211)/COUNT(WeibullPlotData_BEFORE[Cycles to failure])))","v":""},"",null,{"$f":"IF(WeibullPlotData_AFTER[Cycles to failure]<>\"\",COUNT(K$23:K211),\"\")","v":""},{"$f":"IF('Input & Report'!$C190<>\"\",'Input & Report'!$C190,\"\")","v":""},{"$f":"IF(K211=\"\",\"\",RANK(K211,INDIRECT('Weibull Reliability Calculator'!$T$13),1))","v":""},"",{"$error":"#VALUE!"},{"$error":"#VALUE!"},{"$f":"J$14-(3*K$14)+(6*K$14)*(COUNT(K$23:K211)/COUNT(WeibullPlotData_AFTER[Cycles to failure]))","v":{"$error":"#DIV/0!"}},""]
[{"$f":"IF(WeibullPlotData_BEFORE[Cycles to failure]<>\"\",COUNT(B$23:B212),\"\")","v":""},{"$f":"IF('Input & Report'!$B191<>\"\",'Input & Report'!$B191,\"\")","v":""},{"$f":"IF(B212=\"\",\"\",RANK(B212,INDIRECT('Weibull Reliability Calculator'!$T$5),1))","v":""},"",{"$error":"#VALUE!"},{"$error":"#VALUE!"},{"$f":"IF(B212=\"\",\"\",G$14-(3*H$14)+(6*H$14)*(COUNT(B$23:B212)/COUNT(WeibullPlotData_BEFORE[Cycles to failure])))","v":""},"",null,{"$f":"IF(WeibullPlotData_AFTER[Cycles to failure]<>\"\",COUNT(K$23:K212),\"\")","v":""},{"$f":"IF('Input & Report'!$C191<>\"\",'Input & Report'!$C191,\"\")","v":""},{"$f":"IF(K212=\"\",\"\",RANK(K212,INDIRECT('Weibull Reliability Calculator'!$T$13),1))","v":""},"",{"$error":"#VALUE!"},{"$error":"#VALUE!"},{"$f":"J$14-(3*K$14)+(6*K$14)*(COUNT(K$23:K212)/COUNT(WeibullPlotData_AFTER[Cycles to failure]))","v":{"$error":"#DIV/0!"}},""]
[{"$f":"IF(WeibullPlotData_BEFORE[Cycles to failure]<>\"\",COUNT(B$23:B213),\"\")","v":""},{"$f":"IF('Input & Report'!$B192<>\"\",'Input & Report'!$B192,\"\")","v":""},{"$f":"IF(B213=\"\",\"\",RANK(B213,INDIRECT('Weibull Reliability Calculator'!$T$5),1))","v":""},"",{"$error":"#VALUE!"},{"$error":"#VALUE!"},{"$f":"IF(B213=\"\",\"\",G$14-(3*H$14)+(6*H$14)*(COUNT(B$23:B213)/COUNT(WeibullPlotData_BEFORE[Cycles to failure])))","v":""},"",null,{"$f":"IF(WeibullPlotData_AFTER[Cycles to failure]<>\"\",COUNT(K$23:K213),\"\")","v":""},{"$f":"IF('Input & Report'!$C192<>\"\",'Input & Report'!$C192,\"\")","v":""},{"$f":"IF(K213=\"\",\"\",RANK(K213,INDIRECT('Weibull Reliability Calculator'!$T$13),1))","v":""},"",{"$error":"#VALUE!"},{"$error":"#VALUE!"},{"$f":"J$14-(3*K$14)+(6*K$14)*(COUNT(K$23:K213)/COUNT(WeibullPlotData_AFTER[Cycles to failure]))","v":{"$error":"#DIV/0!"}},""]
[{"$f":"IF(WeibullPlotData_BEFORE[Cycles to failure]<>\"\",COUNT(B$23:B214),\"\")","v":""},{"$f":"IF('Input & Report'!$B193<>\"\",'Input & Report'!$B193,\"\")","v":""},{"$f":"IF(B214=\"\",\"\",RANK(B214,INDIRECT('Weibull Reliability Calculator'!$T$5),1))","v":""},"",{"$error":"#VALUE!"},{"$error":"#VALUE!"},{"$f":"IF(B214=\"\",\"\",G$14-(3*H$14)+(6*H$14)*(COUNT(B$23:B214)/COUNT(WeibullPlotData_BEFORE[Cycles to failure])))","v":""},"",null,{"$f":"IF(WeibullPlotData_AFTER[Cycles to failure]<>\"\",COUNT(K$23:K214),\"\")","v":""},{"$f":"IF('Input & Report'!$C193<>\"\",'Input & Report'!$C193,\"\")","v":""},{"$f":"IF(K214=\"\",\"\",RANK(K214,INDIRECT('Weibull Reliability Calculator'!$T$13),1))","v":""},"",{"$error":"#VALUE!"},{"$error":"#VALUE!"},{"$f":"J$14-(3*K$14)+(6*K$14)*(COUNT(K$23:K214)/COUNT(WeibullPlotData_AFTER[Cycles to failure]))","v":{"$error":"#DIV/0!"}},""]
[{"$f":"IF(WeibullPlotData_BEFORE[Cycles to failure]<>\"\",COUNT(B$23:B215),\"\")","v":""},{"$f":"IF('Input & Report'!$B194<>\"\",'Input & Report'!$B194,\"\")","v":""},{"$f":"IF(B215=\"\",\"\",RANK(B215,INDIRECT('Weibull Reliability Calculator'!$T$5),1))","v":""},{"$f":"IF(B215=\"\",\"\",((C215-0.3)/($T$7+0.4)))","v":""},{"$error":"#VALUE!"},{"$error":"#VALUE!"},{"$f":"IF(B215=\"\",\"\",G$14-(3*H$14)+(6*H$14)*(COUNT(B$23:B215)/COUNT(WeibullPlotData_BEFORE[Cycles to failure])))","v":""},"",null,{"$f":"IF(WeibullPlotData_AFTER[Cycles to failure]<>\"\",COUNT(K$23:K215),\"\")","v":""},{"$f":"IF('Input & Report'!$C194<>\"\",'Input & Report'!$C194,\"\")","v":""},{"$f":"IF(K215=\"\",\"\",RANK(K215,INDIRECT('Weibull Reliability Calculator'!$T$13),1))","v":""},{"$f":"IF(K215=\"\",\"\",((L215-0.3)/($T$15+0.4)))","v":""},{"$error":"#VALUE!"},{"$error":"#VALUE!"},{"$f":"J$14-(3*K$14)+(6*K$14)*(COUNT(K$23:K215)/COUNT(WeibullPlotData_AFTER[Cycles to failure]))","v":{"$error":"#DIV/0!"}},{"$f":"IF(K215=\"\",\"\",NORMDIST(P215,J$14,K$14,FALSE))","v":""}]
[{"$f":"IF(WeibullPlotData_BEFORE[Cycles to failure]<>\"\",COUNT(B$23:B216),\"\")","v":""},{"$f":"IF('Input & Report'!$B195<>\"\",'Input & Report'!$B195,\"\")","v":""},{"$f":"IF(B216=\"\",\"\",RANK(B216,INDIRECT('Weibull Reliability Calculator'!$T$5),1))","v":""},"",{"$f":"LN(LN((1/(1-D216))))","v":{"$error":"#VALUE!"}},{"$f":"LN(B216)","v":{"$error":"#VALUE!"}},{"$f":"IF(B216=\"\",\"\",G$14-(3*H$14)+(6*H$14)*(COUNT(B$23:B216)/COUNT(WeibullPlotData_BEFORE[Cycles to failure])))","v":""},{"$f":"IF(B216=\"\",\"\",NORMDIST(G216,G$14,H$14,FALSE))","v":""},null,{"$f":"IF(WeibullPlotData_AFTER[Cycles to failure]<>\"\",COUNT(K$23:K216),\"\")","v":""},{"$f":"IF('Input & Report'!$C195<>\"\",'Input & Report'!$C195,\"\")","v":""},{"$f":"IF(K216=\"\",\"\",RANK(K216,INDIRECT('Weibull Reliability Calculator'!$T$13),1))","v":""},"",{"$f":"LN(LN((1/(1-M216))))","v":{"$error":"#VALUE!"}},{"$f":"LN(K216)","v":{"$error":"#VALUE!"}},{"$f":"J$14-(3*K$14)+(6*K$14)*(COUNT(K$23:K216)/COUNT(WeibullPlotData_AFTER[Cycles to failure]))","v":{"$error":"#DIV/0!"}},""]
[{"$f":"IF(WeibullPlotData_BEFORE[Cycles to failure]<>\"\",COUNT(B$23:B217),\"\")","v":""},{"$f":"IF('Input & Report'!$B196<>\"\",'Input & Report'!$B196,\"\")","v":""},{"$f":"IF(B217=\"\",\"\",RANK(B217,INDIRECT('Weibull Reliability Calculator'!$T$5),1))","v":""},"",{"$error":"#VALUE!"},{"$error":"#VALUE!"},{"$f":"IF(B217=\"\",\"\",G$14-(3*H$14)+(6*H$14)*(COUNT(B$23:B217)/COUNT(WeibullPlotData_BEFORE[Cycles to failure])))","v":""},"",null,{"$f":"IF(WeibullPlotData_AFTER[Cycles to failure]<>\"\",COUNT(K$23:K217),\"\")","v":""},{"$f":"IF('Input & Report'!$C196<>\"\",'Input & Report'!$C196,\"\")","v":""},{"$f":"IF(K217=\"\",\"\",RANK(K217,INDIRECT('Weibull Reliability Calculator'!$T$13),1))","v":""},"",{"$error":"#VALUE!"},{"$error":"#VALUE!"},{"$f":"J$14-(3*K$14)+(6*K$14)*(COUNT(K$23:K217)/COUNT(WeibullPlotData_AFTER[Cycles to failure]))","v":{"$error":"#DIV/0!"}},""]
[{"$f":"IF(WeibullPlotData_BEFORE[Cycles to failure]<>\"\",COUNT(B$23:B218),\"\")","v":""},{"$f":"IF('Input & Report'!$B197<>\"\",'Input & Report'!$B197,\"\")","v":""},{"$f":"IF(B218=\"\",\"\",RANK(B218,INDIRECT('Weibull Reliability Calculator'!$T$5),1))","v":""},"",{"$error":"#VALUE!"},{"$error":"#VALUE!"},{"$f":"IF(B218=\"\",\"\",G$14-(3*H$14)+(6*H$14)*(COUNT(B$23:B218)/COUNT(WeibullPlotData_BEFORE[Cycles to failure])))","v":""},"",null,{"$f":"IF(WeibullPlotData_AFTER[Cycles to failure]<>\"\",COUNT(K$23:K218),\"\")","v":""},{"$f":"IF('Input & Report'!$C197<>\"\",'Input & Report'!$C197,\"\")","v":""},{"$f":"IF(K218=\"\",\"\",RANK(K218,INDIRECT('Weibull Reliability Calculator'!$T$13),1))","v":""},"",{"$error":"#VALUE!"},{"$error":"#VALUE!"},{"$f":"J$14-(3*K$14)+(6*K$14)*(COUNT(K$23:K218)/COUNT(WeibullPlotData_AFTER[Cycles to failure]))","v":{"$error":"#DIV/0!"}},""]
[{"$f":"IF(WeibullPlotData_BEFORE[Cycles to failure]<>\"\",COUNT(B$23:B219),\"\")","v":""},{"$f":"IF('Input & Report'!$B198<>\"\",'Input & Report'!$B198,\"\")","v":""},{"$f":"IF(B219=\"\",\"\",RANK(B219,INDIRECT('Weibull Reliability Calculator'!$T$5),1))","v":""},"",{"$error":"#VALUE!"},{"$error":"#VALUE!"},{"$f":"IF(B219=\"\",\"\",G$14-(3*H$14)+(6*H$14)*(COUNT(B$23:B219)/COUNT(WeibullPlotData_BEFORE[Cycles to failure])))","v":""},"",null,{"$f":"IF(WeibullPlotData_AFTER[Cycles to failure]<>\"\",COUNT(K$23:K219),\"\")","v":""},{"$f":"IF('Input & Report'!$C198<>\"\",'Input & Report'!$C198,\"\")","v":""},{"$f":"IF(K219=\"\",\"\",RANK(K219,INDIRECT('Weibull Reliability Calculator'!$T$13),1))","v":""},"",{"$error":"#VALUE!"},{"$error":"#VALUE!"},{"$f":"J$14-(3*K$14)+(6*K$14)*(COUNT(K$23:K219)/COUNT(WeibullPlotData_AFTER[Cycles to failure]))","v":{"$error":"#DIV/0!"}},""]
[{"$f":"IF(WeibullPlotData_BEFORE[Cycles to failure]<>\"\",COUNT(B$23:B220),\"\")","v":""},{"$f":"IF('Input & Report'!$B199<>\"\",'Input & Report'!$B199,\"\")","v":""},{"$f":"IF(B220=\"\",\"\",RANK(B220,INDIRECT('Weibull Reliability Calculator'!$T$5),1))","v":""},"",{"$error":"#VALUE!"},{"$error":"#VALUE!"},{"$f":"IF(B220=\"\",\"\",G$14-(3*H$14)+(6*H$14)*(COUNT(B$23:B220)/COUNT(WeibullPlotData_BEFORE[Cycles to failure])))","v":""},"",null,{"$f":"IF(WeibullPlotData_AFTER[Cycles to failure]<>\"\",COUNT(K$23:K220),\"\")","v":""},{"$f":"IF('Input & Report'!$C199<>\"\",'Input & Report'!$C199,\"\")","v":""},{"$f":"IF(K220=\"\",\"\",RANK(K220,INDIRECT('Weibull Reliability Calculator'!$T$13),1))","v":""},"",{"$error":"#VALUE!"},{"$error":"#VALUE!"},{"$f":"J$14-(3*K$14)+(6*K$14)*(COUNT(K$23:K220)/COUNT(WeibullPlotData_AFTER[Cycles to failure]))","v":{"$error":"#DIV/0!"}},""]
[{"$f":"IF(WeibullPlotData_BEFORE[Cycles to failure]<>\"\",COUNT(B$23:B221),\"\")","v":""},{"$f":"IF('Input & Report'!$B200<>\"\",'Input & Report'!$B200,\"\")","v":""},{"$f":"IF(B221=\"\",\"\",RANK(B221,INDIRECT('Weibull Reliability Calculator'!$T$5),1))","v":""},"",{"$error":"#VALUE!"},{"$error":"#VALUE!"},{"$f":"IF(B221=\"\",\"\",G$14-(3*H$14)+(6*H$14)*(COUNT(B$23:B221)/COUNT(WeibullPlotData_BEFORE[Cycles to failure])))","v":""},"",null,{"$f":"IF(WeibullPlotData_AFTER[Cycles to failure]<>\"\",COUNT(K$23:K221),\"\")","v":""},{"$f":"IF('Input & Report'!$C200<>\"\",'Input & Report'!$C200,\"\")","v":""},{"$f":"IF(K221=\"\",\"\",RANK(K221,INDIRECT('Weibull Reliability Calculator'!$T$13),1))","v":""},"",{"$error":"#VALUE!"},{"$error":"#VALUE!"},{"$f":"J$14-(3*K$14)+(6*K$14)*(COUNT(K$23:K221)/COUNT(WeibullPlotData_AFTER[Cycles to failure]))","v":{"$error":"#DIV/0!"}},""]
[{"$f":"IF(WeibullPlotData_BEFORE[Cycles to failure]<>\"\",COUNT(B$23:B222),\"\")","v":""},{"$f":"IF('Input & Report'!$B201<>\"\",'Input & Report'!$B201,\"\")","v":""},{"$f":"IF(B222=\"\",\"\",RANK(B222,INDIRECT('Weibull Reliability Calculator'!$T$5),1))","v":""},"",{"$error":"#VALUE!"},{"$error":"#VALUE!"},{"$f":"IF(B222=\"\",\"\",G$14-(3*H$14)+(6*H$14)*(COUNT(B$23:B222)/COUNT(WeibullPlotData_BEFORE[Cycles to failure])))","v":""},"",null,{"$f":"IF(WeibullPlotData_AFTER[Cycles to failure]<>\"\",COUNT(K$23:K222),\"\")","v":""},{"$f":"IF('Input & Report'!$C201<>\"\",'Input & Report'!$C201,\"\")","v":""},{"$f":"IF(K222=\"\",\"\",RANK(K222,INDIRECT('Weibull Reliability Calculator'!$T$13),1))","v":""},"",{"$error":"#VALUE!"},{"$error":"#VALUE!"},{"$f":"J$14-(3*K$14)+(6*K$14)*(COUNT(K$23:K222)/COUNT(WeibullPlotData_AFTER[Cycles to failure]))","v":{"$error":"#DIV/0!"}},""]